BEGIN:VCALENDAR
VERSION:2.0
PRODID:-//Southern Voice - ECPv6.15.11//NONSGML v1.0//EN
CALSCALE:GREGORIAN
METHOD:PUBLISH
X-WR-CALNAME:Southern Voice
X-ORIGINAL-URL:https://southernvoiceband.com
X-WR-CALDESC:Events for Southern Voice
REFRESH-INTERVAL;VALUE=DURATION:PT1H
X-Robots-Tag:noindex
X-PUBLISHED-TTL:PT1H
BEGIN:VTIMEZONE
TZID:America/New_York
BEGIN:DAYLIGHT
TZOFFSETFROM:-0500
TZOFFSETTO:-0400
TZNAME:EDT
DTSTART:20230312T070000
END:DAYLIGHT
BEGIN:STANDARD
TZOFFSETFROM:-0400
TZOFFSETTO:-0500
TZNAME:EST
DTSTART:20231105T060000
END:STANDARD
BEGIN:DAYLIGHT
TZOFFSETFROM:-0500
TZOFFSETTO:-0400
TZNAME:EDT
DTSTART:20240310T070000
END:DAYLIGHT
BEGIN:STANDARD
TZOFFSETFROM:-0400
TZOFFSETTO:-0500
TZNAME:EST
DTSTART:20241103T060000
END:STANDARD
BEGIN:DAYLIGHT
TZOFFSETFROM:-0500
TZOFFSETTO:-0400
TZNAME:EDT
DTSTART:20250309T070000
END:DAYLIGHT
BEGIN:STANDARD
TZOFFSETFROM:-0400
TZOFFSETTO:-0500
TZNAME:EST
DTSTART:20251102T060000
END:STANDARD
END:VTIMEZONE
BEGIN:VEVENT
DTSTART;TZID=America/New_York:20240313T190000
DTEND;TZID=America/New_York:20240313T220000
DTSTAMP:20260421T064829
CREATED:20240219T145302Z
LAST-MODIFIED:20240219T145302Z
UID:3190-1710356400-1710367200@southernvoiceband.com
SUMMARY:Karaoke hosted by Annmarie @ Senor Panchos Prospect
DESCRIPTION:
URL:https://southernvoiceband.com/event/karaoke-hosted-by-annmarie-senor-panchos-prospect-5/
LOCATION:senor panchos\, 280 Cheshire Rd\, Prospect\, CT
END:VEVENT
BEGIN:VEVENT
DTSTART;TZID=America/New_York:20240309T150000
DTEND;TZID=America/New_York:20240309T180000
DTSTAMP:20260421T064829
CREATED:20230825T200811Z
LAST-MODIFIED:20230825T200811Z
UID:2935-1709996400-1710007200@southernvoiceband.com
SUMMARY:Haystack Mountain Hermitage Club (Members Only)
DESCRIPTION:
URL:https://southernvoiceband.com/event/haystack-mountain-hermitage-club-members-only/
LOCATION:Hermitage Club\, Wilmington\, VT
END:VEVENT
BEGIN:VEVENT
DTSTART;TZID=America/New_York:20240308T180000
DTEND;TZID=America/New_York:20240308T210000
DTSTAMP:20260421T064829
CREATED:20240202T204655Z
LAST-MODIFIED:20240202T204655Z
UID:3167-1709920800-1709931600@southernvoiceband.com
SUMMARY:Butcher Brothers Acoustic Duo (Vinny & Annmarie)
DESCRIPTION:
URL:https://southernvoiceband.com/event/butcher-brothers-acoustic-duo-vinny-annmarie/
LOCATION:Butcher Bros Steakhouse\, 1410 Highland Ave\, Cheshire\, CT\, 06410
END:VEVENT
BEGIN:VEVENT
DTSTART;TZID=America/New_York:20240307T200000
DTEND;TZID=America/New_York:20240307T230000
DTSTAMP:20260421T064829
CREATED:20240202T204910Z
LAST-MODIFIED:20240219T145140Z
UID:3171-1709841600-1709852400@southernvoiceband.com
SUMMARY:Karaoke Hosted by Annmarie @ Butcher Brothers Steakhouse
DESCRIPTION:
URL:https://southernvoiceband.com/event/karaoke-hosted-by-annmarie-butcher-brothers-steakhouse-3/
LOCATION:CT
END:VEVENT
BEGIN:VEVENT
DTSTART;TZID=America/New_York:20240306T190000
DTEND;TZID=America/New_York:20240306T220000
DTSTAMP:20260421T064829
CREATED:20240202T204818Z
LAST-MODIFIED:20240202T204818Z
UID:3169-1709751600-1709762400@southernvoiceband.com
SUMMARY:Karaoke Hosted by Annmarie @ Senor Panchos Prospect
DESCRIPTION:
URL:https://southernvoiceband.com/event/karaoke-hosted-by-annmarie-senor-panchos-prospect-4/
LOCATION:senor panchos\, 280 Cheshire Rd\, Prospect\, CT
END:VEVENT
BEGIN:VEVENT
DTSTART;TZID=America/New_York:20240303T120000
DTEND;TZID=America/New_York:20240303T150000
DTSTAMP:20260421T064829
CREATED:20240219T144223Z
LAST-MODIFIED:20240219T144223Z
UID:3182-1709467200-1709478000@southernvoiceband.com
SUMMARY:Karaoke Brunch @ Butcher Brothers Steakhouse
DESCRIPTION:
URL:https://southernvoiceband.com/event/karaoke-brunch-butcher-brothers-steakhouse/
LOCATION:Butcher Bros Steakhouse\, 1410 Highland Ave\, Cheshire\, CT\, 06410
END:VEVENT
BEGIN:VEVENT
DTSTART;TZID=America/New_York:20240229T200000
DTEND;TZID=America/New_York:20240229T230000
DTSTAMP:20260421T064829
CREATED:20240219T150252Z
LAST-MODIFIED:20240219T150252Z
UID:3198-1709236800-1709247600@southernvoiceband.com
SUMMARY:Karaoke hosted by Annmarie @ Butcher Brothers Steakhouse
DESCRIPTION:
URL:https://southernvoiceband.com/event/karaoke-hosted-by-annmarie-butcher-brothers-steakhouse-6/
LOCATION:Butcher Bros Steakhouse\, 1410 Highland Ave\, Cheshire\, CT\, 06410
END:VEVENT
BEGIN:VEVENT
DTSTART;TZID=America/New_York:20240228T190000
DTEND;TZID=America/New_York:20240228T220000
DTSTAMP:20260421T064829
CREATED:20240202T202415Z
LAST-MODIFIED:20240202T202415Z
UID:3165-1709146800-1709157600@southernvoiceband.com
SUMMARY:Karaoke Hosted by Annmarie @ Senor Panchos Prospect
DESCRIPTION:
URL:https://southernvoiceband.com/event/karaoke-hosted-by-annmarie-senor-panchos-prospect-3/
LOCATION:senor panchos\, 280 Cheshire Rd\, Prospect\, CT
END:VEVENT
BEGIN:VEVENT
DTSTART;TZID=America/New_York:20240225T120000
DTEND;TZID=America/New_York:20240225T150000
DTSTAMP:20260421T064830
CREATED:20240123T144404Z
LAST-MODIFIED:20240123T144404Z
UID:3136-1708862400-1708873200@southernvoiceband.com
SUMMARY:Brunch @ Butcher Brothers Steakhouse (Acoustic Duo)
DESCRIPTION:
URL:https://southernvoiceband.com/event/brunch-butcher-brothers-steakhouse-acoustic-duo-2/
LOCATION:Butcher Bros Steakhouse\, 1410 Highland Ave\, Cheshire\, CT\, 06410
END:VEVENT
BEGIN:VEVENT
DTSTART;TZID=America/New_York:20240224T180000
DTEND;TZID=America/New_York:20240224T210000
DTSTAMP:20260421T064830
CREATED:20231016T145746Z
LAST-MODIFIED:20231016T145746Z
UID:3012-1708797600-1708808400@southernvoiceband.com
SUMMARY:Clocktown Brewery
DESCRIPTION:
URL:https://southernvoiceband.com/event/clocktown-brewery/
LOCATION:Clocktown Brewery\, 135 South Main St\, Thomaston\, 06787\, United States
END:VEVENT
BEGIN:VEVENT
DTSTART;TZID=America/New_York:20240223T180000
DTEND;TZID=America/New_York:20240223T210000
DTSTAMP:20260421T064830
CREATED:20231209T133025Z
LAST-MODIFIED:20231209T133025Z
UID:3109-1708711200-1708722000@southernvoiceband.com
SUMMARY:Butcher Bros Steakhouse Acoustic Duo
DESCRIPTION:
URL:https://southernvoiceband.com/event/butcher-bros-steakhouse-acoustic-duo-2/
LOCATION:Butcher Bros Steakhouse\, 1410 Highland Ave\, Cheshire\, CT\, 06410
END:VEVENT
BEGIN:VEVENT
DTSTART;TZID=America/New_York:20240222T200000
DTEND;TZID=America/New_York:20240222T230000
DTSTAMP:20260421T064830
CREATED:20240202T202234Z
LAST-MODIFIED:20240219T144436Z
UID:3163-1708632000-1708642800@southernvoiceband.com
SUMMARY:Karaoke Hosted by Annmarie @ Butcher Brothers Steakhouse
DESCRIPTION:
URL:https://southernvoiceband.com/event/karaoke-hosted-by-annmarie-butcher-brothers-steakhouse-2/
LOCATION:Butcher Bros Steakhouse\, 1410 Highland Ave\, Cheshire\, CT\, 06410
END:VEVENT
BEGIN:VEVENT
DTSTART;TZID=America/New_York:20240221T190000
DTEND;TZID=America/New_York:20240221T220000
DTSTAMP:20260421T064830
CREATED:20240202T202104Z
LAST-MODIFIED:20240202T202104Z
UID:3161-1708542000-1708552800@southernvoiceband.com
SUMMARY:Karaoke Hosted By Annmarie @ Senor Panchos Prospect
DESCRIPTION:
URL:https://southernvoiceband.com/event/karaoke-hosted-by-annmarie-senor-panchos-prospect-2/
LOCATION:senor panchos\, 280 Cheshire Rd\, Prospect\, CT
END:VEVENT
BEGIN:VEVENT
DTSTART;TZID=America/New_York:20240216T190000
DTEND;TZID=America/New_York:20240216T213000
DTSTAMP:20260421T064830
CREATED:20240123T144718Z
LAST-MODIFIED:20240123T144718Z
UID:3140-1708110000-1708119000@southernvoiceband.com
SUMMARY:Karaoke @ Cheshire Craft Brewing Hosted By Annmarie
DESCRIPTION:
URL:https://southernvoiceband.com/event/karaoke-cheshire-craft-brewing-hosted-by-annmarie/
LOCATION:Cheshire Craft Brewery\, 126 Commerce CT STE 7\, Cheshire\, CT\, 06410
END:VEVENT
BEGIN:VEVENT
DTSTART;TZID=America/New_York:20240215T190000
DTEND;TZID=America/New_York:20240215T220000
DTSTAMP:20260421T064830
CREATED:20240202T201837Z
LAST-MODIFIED:20240202T201938Z
UID:3159-1708023600-1708034400@southernvoiceband.com
SUMMARY:Karaoke Hosted By Annmarie @ Butcher Brothers Steakhouse
DESCRIPTION:
URL:https://southernvoiceband.com/event/karaoke-hosted-by-annmarie-butcher-brothers-steakhouse/
LOCATION:Butcher Bros Steakhouse\, 1410 Highland Ave\, Cheshire\, CT\, 06410
END:VEVENT
BEGIN:VEVENT
DTSTART;TZID=America/New_York:20240214T190000
DTEND;TZID=America/New_York:20240214T220000
DTSTAMP:20260421T064830
CREATED:20240123T143359Z
LAST-MODIFIED:20240123T144012Z
UID:3132-1707937200-1707948000@southernvoiceband.com
SUMMARY:Valentine's Day Karaoke @ Senor Panchos hosted by Annmarie
DESCRIPTION:It’s Valentines Day what better way to spend it with your loved one. Come sing them a song or better yet sing together.
URL:https://southernvoiceband.com/event/karaoke-senor-panchos-hosted-by-annmarie/
LOCATION:CT
END:VEVENT
BEGIN:VEVENT
DTSTART;TZID=America/New_York:20240208T190000
DTEND;TZID=America/New_York:20240208T220000
DTSTAMP:20260421T064830
CREATED:20240123T144531Z
LAST-MODIFIED:20240202T201715Z
UID:3138-1707418800-1707429600@southernvoiceband.com
SUMMARY:Karaoke @ Butcher Brothers Steakhouse
DESCRIPTION:
URL:https://southernvoiceband.com/event/karaoke-butcher-brothers-steakhouse-hosted-by-vinny/
LOCATION:Butcher Bros Steakhouse\, 1410 Highland Ave\, Cheshire\, CT\, 06410
END:VEVENT
BEGIN:VEVENT
DTSTART;TZID=America/New_York:20240207T190000
DTEND;TZID=America/New_York:20240207T220000
DTSTAMP:20260421T064830
CREATED:20240123T142533Z
LAST-MODIFIED:20240202T182409Z
UID:3130-1707332400-1707343200@southernvoiceband.com
SUMMARY:Karaoke at Senor Panchos Hosted by Evan
DESCRIPTION:
URL:https://southernvoiceband.com/event/karaoke-at-senor-panchos-hosted-by-vinny/
LOCATION:senor panchos\, 280 Cheshire Rd\, Prospect\, CT
END:VEVENT
BEGIN:VEVENT
DTSTART;TZID=America/New_York:20240201T190000
DTEND;TZID=America/New_York:20240201T220000
DTSTAMP:20260421T064830
CREATED:20240123T141549Z
LAST-MODIFIED:20240123T141750Z
UID:3123-1706814000-1706824800@southernvoiceband.com
SUMMARY:Karaoke @ Butcher Bros Steakhouse hosted by Annmarie
DESCRIPTION:
URL:https://southernvoiceband.com/event/karaoke-at-butcher-bros-steakhouse-hosted-by-annmarie/
LOCATION:Butcher Bros Steakhouse\, 1410 Highland Ave\, Cheshire\, CT\, 06410
END:VEVENT
BEGIN:VEVENT
DTSTART;TZID=America/New_York:20240131T180000
DTEND;TZID=America/New_York:20240131T210000
DTSTAMP:20260421T064830
CREATED:20231117T143310Z
LAST-MODIFIED:20240123T140749Z
UID:3077-1706724000-1706734800@southernvoiceband.com
SUMMARY:Karaoke @ Senor Panchos Prospect (Hosted by Annmarie)
DESCRIPTION:
URL:https://southernvoiceband.com/event/karaoke-senor-panchos-prospect-hosted-by-southern-voice-7/
LOCATION:senor panchos\, 280 Cheshire Rd\, Prospect\, CT
END:VEVENT
BEGIN:VEVENT
DTSTART;TZID=America/New_York:20240126T180000
DTEND;TZID=America/New_York:20240126T230000
DTSTAMP:20260421T064830
CREATED:20231209T132520Z
LAST-MODIFIED:20240123T135509Z
UID:3107-1706292000-1706310000@southernvoiceband.com
SUMMARY:Southern Voice and JMK Line dancing @ Butcher Brothers
DESCRIPTION:This is a night you don’t want to miss. Do you want to learn how to line dance? If so we have professional line dancing instructors from J.M.K. Line dancing company to teach you. 6-7:30 \nWhy not take those new moves you just learned and put them to work as you dance live to Southern Voice from 8-11 P.M.
URL:https://southernvoiceband.com/event/butcher-bros-steakhouse-acoustic-duo/
LOCATION:Butcher Bros Steakhouse\, 1410 Highland Ave\, Cheshire\, CT\, 06410
END:VEVENT
BEGIN:VEVENT
DTSTART;TZID=America/New_York:20240125T190000
DTEND;TZID=America/New_York:20240125T220000
DTSTAMP:20260421T064830
CREATED:20231117T144402Z
LAST-MODIFIED:20240123T140650Z
UID:3094-1706209200-1706220000@southernvoiceband.com
SUMMARY:Karaoke @ Butcher Bros Steakhouse (Hosted by Annmarie)
DESCRIPTION:Do you love to sing? Why not come hang out and select from over 52\,000 songs.
URL:https://southernvoiceband.com/event/karaoke-butcher-bros-steakhouse-hosted-by-southern-voice-8/
LOCATION:Butcher Bros Steakhouse\, 1410 Highland Ave\, Cheshire\, CT\, 06410
END:VEVENT
BEGIN:VEVENT
DTSTART;TZID=America/New_York:20240124T190000
DTEND;TZID=America/New_York:20240124T220000
DTSTAMP:20260421T064830
CREATED:20240123T140121Z
LAST-MODIFIED:20240123T140121Z
UID:3116-1706122800-1706133600@southernvoiceband.com
SUMMARY:Karaoke Hosted by Annmarie @ Senor Panchos Prospect
DESCRIPTION:
URL:https://southernvoiceband.com/event/karaoke-hosted-by-annmarie-senor-panchos-prospect/
LOCATION:senor panchos\, 280 Cheshire Rd\, Prospect\, CT
END:VEVENT
BEGIN:VEVENT
DTSTART;TZID=America/New_York:20240119T190000
DTEND;TZID=America/New_York:20240119T213000
DTSTAMP:20260421T064830
CREATED:20231209T132351Z
LAST-MODIFIED:20231209T132351Z
UID:3104-1705690800-1705699800@southernvoiceband.com
SUMMARY:Karaoke @ Cheshire Craft Brewing Company Hosted By Annmarie
DESCRIPTION:
URL:https://southernvoiceband.com/event/karaoke-cheshire-craft-brewing-company-hosted-by-annmarie/
LOCATION:Cheshire Craft Brewery\, 126 Commerce CT STE 7\, Cheshire\, CT\, 06410
END:VEVENT
BEGIN:VEVENT
DTSTART;TZID=America/New_York:20240118T190000
DTEND;TZID=America/New_York:20240118T220000
DTSTAMP:20260421T064830
CREATED:20231117T144316Z
LAST-MODIFIED:20231117T144316Z
UID:3092-1705604400-1705615200@southernvoiceband.com
SUMMARY:Karaoke @ Butcher Bros Steakhouse (Hosted by Southern Voice)
DESCRIPTION:
URL:https://southernvoiceband.com/event/karaoke-butcher-bros-steakhouse-hosted-by-southern-voice-7/
LOCATION:Butcher Bros Steakhouse\, 1410 Highland Ave\, Cheshire\, CT\, 06410
END:VEVENT
BEGIN:VEVENT
DTSTART;TZID=America/New_York:20240117T180000
DTEND;TZID=America/New_York:20240117T210000
DTSTAMP:20260421T064830
CREATED:20231117T143922Z
LAST-MODIFIED:20231117T143922Z
UID:3086-1705514400-1705525200@southernvoiceband.com
SUMMARY:Karaoke @ Senor Panchos Prospect (Hosted by Southern Voice)
DESCRIPTION:
URL:https://southernvoiceband.com/event/karaoke-senor-panchos-prospect-hosted-by-southern-voice-11/
LOCATION:senor panchos\, 280 Cheshire Rd\, Prospect\, CT
END:VEVENT
BEGIN:VEVENT
DTSTART;TZID=America/New_York:20240117T140000
DTEND;TZID=America/New_York:20240117T170000
DTSTAMP:20260421T064830
CREATED:20230825T200105Z
LAST-MODIFIED:20230825T200105Z
UID:2929-1705500000-1705510800@southernvoiceband.com
SUMMARY:RJ Gators The Villages FL (Annmarie Solo)
DESCRIPTION:
URL:https://southernvoiceband.com/event/rj-gators-the-villages-fl-annmarie-solo-3/
LOCATION:RJ Gators\, 1015 Lakeshore Dr\, The Villages\, FL
END:VEVENT
BEGIN:VEVENT
DTSTART;TZID=America/New_York:20240112T183000
DTEND;TZID=America/New_York:20240112T213000
DTSTAMP:20260421T064830
CREATED:20231016T145304Z
LAST-MODIFIED:20231016T145304Z
UID:3005-1705084200-1705095000@southernvoiceband.com
SUMMARY:Private Rehearsal Dinner (FL)
DESCRIPTION:
URL:https://southernvoiceband.com/event/private-rehearsal-dinner-fl/
LOCATION:CT
END:VEVENT
BEGIN:VEVENT
DTSTART;TZID=America/New_York:20240111T190000
DTEND;TZID=America/New_York:20240111T220000
DTSTAMP:20260421T064830
CREATED:20231117T144221Z
LAST-MODIFIED:20231117T144221Z
UID:3090-1704999600-1705010400@southernvoiceband.com
SUMMARY:Karaoke @ Butcher Bros Steakhouse (Hosted by Southern Voice)
DESCRIPTION:
URL:https://southernvoiceband.com/event/karaoke-butcher-bros-steakhouse-hosted-by-southern-voice-6/
LOCATION:CT
END:VEVENT
BEGIN:VEVENT
DTSTART;TZID=America/New_York:20240110T180000
DTEND;TZID=America/New_York:20240110T210000
DTSTAMP:20260421T064830
CREATED:20231117T143626Z
LAST-MODIFIED:20231117T143647Z
UID:3080-1704909600-1704920400@southernvoiceband.com
SUMMARY:Karaoke @ Senor Panchos Prospect (Hosted by Southern Voice)
DESCRIPTION:
URL:https://southernvoiceband.com/event/karaoke-senor-panchos-prospect-hosted-by-southern-voice-8/
LOCATION:senor panchos\, 280 Cheshire Rd\, Prospect\, CT
END:VEVENT
END:VCALENDAR