BEGIN:VCALENDAR
VERSION:2.0
PRODID:-//Southern Voice - ECPv6.15.11//NONSGML v1.0//EN
CALSCALE:GREGORIAN
METHOD:PUBLISH
X-WR-CALNAME:Southern Voice
X-ORIGINAL-URL:https://southernvoiceband.com
X-WR-CALDESC:Events for Southern Voice
REFRESH-INTERVAL;VALUE=DURATION:PT1H
X-Robots-Tag:noindex
X-PUBLISHED-TTL:PT1H
BEGIN:VTIMEZONE
TZID:America/New_York
BEGIN:DAYLIGHT
TZOFFSETFROM:-0500
TZOFFSETTO:-0400
TZNAME:EDT
DTSTART:20220313T070000
END:DAYLIGHT
BEGIN:STANDARD
TZOFFSETFROM:-0400
TZOFFSETTO:-0500
TZNAME:EST
DTSTART:20221106T060000
END:STANDARD
BEGIN:DAYLIGHT
TZOFFSETFROM:-0500
TZOFFSETTO:-0400
TZNAME:EDT
DTSTART:20230312T070000
END:DAYLIGHT
BEGIN:STANDARD
TZOFFSETFROM:-0400
TZOFFSETTO:-0500
TZNAME:EST
DTSTART:20231105T060000
END:STANDARD
BEGIN:DAYLIGHT
TZOFFSETFROM:-0500
TZOFFSETTO:-0400
TZNAME:EDT
DTSTART:20240310T070000
END:DAYLIGHT
BEGIN:STANDARD
TZOFFSETFROM:-0400
TZOFFSETTO:-0500
TZNAME:EST
DTSTART:20241103T060000
END:STANDARD
BEGIN:DAYLIGHT
TZOFFSETFROM:-0500
TZOFFSETTO:-0400
TZNAME:EDT
DTSTART:20250309T070000
END:DAYLIGHT
BEGIN:STANDARD
TZOFFSETFROM:-0400
TZOFFSETTO:-0500
TZNAME:EST
DTSTART:20251102T060000
END:STANDARD
END:VTIMEZONE
BEGIN:VEVENT
DTSTART;TZID=America/New_York:20240201T190000
DTEND;TZID=America/New_York:20240201T220000
DTSTAMP:20260421T163421
CREATED:20240123T141549Z
LAST-MODIFIED:20240123T141750Z
UID:3123-1706814000-1706824800@southernvoiceband.com
SUMMARY:Karaoke @ Butcher Bros Steakhouse hosted by Annmarie
DESCRIPTION:
URL:https://southernvoiceband.com/event/karaoke-at-butcher-bros-steakhouse-hosted-by-annmarie/
LOCATION:Butcher Bros Steakhouse\, 1410 Highland Ave\, Cheshire\, CT\, 06410
END:VEVENT
BEGIN:VEVENT
DTSTART;TZID=America/New_York:20240131T180000
DTEND;TZID=America/New_York:20240131T210000
DTSTAMP:20260421T163421
CREATED:20231117T143310Z
LAST-MODIFIED:20240123T140749Z
UID:3077-1706724000-1706734800@southernvoiceband.com
SUMMARY:Karaoke @ Senor Panchos Prospect (Hosted by Annmarie)
DESCRIPTION:
URL:https://southernvoiceband.com/event/karaoke-senor-panchos-prospect-hosted-by-southern-voice-7/
LOCATION:senor panchos\, 280 Cheshire Rd\, Prospect\, CT
END:VEVENT
BEGIN:VEVENT
DTSTART;TZID=America/New_York:20240126T180000
DTEND;TZID=America/New_York:20240126T230000
DTSTAMP:20260421T163421
CREATED:20231209T132520Z
LAST-MODIFIED:20240123T135509Z
UID:3107-1706292000-1706310000@southernvoiceband.com
SUMMARY:Southern Voice and JMK Line dancing @ Butcher Brothers
DESCRIPTION:This is a night you don’t want to miss. Do you want to learn how to line dance? If so we have professional line dancing instructors from J.M.K. Line dancing company to teach you. 6-7:30 \nWhy not take those new moves you just learned and put them to work as you dance live to Southern Voice from 8-11 P.M.
URL:https://southernvoiceband.com/event/butcher-bros-steakhouse-acoustic-duo/
LOCATION:Butcher Bros Steakhouse\, 1410 Highland Ave\, Cheshire\, CT\, 06410
END:VEVENT
BEGIN:VEVENT
DTSTART;TZID=America/New_York:20240125T190000
DTEND;TZID=America/New_York:20240125T220000
DTSTAMP:20260421T163421
CREATED:20231117T144402Z
LAST-MODIFIED:20240123T140650Z
UID:3094-1706209200-1706220000@southernvoiceband.com
SUMMARY:Karaoke @ Butcher Bros Steakhouse (Hosted by Annmarie)
DESCRIPTION:Do you love to sing? Why not come hang out and select from over 52\,000 songs.
URL:https://southernvoiceband.com/event/karaoke-butcher-bros-steakhouse-hosted-by-southern-voice-8/
LOCATION:Butcher Bros Steakhouse\, 1410 Highland Ave\, Cheshire\, CT\, 06410
END:VEVENT
BEGIN:VEVENT
DTSTART;TZID=America/New_York:20240124T190000
DTEND;TZID=America/New_York:20240124T220000
DTSTAMP:20260421T163421
CREATED:20240123T140121Z
LAST-MODIFIED:20240123T140121Z
UID:3116-1706122800-1706133600@southernvoiceband.com
SUMMARY:Karaoke Hosted by Annmarie @ Senor Panchos Prospect
DESCRIPTION:
URL:https://southernvoiceband.com/event/karaoke-hosted-by-annmarie-senor-panchos-prospect/
LOCATION:senor panchos\, 280 Cheshire Rd\, Prospect\, CT
END:VEVENT
BEGIN:VEVENT
DTSTART;TZID=America/New_York:20240119T190000
DTEND;TZID=America/New_York:20240119T213000
DTSTAMP:20260421T163421
CREATED:20231209T132351Z
LAST-MODIFIED:20231209T132351Z
UID:3104-1705690800-1705699800@southernvoiceband.com
SUMMARY:Karaoke @ Cheshire Craft Brewing Company Hosted By Annmarie
DESCRIPTION:
URL:https://southernvoiceband.com/event/karaoke-cheshire-craft-brewing-company-hosted-by-annmarie/
LOCATION:Cheshire Craft Brewery\, 126 Commerce CT STE 7\, Cheshire\, CT\, 06410
END:VEVENT
BEGIN:VEVENT
DTSTART;TZID=America/New_York:20240118T190000
DTEND;TZID=America/New_York:20240118T220000
DTSTAMP:20260421T163421
CREATED:20231117T144316Z
LAST-MODIFIED:20231117T144316Z
UID:3092-1705604400-1705615200@southernvoiceband.com
SUMMARY:Karaoke @ Butcher Bros Steakhouse (Hosted by Southern Voice)
DESCRIPTION:
URL:https://southernvoiceband.com/event/karaoke-butcher-bros-steakhouse-hosted-by-southern-voice-7/
LOCATION:Butcher Bros Steakhouse\, 1410 Highland Ave\, Cheshire\, CT\, 06410
END:VEVENT
BEGIN:VEVENT
DTSTART;TZID=America/New_York:20240117T180000
DTEND;TZID=America/New_York:20240117T210000
DTSTAMP:20260421T163421
CREATED:20231117T143922Z
LAST-MODIFIED:20231117T143922Z
UID:3086-1705514400-1705525200@southernvoiceband.com
SUMMARY:Karaoke @ Senor Panchos Prospect (Hosted by Southern Voice)
DESCRIPTION:
URL:https://southernvoiceband.com/event/karaoke-senor-panchos-prospect-hosted-by-southern-voice-11/
LOCATION:senor panchos\, 280 Cheshire Rd\, Prospect\, CT
END:VEVENT
BEGIN:VEVENT
DTSTART;TZID=America/New_York:20240117T140000
DTEND;TZID=America/New_York:20240117T170000
DTSTAMP:20260421T163421
CREATED:20230825T200105Z
LAST-MODIFIED:20230825T200105Z
UID:2929-1705500000-1705510800@southernvoiceband.com
SUMMARY:RJ Gators The Villages FL (Annmarie Solo)
DESCRIPTION:
URL:https://southernvoiceband.com/event/rj-gators-the-villages-fl-annmarie-solo-3/
LOCATION:RJ Gators\, 1015 Lakeshore Dr\, The Villages\, FL
END:VEVENT
BEGIN:VEVENT
DTSTART;TZID=America/New_York:20240112T183000
DTEND;TZID=America/New_York:20240112T213000
DTSTAMP:20260421T163421
CREATED:20231016T145304Z
LAST-MODIFIED:20231016T145304Z
UID:3005-1705084200-1705095000@southernvoiceband.com
SUMMARY:Private Rehearsal Dinner (FL)
DESCRIPTION:
URL:https://southernvoiceband.com/event/private-rehearsal-dinner-fl/
LOCATION:CT
END:VEVENT
BEGIN:VEVENT
DTSTART;TZID=America/New_York:20240111T190000
DTEND;TZID=America/New_York:20240111T220000
DTSTAMP:20260421T163421
CREATED:20231117T144221Z
LAST-MODIFIED:20231117T144221Z
UID:3090-1704999600-1705010400@southernvoiceband.com
SUMMARY:Karaoke @ Butcher Bros Steakhouse (Hosted by Southern Voice)
DESCRIPTION:
URL:https://southernvoiceband.com/event/karaoke-butcher-bros-steakhouse-hosted-by-southern-voice-6/
LOCATION:CT
END:VEVENT
BEGIN:VEVENT
DTSTART;TZID=America/New_York:20240110T180000
DTEND;TZID=America/New_York:20240110T210000
DTSTAMP:20260421T163421
CREATED:20231117T143626Z
LAST-MODIFIED:20231117T143647Z
UID:3080-1704909600-1704920400@southernvoiceband.com
SUMMARY:Karaoke @ Senor Panchos Prospect (Hosted by Southern Voice)
DESCRIPTION:
URL:https://southernvoiceband.com/event/karaoke-senor-panchos-prospect-hosted-by-southern-voice-8/
LOCATION:senor panchos\, 280 Cheshire Rd\, Prospect\, CT
END:VEVENT
BEGIN:VEVENT
DTSTART;TZID=America/New_York:20240104T190000
DTEND;TZID=America/New_York:20240104T220000
DTSTAMP:20260421T163421
CREATED:20231117T144139Z
LAST-MODIFIED:20231117T144139Z
UID:3088-1704394800-1704405600@southernvoiceband.com
SUMMARY:Karaoke @ Butcher Bros Steakhouse (Hosted by Southern Voice)
DESCRIPTION:
URL:https://southernvoiceband.com/event/karaoke-butcher-bros-steakhouse-hosted-by-southern-voice-5/
LOCATION:Butcher Bros Steakhouse\, 1410 Highland Ave\, Cheshire\, CT\, 06410
END:VEVENT
BEGIN:VEVENT
DTSTART;TZID=America/New_York:20240103T180000
DTEND;TZID=America/New_York:20240103T210000
DTSTAMP:20260421T163421
CREATED:20231117T143728Z
LAST-MODIFIED:20231117T143728Z
UID:3082-1704304800-1704315600@southernvoiceband.com
SUMMARY:Karaoke @ Senor Panchos Prospect (Hosted by Southern Voice)
DESCRIPTION:
URL:https://southernvoiceband.com/event/karaoke-senor-panchos-prospect-hosted-by-southern-voice-9/
LOCATION:CT
END:VEVENT
BEGIN:VEVENT
DTSTART;TZID=America/New_York:20231231T120000
DTEND;TZID=America/New_York:20231231T150000
DTSTAMP:20260421T163421
CREATED:20231209T131952Z
LAST-MODIFIED:20231209T131952Z
UID:3102-1704024000-1704034800@southernvoiceband.com
SUMMARY:NYE Brunch @ Butcher Bros Acoustic Duo
DESCRIPTION:
URL:https://southernvoiceband.com/event/nye-brunch-butcher-bros-acoustic-duo/
LOCATION:Butcher Bros Steakhouse\, 1410 Highland Ave\, Cheshire\, CT\, 06410
END:VEVENT
BEGIN:VEVENT
DTSTART;TZID=America/New_York:20231230T180000
DTEND;TZID=America/New_York:20231230T210000
DTSTAMP:20260421T163421
CREATED:20231117T142940Z
LAST-MODIFIED:20231117T142940Z
UID:3075-1703959200-1703970000@southernvoiceband.com
SUMMARY:Nick's Country Kitchen (Annmarie Solo)
DESCRIPTION:
URL:https://southernvoiceband.com/event/nicks-country-kitchen-annmarie-solo-4/
LOCATION:Nick’s Country Kitchen\, 3G Flanders Rd.\, Bethleham\, CT
END:VEVENT
BEGIN:VEVENT
DTSTART;TZID=America/New_York:20231228T190000
DTEND;TZID=America/New_York:20231228T220000
DTSTAMP:20260421T163421
CREATED:20231117T141834Z
LAST-MODIFIED:20231117T141915Z
UID:3063-1703790000-1703800800@southernvoiceband.com
SUMMARY:Karaoke @ Butcher Bros Steakhouse (Hosted by Southern Voice)
DESCRIPTION:
URL:https://southernvoiceband.com/event/karaoke-butcher-bros-steakhouse-hosted-by-southern-voice-4/
LOCATION:Butcher Bros Steakhouse\, 1410 Highland Ave\, Cheshire\, CT\, 06410
END:VEVENT
BEGIN:VEVENT
DTSTART;TZID=America/New_York:20231227T180000
DTEND;TZID=America/New_York:20231227T210000
DTSTAMP:20260421T163421
CREATED:20231117T142741Z
LAST-MODIFIED:20231117T142741Z
UID:3073-1703700000-1703710800@southernvoiceband.com
SUMMARY:Karaoke @ Senor Panchos Prospect (Hosted by Southern Voice)
DESCRIPTION:
URL:https://southernvoiceband.com/event/karaoke-senor-panchos-prospect-hosted-by-southern-voice-6/
LOCATION:CT
END:VEVENT
BEGIN:VEVENT
DTSTART;TZID=America/New_York:20231221T190000
DTEND;TZID=America/New_York:20231221T220000
DTSTAMP:20260421T163421
CREATED:20231117T141146Z
LAST-MODIFIED:20231117T141955Z
UID:3061-1703185200-1703196000@southernvoiceband.com
SUMMARY:Karaoke @ Butcher Bros Steakhouse (Hosted by Southern Voice)
DESCRIPTION:
URL:https://southernvoiceband.com/event/karaoke-butcher-bros-steakhouse-hosted-by-southern-voice-3/
LOCATION:Butcher Bros Steakhouse\, 1410 Highland Ave\, Cheshire\, CT\, 06410
END:VEVENT
BEGIN:VEVENT
DTSTART;TZID=America/New_York:20231220T180000
DTEND;TZID=America/New_York:20231220T210000
DTSTAMP:20260421T163421
CREATED:20231117T142619Z
LAST-MODIFIED:20231117T142619Z
UID:3071-1703095200-1703106000@southernvoiceband.com
SUMMARY:Karaoke @ Senor Panchos Prospect (Hosted by Southern Voice)
DESCRIPTION:
URL:https://southernvoiceband.com/event/karaoke-senor-panchos-prospect-hosted-by-southern-voice-5/
LOCATION:senor panchos\, 280 Cheshire Rd\, Prospect\, CT
END:VEVENT
BEGIN:VEVENT
DTSTART;TZID=America/New_York:20231217T180000
DTEND;TZID=America/New_York:20231217T210000
DTSTAMP:20260421T163421
CREATED:20231209T131808Z
LAST-MODIFIED:20231209T131808Z
UID:3100-1702836000-1702846800@southernvoiceband.com
SUMMARY:Private Party Karaoke
DESCRIPTION:
URL:https://southernvoiceband.com/event/private-party-karaoke/
LOCATION:CT
END:VEVENT
BEGIN:VEVENT
DTSTART;TZID=America/New_York:20231216T183000
DTEND;TZID=America/New_York:20231216T213000
DTSTAMP:20260421T163421
CREATED:20231117T142412Z
LAST-MODIFIED:20231117T142412Z
UID:3068-1702751400-1702762200@southernvoiceband.com
SUMMARY:Private Party (Duo)
DESCRIPTION:
URL:https://southernvoiceband.com/event/private-party-duo/
LOCATION:Peppercorn’s Grill\, 357 Main St.\, Hartford\, CT\, 06106
END:VEVENT
BEGIN:VEVENT
DTSTART;TZID=America/New_York:20231215T193000
DTEND;TZID=America/New_York:20231215T213000
DTSTAMP:20260421T163421
CREATED:20231117T142154Z
LAST-MODIFIED:20231117T142154Z
UID:3066-1702668600-1702675800@southernvoiceband.com
SUMMARY:The Victorian House (Annmarie Solo)
DESCRIPTION:
URL:https://southernvoiceband.com/event/the-victorian-house-annmarie-solo-2/
LOCATION:The Victorian House\, 226 Maple Ave\, Cheshire\, CT\, 06410
END:VEVENT
BEGIN:VEVENT
DTSTART;TZID=America/New_York:20231214T190000
DTEND;TZID=America/New_York:20231214T220000
DTSTAMP:20260421T163421
CREATED:20231117T141025Z
LAST-MODIFIED:20231117T141025Z
UID:3059-1702580400-1702591200@southernvoiceband.com
SUMMARY:Karaoke @ Butcher Bros Steakhouse (Hosted by Southern Voice)
DESCRIPTION:
URL:https://southernvoiceband.com/event/karaoke-butcher-bros-steakhouse-hosted-by-southern-voice-2/
LOCATION:Butcher Bros Steakhouse\, 1410 Highland Ave\, Cheshire\, CT\, 06410
END:VEVENT
BEGIN:VEVENT
DTSTART;TZID=America/New_York:20231213T180000
DTEND;TZID=America/New_York:20231213T210000
DTSTAMP:20260421T163421
CREATED:20231117T140757Z
LAST-MODIFIED:20231117T140757Z
UID:3057-1702490400-1702501200@southernvoiceband.com
SUMMARY:Karaoke @ Senor Panchos Prospect (Hosted by Southern Voice)
DESCRIPTION:
URL:https://southernvoiceband.com/event/karaoke-senor-panchos-prospect-hosted-by-southern-voice-4/
LOCATION:senor panchos\, 280 Cheshire Rd\, Prospect\, CT
END:VEVENT
BEGIN:VEVENT
DTSTART;TZID=America/New_York:20231209T183000
DTEND;TZID=America/New_York:20231209T213000
DTSTAMP:20260421T163421
CREATED:20231117T140613Z
LAST-MODIFIED:20231117T140613Z
UID:3055-1702146600-1702157400@southernvoiceband.com
SUMMARY:Holiday Party @ Dee-man's Bar & Grill (Open to Public)
DESCRIPTION:
URL:https://southernvoiceband.com/event/holiday-party-dee-mans-bar-grill-open-to-public/
LOCATION:Deemans Bar Grill\, 1370 New Haven Rd\, Naugatuck\, CT\, 06706\, United States
END:VEVENT
BEGIN:VEVENT
DTSTART;TZID=America/New_York:20231208T180000
DTEND;TZID=America/New_York:20231208T210000
DTSTAMP:20260421T163421
CREATED:20231117T140443Z
LAST-MODIFIED:20231117T140443Z
UID:3053-1702058400-1702069200@southernvoiceband.com
SUMMARY:Clocktown Brewing Company (Acoustic Duo)
DESCRIPTION:
URL:https://southernvoiceband.com/event/clocktown-brewing-company-acoustic-duo/
LOCATION:Clocktown Brewery\, 135 South Main St\, Thomaston\, 06787\, United States
END:VEVENT
BEGIN:VEVENT
DTSTART;TZID=America/New_York:20231207T190000
DTEND;TZID=America/New_York:20231207T220000
DTSTAMP:20260421T163421
CREATED:20231117T140240Z
LAST-MODIFIED:20231117T140240Z
UID:3050-1701975600-1701986400@southernvoiceband.com
SUMMARY:Karaoke @ Butcher Bros Steakhouse (Hosted by Southern Voice)
DESCRIPTION:
URL:https://southernvoiceband.com/event/karaoke-butcher-bros-steakhouse-hosted-by-southern-voice/
LOCATION:Butcher Bros Steakhouse\, 1410 Highland Ave\, Cheshire\, CT\, 06410
END:VEVENT
BEGIN:VEVENT
DTSTART;TZID=America/New_York:20231206T180000
DTEND;TZID=America/New_York:20231206T210000
DTSTAMP:20260421T163421
CREATED:20231117T140022Z
LAST-MODIFIED:20231117T140022Z
UID:3048-1701885600-1701896400@southernvoiceband.com
SUMMARY:Karaoke @ Senor Panchos Prospect (Hosted by Southern Voice)
DESCRIPTION:
URL:https://southernvoiceband.com/event/karaoke-senor-panchos-prospect-hosted-by-southern-voice-3/
LOCATION:senor panchos\, 280 Cheshire Rd\, Prospect\, CT
END:VEVENT
BEGIN:VEVENT
DTSTART;TZID=America/New_York:20231203T210000
DTEND;TZID=America/New_York:20231203T230000
DTSTAMP:20260421T163421
CREATED:20231117T135839Z
LAST-MODIFIED:20231117T135839Z
UID:3045-1701637200-1701644400@southernvoiceband.com
SUMMARY:Private Holiday Party Karaoke Hosted by Southern Voice
DESCRIPTION:
URL:https://southernvoiceband.com/event/private-holiday-party-karaoke-hosted-by-southern-voice/
LOCATION:Anthony’s Ocean View\, 480 Lighthouse Rd\, New Haven\, CT
END:VEVENT
END:VCALENDAR