BEGIN:VCALENDAR
VERSION:2.0
PRODID:-//Southern Voice - ECPv6.15.11//NONSGML v1.0//EN
CALSCALE:GREGORIAN
METHOD:PUBLISH
X-WR-CALNAME:Southern Voice
X-ORIGINAL-URL:https://southernvoiceband.com
X-WR-CALDESC:Events for Southern Voice
REFRESH-INTERVAL;VALUE=DURATION:PT1H
X-Robots-Tag:noindex
X-PUBLISHED-TTL:PT1H
BEGIN:VTIMEZONE
TZID:America/New_York
BEGIN:DAYLIGHT
TZOFFSETFROM:-0500
TZOFFSETTO:-0400
TZNAME:EDT
DTSTART:20240310T070000
END:DAYLIGHT
BEGIN:STANDARD
TZOFFSETFROM:-0400
TZOFFSETTO:-0500
TZNAME:EST
DTSTART:20241103T060000
END:STANDARD
BEGIN:DAYLIGHT
TZOFFSETFROM:-0500
TZOFFSETTO:-0400
TZNAME:EDT
DTSTART:20250309T070000
END:DAYLIGHT
BEGIN:STANDARD
TZOFFSETFROM:-0400
TZOFFSETTO:-0500
TZNAME:EST
DTSTART:20251102T060000
END:STANDARD
BEGIN:DAYLIGHT
TZOFFSETFROM:-0500
TZOFFSETTO:-0400
TZNAME:EDT
DTSTART:20260308T070000
END:DAYLIGHT
BEGIN:STANDARD
TZOFFSETFROM:-0400
TZOFFSETTO:-0500
TZNAME:EST
DTSTART:20261101T060000
END:STANDARD
END:VTIMEZONE
BEGIN:VEVENT
DTSTART;TZID=America/New_York:20250919T190000
DTEND;TZID=America/New_York:20250919T210000
DTSTAMP:20260420T110439
CREATED:20250813T014847Z
LAST-MODIFIED:20250813T014847Z
UID:3530-1758308400-1758315600@southernvoiceband.com
SUMMARY:Private
DESCRIPTION:
URL:https://southernvoiceband.com/event/private-13/
LOCATION:CT
END:VEVENT
BEGIN:VEVENT
DTSTART;TZID=America/New_York:20250913T140000
DTEND;TZID=America/New_York:20250913T170000
DTSTAMP:20260420T110439
CREATED:20250901T230937Z
LAST-MODIFIED:20250901T230937Z
UID:3566-1757772000-1757782800@southernvoiceband.com
SUMMARY:Private
DESCRIPTION:
URL:https://southernvoiceband.com/event/private-14/
LOCATION:CT
END:VEVENT
BEGIN:VEVENT
DTSTART;TZID=America/New_York:20250912T193000
DTEND;TZID=America/New_York:20250912T210000
DTSTAMP:20260420T110439
CREATED:20250727T190848Z
LAST-MODIFIED:20250727T190848Z
UID:3500-1757705400-1757710800@southernvoiceband.com
SUMMARY:Providence College (Private) Duo
DESCRIPTION:
URL:https://southernvoiceband.com/event/providence-college-private-duo-2/
LOCATION:CT
END:VEVENT
BEGIN:VEVENT
DTSTART;TZID=America/New_York:20250906T140000
DTEND;TZID=America/New_York:20250906T160000
DTSTAMP:20260420T110439
CREATED:20250727T190743Z
LAST-MODIFIED:20250727T190743Z
UID:3498-1757167200-1757174400@southernvoiceband.com
SUMMARY:Jesse Camille's Charity Event
DESCRIPTION:
URL:https://southernvoiceband.com/event/jesse-camilles-charity-event/
LOCATION:Jesse Camille’s Restaurant\, 615 North Church St Rte 63\, Naugatuck\, CT
END:VEVENT
BEGIN:VEVENT
DTSTART;TZID=America/New_York:20250905T180000
DTEND;TZID=America/New_York:20250905T200000
DTSTAMP:20260420T110439
CREATED:20250727T190622Z
LAST-MODIFIED:20250727T190622Z
UID:3496-1757095200-1757102400@southernvoiceband.com
SUMMARY:March Farms
DESCRIPTION:
URL:https://southernvoiceband.com/event/march-farms/
LOCATION:March Farms\, 160 Munger Lane\, Bethlehem\, CT\, 06751
END:VEVENT
BEGIN:VEVENT
DTSTART;TZID=America/New_York:20250831T180000
DTEND;TZID=America/New_York:20250831T210000
DTSTAMP:20260420T110439
CREATED:20241203T183807Z
LAST-MODIFIED:20241203T183807Z
UID:3388-1756663200-1756674000@southernvoiceband.com
SUMMARY:Skyridge Campground (Campers Only)
DESCRIPTION:
URL:https://southernvoiceband.com/event/skyridge-campground-campers-only/
LOCATION:CT
END:VEVENT
BEGIN:VEVENT
DTSTART;TZID=America/New_York:20250830T170000
DTEND;TZID=America/New_York:20250830T200000
DTSTAMP:20260420T110439
CREATED:20241203T183712Z
LAST-MODIFIED:20241203T183712Z
UID:3386-1756573200-1756584000@southernvoiceband.com
SUMMARY:Island Pond Summer Concert Series
DESCRIPTION:
URL:https://southernvoiceband.com/event/island-pond-summer-concert-series-2/
LOCATION:Island Pond\, Brighton\, VT
END:VEVENT
BEGIN:VEVENT
DTSTART;TZID=America/New_York:20250824T173000
DTEND;TZID=America/New_York:20250824T203000
DTSTAMP:20260420T110439
CREATED:20250727T190446Z
LAST-MODIFIED:20250727T190446Z
UID:3492-1756056600-1756067400@southernvoiceband.com
SUMMARY:Wood and Tap Enfield
DESCRIPTION:
URL:https://southernvoiceband.com/event/wood-and-tap-enfield/
LOCATION:Wood and Tap\, 55b Palomba Dr\, Enfield\, CT
END:VEVENT
BEGIN:VEVENT
DTSTART;TZID=America/New_York:20250816T183000
DTEND;TZID=America/New_York:20250816T213000
DTSTAMP:20260420T110439
CREATED:20250813T014737Z
LAST-MODIFIED:20250813T014737Z
UID:3528-1755369000-1755379800@southernvoiceband.com
SUMMARY:Private
DESCRIPTION:
URL:https://southernvoiceband.com/event/private-12/
LOCATION:CT
END:VEVENT
BEGIN:VEVENT
DTSTART;TZID=America/New_York:20250812T190000
DTEND;TZID=America/New_York:20250812T203000
DTSTAMP:20260420T110439
CREATED:20250306T170022Z
LAST-MODIFIED:20250528T013230Z
UID:3439-1755025200-1755030600@southernvoiceband.com
SUMMARY:Oronoque Village (Private)
DESCRIPTION:
URL:https://southernvoiceband.com/event/oronoque-village-summer-concert-series/
LOCATION:Oronoque Village\, 10 Midwood Trail\, Stratford\, CT
END:VEVENT
BEGIN:VEVENT
DTSTART;TZID=America/New_York:20250809T180000
DTEND;TZID=America/New_York:20250809T200000
DTSTAMP:20260420T110439
CREATED:20250306T165835Z
LAST-MODIFIED:20250306T165835Z
UID:3436-1754762400-1754769600@southernvoiceband.com
SUMMARY:Seymour Summer Concert
DESCRIPTION:
URL:https://southernvoiceband.com/event/seymour-summer-concert/
LOCATION:Great Hill Hose Company\, 140 Botsford Rd\, Seymour\, CT
END:VEVENT
BEGIN:VEVENT
DTSTART;TZID=America/New_York:20250808T173000
DTEND;TZID=America/New_York:20250808T193000
DTSTAMP:20260420T110439
CREATED:20250306T165349Z
LAST-MODIFIED:20250712T124325Z
UID:3434-1754674200-1754681400@southernvoiceband.com
SUMMARY:Westbrook Summer Concert (Trio)
DESCRIPTION:Westbrook Summer Concert Series – Live Music by the Trio!  \nKick off your weekend with great music\, good vibes\, and a beautiful summer evening in Westbrook\, CT! Our trio band will be performing live as part of the Westbrook Summer Concert Series — and we’d love to see you there! \n️ Friday\, August 5\n 5:30 PM – 7:30 PM\n 21 Essex Rd\, Westbrook\, CT \nBring your lawn chairs\, pack a picnic\, or grab a bite nearby — then settle in for two hours of toe-tapping tunes\, smooth grooves\, and summer fun for all ages.  \nFree & open to the public. Let’s make it a night to remember under the open sky!
URL:https://southernvoiceband.com/event/westbrook-summer-concert-trio/
LOCATION:Westbrook\, 1179 Boston Post Rd\, Westbrook\, 06498\, United States
END:VEVENT
BEGIN:VEVENT
DTSTART;TZID=America/New_York:20250805T183000
DTEND;TZID=America/New_York:20250805T200000
DTSTAMP:20260420T110439
CREATED:20250712T123649Z
LAST-MODIFIED:20250712T123649Z
UID:3482-1754418600-1754424000@southernvoiceband.com
SUMMARY:Ivoryton Green (Trio)
DESCRIPTION:join us for a beautiful evening of live music on the Ivoryton Green in Essex\, CT as our trio band takes the stage for the Summer Concert Series! ☀️ \n 6:30 PM – 8:00 PM\n Ivoryton Green\, Essex\, CT \nBring your lawn chairs\, blankets\, and your favorite people — we’ll bring the rhythm\, harmony\, and feel-good summer vibes.  \nFree & open to the public – let’s make it a night to remember
URL:https://southernvoiceband.com/event/ivoryton-green-trio/
LOCATION:Essex Ivoryton Green\, 100 Main Street\, Ivoryton\, CT\, 06442\, United States
END:VEVENT
BEGIN:VEVENT
DTSTART;TZID=America/New_York:20250801T180000
DTEND;TZID=America/New_York:20250801T210000
DTSTAMP:20260420T110439
CREATED:20250306T165234Z
LAST-MODIFIED:20250712T122510Z
UID:3432-1754071200-1754082000@southernvoiceband.com
SUMMARY:McCray Country Creamery (Acoustic Duo)
DESCRIPTION:Live Music at McCray Farm!  \nWe’re bringing the music to the fields!\nJoin our duo for a fun-filled performance at the charming McCray Farm in South Hadley\, MA — a perfect setting for live tunes\, fresh air\, and family-friendly vibes. \n McCray Farm\, South Hadley\, MA\n Acoustic vibes\, sweet harmonies\, and a down-to-earth atmosphere you won’t want to miss.
URL:https://southernvoiceband.com/event/mccray-country-creamery-acoustic-duo/
LOCATION:McCray’s Country Creamery\, 55 Alvord St\, South Hadley\, MA\, 01075
END:VEVENT
BEGIN:VEVENT
DTSTART;TZID=America/New_York:20250726T190000
DTEND;TZID=America/New_York:20250726T220000
DTSTAMP:20260420T110439
CREATED:20241203T183618Z
LAST-MODIFIED:20241203T183618Z
UID:3384-1753556400-1753567200@southernvoiceband.com
SUMMARY:Witch Meadow Campground (Campers Only)
DESCRIPTION:
URL:https://southernvoiceband.com/event/witch-meadow-campground-campers-only-2/
LOCATION:CT
END:VEVENT
BEGIN:VEVENT
DTSTART;TZID=America/New_York:20250722T183000
DTEND;TZID=America/New_York:20250722T200000
DTSTAMP:20260420T110439
CREATED:20250306T165103Z
LAST-MODIFIED:20250306T165103Z
UID:3429-1753209000-1753214400@southernvoiceband.com
SUMMARY:Fairlee Community Arts (Trio)
DESCRIPTION:
URL:https://southernvoiceband.com/event/fairlee-community-arts-trio/
LOCATION:Town Common Rd\, Towne Common Rd\, Fairlee\, VT
END:VEVENT
BEGIN:VEVENT
DTSTART;TZID=America/New_York:20250719T183000
DTEND;TZID=America/New_York:20250719T213000
DTSTAMP:20260420T110439
CREATED:20250306T164924Z
LAST-MODIFIED:20250306T164924Z
UID:3427-1752949800-1752960600@southernvoiceband.com
SUMMARY:Wolf's Den Family Campground (Acoustic Duo)
DESCRIPTION:
URL:https://southernvoiceband.com/event/wolfs-den-family-campground-acoustic-duo/
LOCATION:Wolf’s Den Family Campground\, 256 Town St.\, East Haddam\, CT
END:VEVENT
BEGIN:VEVENT
DTSTART;TZID=America/New_York:20250715T180000
DTEND;TZID=America/New_York:20250715T210000
DTSTAMP:20260420T110439
CREATED:20250306T164800Z
LAST-MODIFIED:20250306T164800Z
UID:3424-1752602400-1752613200@southernvoiceband.com
SUMMARY:Woodridge Lake Private (Acoustic Trio)
DESCRIPTION:
URL:https://southernvoiceband.com/event/woodridge-lake-private-acoustic-trio/
LOCATION:Woodridge Lake
END:VEVENT
BEGIN:VEVENT
DTSTART;TZID=America/New_York:20250712T183000
DTEND;TZID=America/New_York:20250712T213000
DTSTAMP:20260420T110439
CREATED:20250306T164348Z
LAST-MODIFIED:20250306T164348Z
UID:3422-1752345000-1752355800@southernvoiceband.com
SUMMARY:Candlewood Shores Summer Concert (Private)
DESCRIPTION:
URL:https://southernvoiceband.com/event/candlewood-shores-summer-concert-private/
LOCATION:CT
END:VEVENT
BEGIN:VEVENT
DTSTART;TZID=America/New_York:20250708T183000
DTEND;TZID=America/New_York:20250708T203000
DTSTAMP:20260420T110439
CREATED:20250306T163855Z
LAST-MODIFIED:20250306T163855Z
UID:3420-1751999400-1752006600@southernvoiceband.com
SUMMARY:Rocky Hill Summer Concert Series Rain date July 9
DESCRIPTION:
URL:https://southernvoiceband.com/event/rocky-hill-summer-concert-series-rain-date-july-9/
LOCATION:Veterans Memorial Ampitheatre
END:VEVENT
BEGIN:VEVENT
DTSTART;TZID=America/New_York:20250705T160000
DTEND;TZID=America/New_York:20250705T180000
DTSTAMP:20260420T110439
CREATED:20241203T183530Z
LAST-MODIFIED:20241203T183530Z
UID:3382-1751731200-1751738400@southernvoiceband.com
SUMMARY:Private
DESCRIPTION:
URL:https://southernvoiceband.com/event/private-11/
LOCATION:CT
END:VEVENT
BEGIN:VEVENT
DTSTART;TZID=America/New_York:20250704T143000
DTEND;TZID=America/New_York:20250704T173000
DTSTAMP:20260420T110439
CREATED:20250412T221123Z
LAST-MODIFIED:20250621T210105Z
UID:3447-1751639400-1751650200@southernvoiceband.com
SUMMARY:Private
DESCRIPTION:
URL:https://southernvoiceband.com/event/old-tyme-country-farm-acoustic-trio/
LOCATION:Old Tyme Country Farm\, 617 Westchester Rd\, Colchester
END:VEVENT
BEGIN:VEVENT
DTSTART;TZID=America/New_York:20250628T190000
DTEND;TZID=America/New_York:20250628T220000
DTSTAMP:20260420T110439
CREATED:20250306T163713Z
LAST-MODIFIED:20250306T163713Z
UID:3417-1751137200-1751148000@southernvoiceband.com
SUMMARY:Wolf's Den Campground (Acoustic Duo)
DESCRIPTION:
URL:https://southernvoiceband.com/event/wolfs-den-campground-acoustic-duo/
LOCATION:Wolf’s Den Family Campground\, 256 Town St.\, East Haddam\, CT
END:VEVENT
BEGIN:VEVENT
DTSTART;TZID=America/New_York:20250627T190000
DTEND;TZID=America/New_York:20250627T210000
DTSTAMP:20260420T110439
CREATED:20250306T163456Z
LAST-MODIFIED:20250306T163456Z
UID:3415-1751050800-1751058000@southernvoiceband.com
SUMMARY:Litchfield Summer Concert Series
DESCRIPTION:
URL:https://southernvoiceband.com/event/litchfield-summer-concert-series-2/
LOCATION:Litchfield Town Green\, 46 West St.\, Litchfield\, CT
END:VEVENT
BEGIN:VEVENT
DTSTART;TZID=America/New_York:20250625T190000
DTEND;TZID=America/New_York:20250625T203000
DTSTAMP:20260420T110439
CREATED:20241203T183440Z
LAST-MODIFIED:20241203T183440Z
UID:3380-1750878000-1750883400@southernvoiceband.com
SUMMARY:Watertown Summer Concert Series (Acoustic Duo)
DESCRIPTION:
URL:https://southernvoiceband.com/event/watertown-summer-concert-series-acoustic-duo/
LOCATION:Veterans Park\, 570 Nova Scotia Hill Rd\, Watertown\, CT
END:VEVENT
BEGIN:VEVENT
DTSTART;TZID=America/New_York:20250621T180000
DTEND;TZID=America/New_York:20250621T210000
DTSTAMP:20260420T110439
CREATED:20250306T163320Z
LAST-MODIFIED:20250306T163320Z
UID:3412-1750528800-1750539600@southernvoiceband.com
SUMMARY:Town of Seymour Birthday Celebration
DESCRIPTION:
URL:https://southernvoiceband.com/event/town-of-seymour-birthday-celebration/
LOCATION:Seymour Highschool\, 2 Botsford Rd\, Seymour\, CT\, 06483
END:VEVENT
BEGIN:VEVENT
DTSTART;TZID=America/New_York:20250613T080000
DTEND;TZID=America/New_York:20250613T170000
DTSTAMP:20260420T110439
CREATED:20241203T183334Z
LAST-MODIFIED:20241203T183334Z
UID:3378-1749801600-1749834000@southernvoiceband.com
SUMMARY:Father's Day Brunch @ Prospect Senior Center (Annmarie Solo)
DESCRIPTION:
URL:https://southernvoiceband.com/event/fathers-day-brunch-prospect-senior-center-annmarie-solo/
LOCATION:CT
END:VEVENT
BEGIN:VEVENT
DTSTART;TZID=America/New_York:20250607T180000
DTEND;TZID=America/New_York:20250607T210000
DTSTAMP:20260420T110439
CREATED:20250306T163002Z
LAST-MODIFIED:20250605T183028Z
UID:3409-1749319200-1749330000@southernvoiceband.com
SUMMARY:Canceled McCray's Country Creamery
DESCRIPTION:
URL:https://southernvoiceband.com/event/mccrays-country-creamery/
LOCATION:McCray’s Country Creamery\, 55 Alvord St\, South Hadley\, MA\, 01075
END:VEVENT
BEGIN:VEVENT
DTSTART;TZID=America/New_York:20250606T180000
DTEND;TZID=America/New_York:20250606T203000
DTSTAMP:20260420T110439
CREATED:20241203T183236Z
LAST-MODIFIED:20241203T183236Z
UID:3376-1749232800-1749241800@southernvoiceband.com
SUMMARY:Friends Friday @ March Farms
DESCRIPTION:
URL:https://southernvoiceband.com/event/friends-friday-march-farms-2/
LOCATION:March Farms\, 160 Munger Lane\, Bethlehem\, CT\, 06751
END:VEVENT
BEGIN:VEVENT
DTSTART;TZID=America/New_York:20250530T170000
DTEND;TZID=America/New_York:20250530T200000
DTSTAMP:20260420T110439
CREATED:20250412T220853Z
LAST-MODIFIED:20250412T220853Z
UID:3445-1748624400-1748635200@southernvoiceband.com
SUMMARY:TPC River Highlands (Annmarie Solo)
DESCRIPTION:
URL:https://southernvoiceband.com/event/tpc-river-highlands-annmarie-solo/
LOCATION:TPC River Highlands\, 1 Golf Club Rd\, Cromwell\, CT
END:VEVENT
END:VCALENDAR