BEGIN:VCALENDAR
VERSION:2.0
PRODID:-//Southern Voice - ECPv6.15.11//NONSGML v1.0//EN
CALSCALE:GREGORIAN
METHOD:PUBLISH
X-WR-CALNAME:Southern Voice
X-ORIGINAL-URL:https://southernvoiceband.com
X-WR-CALDESC:Events for Southern Voice
REFRESH-INTERVAL;VALUE=DURATION:PT1H
X-Robots-Tag:noindex
X-PUBLISHED-TTL:PT1H
BEGIN:VTIMEZONE
TZID:America/New_York
BEGIN:DAYLIGHT
TZOFFSETFROM:-0500
TZOFFSETTO:-0400
TZNAME:EDT
DTSTART:20240310T070000
END:DAYLIGHT
BEGIN:STANDARD
TZOFFSETFROM:-0400
TZOFFSETTO:-0500
TZNAME:EST
DTSTART:20241103T060000
END:STANDARD
BEGIN:DAYLIGHT
TZOFFSETFROM:-0500
TZOFFSETTO:-0400
TZNAME:EDT
DTSTART:20250309T070000
END:DAYLIGHT
BEGIN:STANDARD
TZOFFSETFROM:-0400
TZOFFSETTO:-0500
TZNAME:EST
DTSTART:20251102T060000
END:STANDARD
BEGIN:DAYLIGHT
TZOFFSETFROM:-0500
TZOFFSETTO:-0400
TZNAME:EDT
DTSTART:20260308T070000
END:DAYLIGHT
BEGIN:STANDARD
TZOFFSETFROM:-0400
TZOFFSETTO:-0500
TZNAME:EST
DTSTART:20261101T060000
END:STANDARD
BEGIN:DAYLIGHT
TZOFFSETFROM:-0500
TZOFFSETTO:-0400
TZNAME:EDT
DTSTART:20270314T070000
END:DAYLIGHT
BEGIN:STANDARD
TZOFFSETFROM:-0400
TZOFFSETTO:-0500
TZNAME:EST
DTSTART:20271107T060000
END:STANDARD
END:VTIMEZONE
BEGIN:VEVENT
DTSTART;TZID=America/New_York:20260627T190000
DTEND;TZID=America/New_York:20260627T220000
DTSTAMP:20260420T185448
CREATED:20260216T200602Z
LAST-MODIFIED:20260216T200602Z
UID:3691-1782586800-1782597600@southernvoiceband.com
SUMMARY:Private
DESCRIPTION:
URL:https://southernvoiceband.com/event/private-21/
LOCATION:CT
END:VEVENT
BEGIN:VEVENT
DTSTART;TZID=America/New_York:20260625T183000
DTEND;TZID=America/New_York:20260625T200000
DTSTAMP:20260420T185448
CREATED:20260216T200455Z
LAST-MODIFIED:20260216T200455Z
UID:3689-1782412200-1782417600@southernvoiceband.com
SUMMARY:Canton Summer Concert Series
DESCRIPTION:Rain date Following Tuesday June 30\, 2026
URL:https://southernvoiceband.com/event/canton-summer-concert-series/
LOCATION:Mills Pond Park\, 14 E Hill Road\, Canton\, CT\, 06019\, United States
END:VEVENT
BEGIN:VEVENT
DTSTART;TZID=America/New_York:20260619T180000
DTEND;TZID=America/New_York:20260619T200000
DTSTAMP:20260420T185448
CREATED:20251014T002844Z
LAST-MODIFIED:20251014T002844Z
UID:3632-1781892000-1781899200@southernvoiceband.com
SUMMARY:Friends Friday @ March Farms
DESCRIPTION:
URL:https://southernvoiceband.com/event/friends-friday-march-farms-3/
LOCATION:March Farms\, 160 Munger Lane\, Bethlehem\, CT\, 06751
END:VEVENT
BEGIN:VEVENT
DTSTART;TZID=America/New_York:20260530T183000
DTEND;TZID=America/New_York:20260530T213000
DTSTAMP:20260420T185448
CREATED:20260206T174841Z
LAST-MODIFIED:20260206T174841Z
UID:3678-1780165800-1780176600@southernvoiceband.com
SUMMARY:Bethany Athletic Association Carnival
DESCRIPTION:.\nLive Music at the Bethany Athletic Association Carnival \nSouthern Voice is excited to be part of the Bethany Athletic Association Carnival  a fun\, family-friendly community event filled with rides\, games\, food\, and live entertainment. \nSouthern Voice takes the stage at 6:00 PM\, bringing our signature high-energy mix of country favorites\, crowd-pleasers\, and dance-worthy hits to keep the carnival vibes going strong into the evening. \nWhether you’re coming for the rides\, the food\, or just to enjoy a great night of live music under the lights\, this is one carnival you won’t want to miss.
URL:https://southernvoiceband.com/event/bethany-athletic-association-carnival/
LOCATION:Bethany Carnival\, 695 Amity Rd\, Bethany\, CT
END:VEVENT
BEGIN:VEVENT
DTSTART;TZID=America/New_York:20260523T190000
DTEND;TZID=America/New_York:20260523T220000
DTSTAMP:20260420T185448
CREATED:20250901T231452Z
LAST-MODIFIED:20250901T231452Z
UID:3572-1779562800-1779573600@southernvoiceband.com
SUMMARY:Cozy Hill Campground (Campers Only)
DESCRIPTION:
URL:https://southernvoiceband.com/event/cozy-hill-campground-campers-only-2/
LOCATION:Cozy Hills Campground\, 1311 Bantam Rd\, Bantam\, CT
END:VEVENT
BEGIN:VEVENT
DTSTART;TZID=America/New_York:20260501T210000
DTEND;TZID=America/New_York:20260502T003000
DTSTAMP:20260420T185448
CREATED:20251014T002710Z
LAST-MODIFIED:20251014T002710Z
UID:3630-1777669200-1777681800@southernvoiceband.com
SUMMARY:Comix Roadhouse at Mohegan Sun Casino
DESCRIPTION:
URL:https://southernvoiceband.com/event/comix-roadhouse-at-mohegan-sun-casino/
LOCATION:Comix Roadhouse Mohegan Sun\, 1 Mohegan Sun\, Uncasville\, CT\, 06382
END:VEVENT
BEGIN:VEVENT
DTSTART;TZID=America/New_York:20260418T173000
DTEND;TZID=America/New_York:20260418T213000
DTSTAMP:20260420T185448
CREATED:20260216T200203Z
LAST-MODIFIED:20260216T200203Z
UID:3687-1776533400-1776547800@southernvoiceband.com
SUMMARY:Private
DESCRIPTION:
URL:https://southernvoiceband.com/event/private-20/
LOCATION:TPC River Highlands\, 1 Golf Club Rd\, Cromwell\, CT
END:VEVENT
BEGIN:VEVENT
DTSTART;TZID=America/New_York:20260402T200000
DTEND;TZID=America/New_York:20260402T213000
DTSTAMP:20260420T185448
CREATED:20251021T152810Z
LAST-MODIFIED:20251021T152810Z
UID:3644-1775160000-1775165400@southernvoiceband.com
SUMMARY:Wolf Den @ Mohegan Sun Casino
DESCRIPTION:Southern Voice is bringing the heat to the legendary Wolf Den at Mohegan Sun for our very first show there – and we couldn’t be more fired up! It’s not every day you get to rock a stage where music legends have performed — and now it’s our turn to crank up the volume\, Southern voice style!  \nWhether you’re a longtime fan or hearing us for the first time\, get ready for a night of high-energy country\, Southern rock\, and a whole lot of good vibes. Let’s make some memories — see you at the Den!
URL:https://southernvoiceband.com/event/wolf-den-mohegan-sun-casino/
LOCATION:Wolf Den Mohegan Sun Casino\, 1 Mohegan Sun Blvd\, Uncasville\, CT\, 06382
END:VEVENT
BEGIN:VEVENT
DTSTART;TZID=America/New_York:20260321T190000
DTEND;TZID=America/New_York:20260321T220000
DTSTAMP:20260420T185448
CREATED:20251117T221323Z
LAST-MODIFIED:20251208T194022Z
UID:3664-1774119600-1774130400@southernvoiceband.com
SUMMARY:Breast Cancer Foundation Charity Event
DESCRIPTION:
URL:https://southernvoiceband.com/event/breast-cancer-foundation-charity-event/
LOCATION:Kinsmen Brewery\, 409 Canal St.\, Southington\, CT\, 06489\, United States
END:VEVENT
BEGIN:VEVENT
DTSTART;TZID=America/New_York:20260320T153000
DTEND;TZID=America/New_York:20260320T180000
DTSTAMP:20260420T185448
CREATED:20260206T175105Z
LAST-MODIFIED:20260206T175105Z
UID:3681-1774020600-1774029600@southernvoiceband.com
SUMMARY:Private
DESCRIPTION:
URL:https://southernvoiceband.com/event/private-19/
LOCATION:CT
END:VEVENT
BEGIN:VEVENT
DTSTART;TZID=America/New_York:20260314T180000
DTEND;TZID=America/New_York:20260314T210000
DTSTAMP:20260420T185448
CREATED:20251117T221218Z
LAST-MODIFIED:20251117T221218Z
UID:3661-1773511200-1773522000@southernvoiceband.com
SUMMARY:Pine Lake RV Resort (Campers Only) Acoustic Duo
DESCRIPTION:
URL:https://southernvoiceband.com/event/pine-lake-rv-resort-campers-only-acoustic-duo/
LOCATION:Pine Lake RV Resort\, 30 River Rd\, Sturbridge\, MA
END:VEVENT
BEGIN:VEVENT
DTSTART;TZID=America/New_York:20251205T190000
DTEND;TZID=America/New_York:20251205T230000
DTSTAMP:20260420T185448
CREATED:20251014T002512Z
LAST-MODIFIED:20251014T002512Z
UID:3628-1764961200-1764975600@southernvoiceband.com
SUMMARY:Private
DESCRIPTION:
URL:https://southernvoiceband.com/event/private-17/
LOCATION:CT
END:VEVENT
BEGIN:VEVENT
DTSTART;TZID=America/New_York:20251105T160000
DTEND;TZID=America/New_York:20251105T190000
DTSTAMP:20260420T185448
CREATED:20251014T002424Z
LAST-MODIFIED:20251014T002424Z
UID:3625-1762358400-1762369200@southernvoiceband.com
SUMMARY:Private
DESCRIPTION:
URL:https://southernvoiceband.com/event/private-16/
LOCATION:Essex Junction\, Essex Junction\, VT
END:VEVENT
BEGIN:VEVENT
DTSTART;TZID=America/New_York:20251018T153000
DTEND;TZID=America/New_York:20251018T190000
DTSTAMP:20260420T185448
CREATED:20250727T191137Z
LAST-MODIFIED:20250901T232410Z
UID:3506-1760801400-1760814000@southernvoiceband.com
SUMMARY:Rocky Hill Fall Fest  Rain date Sunday October 19
DESCRIPTION:
URL:https://southernvoiceband.com/event/lets-line-dance-with-southern-voice-and-jmk-line-dancing-company/
LOCATION:Veterans Memorial Ampitheatre
END:VEVENT
BEGIN:VEVENT
DTSTART;TZID=America/New_York:20251017T183000
DTEND;TZID=America/New_York:20251017T223000
DTSTAMP:20260420T185448
CREATED:20250901T231249Z
LAST-MODIFIED:20250901T231249Z
UID:3570-1760725800-1760740200@southernvoiceband.com
SUMMARY:Private (Wellsley MA)
DESCRIPTION:
URL:https://southernvoiceband.com/event/private-wellsley-ma/
LOCATION:CT
END:VEVENT
BEGIN:VEVENT
DTSTART;TZID=America/New_York:20251014T183000
DTEND;TZID=America/New_York:20251014T200000
DTSTAMP:20260420T185448
CREATED:20250727T191030Z
LAST-MODIFIED:20250727T191030Z
UID:3504-1760466600-1760472000@southernvoiceband.com
SUMMARY:Bristol Library (Acoustic Trio)
DESCRIPTION:
URL:https://southernvoiceband.com/event/bristol-library-acoustic-trio/
LOCATION:CT
END:VEVENT
BEGIN:VEVENT
DTSTART;TZID=America/New_York:20250927T180000
DTEND;TZID=America/New_York:20250927T210000
DTSTAMP:20260420T185449
CREATED:20250727T190941Z
LAST-MODIFIED:20250727T190941Z
UID:3502-1758996000-1759006800@southernvoiceband.com
SUMMARY:Cheshire Brewery (Acoustic Duo)
DESCRIPTION:
URL:https://southernvoiceband.com/event/cheshire-brewery-acoustic-duo/
LOCATION:Cheshire Craft Brewery\, 126 Commerce CT STE 7\, Cheshire\, CT\, 06410
END:VEVENT
BEGIN:VEVENT
DTSTART;TZID=America/New_York:20250920T123000
DTEND;TZID=America/New_York:20250920T150000
DTSTAMP:20260420T185449
CREATED:20250901T231116Z
LAST-MODIFIED:20250901T231116Z
UID:3568-1758371400-1758380400@southernvoiceband.com
SUMMARY:Private
DESCRIPTION:
URL:https://southernvoiceband.com/event/private-15/
LOCATION:CT
END:VEVENT
BEGIN:VEVENT
DTSTART;TZID=America/New_York:20250919T190000
DTEND;TZID=America/New_York:20250919T210000
DTSTAMP:20260420T185449
CREATED:20250813T014847Z
LAST-MODIFIED:20250813T014847Z
UID:3530-1758308400-1758315600@southernvoiceband.com
SUMMARY:Private
DESCRIPTION:
URL:https://southernvoiceband.com/event/private-13/
LOCATION:CT
END:VEVENT
BEGIN:VEVENT
DTSTART;TZID=America/New_York:20250913T140000
DTEND;TZID=America/New_York:20250913T170000
DTSTAMP:20260420T185449
CREATED:20250901T230937Z
LAST-MODIFIED:20250901T230937Z
UID:3566-1757772000-1757782800@southernvoiceband.com
SUMMARY:Private
DESCRIPTION:
URL:https://southernvoiceband.com/event/private-14/
LOCATION:CT
END:VEVENT
BEGIN:VEVENT
DTSTART;TZID=America/New_York:20250912T193000
DTEND;TZID=America/New_York:20250912T210000
DTSTAMP:20260420T185449
CREATED:20250727T190848Z
LAST-MODIFIED:20250727T190848Z
UID:3500-1757705400-1757710800@southernvoiceband.com
SUMMARY:Providence College (Private) Duo
DESCRIPTION:
URL:https://southernvoiceband.com/event/providence-college-private-duo-2/
LOCATION:CT
END:VEVENT
BEGIN:VEVENT
DTSTART;TZID=America/New_York:20250906T140000
DTEND;TZID=America/New_York:20250906T160000
DTSTAMP:20260420T185449
CREATED:20250727T190743Z
LAST-MODIFIED:20250727T190743Z
UID:3498-1757167200-1757174400@southernvoiceband.com
SUMMARY:Jesse Camille's Charity Event
DESCRIPTION:
URL:https://southernvoiceband.com/event/jesse-camilles-charity-event/
LOCATION:Jesse Camille’s Restaurant\, 615 North Church St Rte 63\, Naugatuck\, CT
END:VEVENT
BEGIN:VEVENT
DTSTART;TZID=America/New_York:20250905T180000
DTEND;TZID=America/New_York:20250905T200000
DTSTAMP:20260420T185449
CREATED:20250727T190622Z
LAST-MODIFIED:20250727T190622Z
UID:3496-1757095200-1757102400@southernvoiceband.com
SUMMARY:March Farms
DESCRIPTION:
URL:https://southernvoiceband.com/event/march-farms/
LOCATION:March Farms\, 160 Munger Lane\, Bethlehem\, CT\, 06751
END:VEVENT
BEGIN:VEVENT
DTSTART;TZID=America/New_York:20250831T180000
DTEND;TZID=America/New_York:20250831T210000
DTSTAMP:20260420T185449
CREATED:20241203T183807Z
LAST-MODIFIED:20241203T183807Z
UID:3388-1756663200-1756674000@southernvoiceband.com
SUMMARY:Skyridge Campground (Campers Only)
DESCRIPTION:
URL:https://southernvoiceband.com/event/skyridge-campground-campers-only/
LOCATION:CT
END:VEVENT
BEGIN:VEVENT
DTSTART;TZID=America/New_York:20250830T170000
DTEND;TZID=America/New_York:20250830T200000
DTSTAMP:20260420T185449
CREATED:20241203T183712Z
LAST-MODIFIED:20241203T183712Z
UID:3386-1756573200-1756584000@southernvoiceband.com
SUMMARY:Island Pond Summer Concert Series
DESCRIPTION:
URL:https://southernvoiceband.com/event/island-pond-summer-concert-series-2/
LOCATION:Island Pond\, Brighton\, VT
END:VEVENT
BEGIN:VEVENT
DTSTART;TZID=America/New_York:20250824T173000
DTEND;TZID=America/New_York:20250824T203000
DTSTAMP:20260420T185449
CREATED:20250727T190446Z
LAST-MODIFIED:20250727T190446Z
UID:3492-1756056600-1756067400@southernvoiceband.com
SUMMARY:Wood and Tap Enfield
DESCRIPTION:
URL:https://southernvoiceband.com/event/wood-and-tap-enfield/
LOCATION:Wood and Tap\, 55b Palomba Dr\, Enfield\, CT
END:VEVENT
BEGIN:VEVENT
DTSTART;TZID=America/New_York:20250816T183000
DTEND;TZID=America/New_York:20250816T213000
DTSTAMP:20260420T185449
CREATED:20250813T014737Z
LAST-MODIFIED:20250813T014737Z
UID:3528-1755369000-1755379800@southernvoiceband.com
SUMMARY:Private
DESCRIPTION:
URL:https://southernvoiceband.com/event/private-12/
LOCATION:CT
END:VEVENT
BEGIN:VEVENT
DTSTART;TZID=America/New_York:20250812T190000
DTEND;TZID=America/New_York:20250812T203000
DTSTAMP:20260420T185449
CREATED:20250306T170022Z
LAST-MODIFIED:20250528T013230Z
UID:3439-1755025200-1755030600@southernvoiceband.com
SUMMARY:Oronoque Village (Private)
DESCRIPTION:
URL:https://southernvoiceband.com/event/oronoque-village-summer-concert-series/
LOCATION:Oronoque Village\, 10 Midwood Trail\, Stratford\, CT
END:VEVENT
BEGIN:VEVENT
DTSTART;TZID=America/New_York:20250809T180000
DTEND;TZID=America/New_York:20250809T200000
DTSTAMP:20260420T185449
CREATED:20250306T165835Z
LAST-MODIFIED:20250306T165835Z
UID:3436-1754762400-1754769600@southernvoiceband.com
SUMMARY:Seymour Summer Concert
DESCRIPTION:
URL:https://southernvoiceband.com/event/seymour-summer-concert/
LOCATION:Great Hill Hose Company\, 140 Botsford Rd\, Seymour\, CT
END:VEVENT
BEGIN:VEVENT
DTSTART;TZID=America/New_York:20250808T173000
DTEND;TZID=America/New_York:20250808T193000
DTSTAMP:20260420T185449
CREATED:20250306T165349Z
LAST-MODIFIED:20250712T124325Z
UID:3434-1754674200-1754681400@southernvoiceband.com
SUMMARY:Westbrook Summer Concert (Trio)
DESCRIPTION:Westbrook Summer Concert Series – Live Music by the Trio!  \nKick off your weekend with great music\, good vibes\, and a beautiful summer evening in Westbrook\, CT! Our trio band will be performing live as part of the Westbrook Summer Concert Series — and we’d love to see you there! \n️ Friday\, August 5\n 5:30 PM – 7:30 PM\n 21 Essex Rd\, Westbrook\, CT \nBring your lawn chairs\, pack a picnic\, or grab a bite nearby — then settle in for two hours of toe-tapping tunes\, smooth grooves\, and summer fun for all ages.  \nFree & open to the public. Let’s make it a night to remember under the open sky!
URL:https://southernvoiceband.com/event/westbrook-summer-concert-trio/
LOCATION:Westbrook\, 1179 Boston Post Rd\, Westbrook\, 06498\, United States
END:VEVENT
END:VCALENDAR