BEGIN:VCALENDAR
VERSION:2.0
PRODID:-//Southern Voice - ECPv6.15.11//NONSGML v1.0//EN
CALSCALE:GREGORIAN
METHOD:PUBLISH
X-WR-CALNAME:Southern Voice
X-ORIGINAL-URL:https://southernvoiceband.com
X-WR-CALDESC:Events for Southern Voice
REFRESH-INTERVAL;VALUE=DURATION:PT1H
X-Robots-Tag:noindex
X-PUBLISHED-TTL:PT1H
BEGIN:VTIMEZONE
TZID:America/New_York
BEGIN:DAYLIGHT
TZOFFSETFROM:-0500
TZOFFSETTO:-0400
TZNAME:EDT
DTSTART:20250309T070000
END:DAYLIGHT
BEGIN:STANDARD
TZOFFSETFROM:-0400
TZOFFSETTO:-0500
TZNAME:EST
DTSTART:20251102T060000
END:STANDARD
BEGIN:DAYLIGHT
TZOFFSETFROM:-0500
TZOFFSETTO:-0400
TZNAME:EDT
DTSTART:20260308T070000
END:DAYLIGHT
BEGIN:STANDARD
TZOFFSETFROM:-0400
TZOFFSETTO:-0500
TZNAME:EST
DTSTART:20261101T060000
END:STANDARD
BEGIN:DAYLIGHT
TZOFFSETFROM:-0500
TZOFFSETTO:-0400
TZNAME:EDT
DTSTART:20270314T070000
END:DAYLIGHT
BEGIN:STANDARD
TZOFFSETFROM:-0400
TZOFFSETTO:-0500
TZNAME:EST
DTSTART:20271107T060000
END:STANDARD
END:VTIMEZONE
BEGIN:VEVENT
DTSTART;TZID=America/New_York:20260816T140000
DTEND;TZID=America/New_York:20260816T170000
DTSTAMP:20260420T104826
CREATED:20251117T222003Z
LAST-MODIFIED:20251117T222003Z
UID:3674-1786888800-1786899600@southernvoiceband.com
SUMMARY:Private Rain date
DESCRIPTION:
URL:https://southernvoiceband.com/event/private-rain-date/
LOCATION:CT
END:VEVENT
BEGIN:VEVENT
DTSTART;TZID=America/New_York:20260829T163000
DTEND;TZID=America/New_York:20260829T220000
DTSTAMP:20260420T104826
CREATED:20250901T232100Z
LAST-MODIFIED:20250901T232100Z
UID:3580-1788021000-1788040800@southernvoiceband.com
SUMMARY:Wedding (Scituate RI)
DESCRIPTION:
URL:https://southernvoiceband.com/event/wedding-scituate-ri/
LOCATION:CT
END:VEVENT
BEGIN:VEVENT
DTSTART;TZID=America/New_York:20260911T173000
DTEND;TZID=America/New_York:20260911T193000
DTSTAMP:20260420T104826
CREATED:20260206T175639Z
LAST-MODIFIED:20260206T175639Z
UID:3685-1789147800-1789155000@southernvoiceband.com
SUMMARY:Westbrook Summer Concert (Trio)
DESCRIPTION:
URL:https://southernvoiceband.com/event/westbrook-summer-concert-trio-2/
LOCATION:Westbrook\, 1179 Boston Post Rd\, Westbrook\, 06498\, United States
END:VEVENT
BEGIN:VEVENT
DTSTART;VALUE=DATE:20261003
DTEND;VALUE=DATE:20261005
DTSTAMP:20260420T104826
CREATED:20251020T205049Z
LAST-MODIFIED:20251020T205049Z
UID:3641-1790992800-1791079199@southernvoiceband.com
SUMMARY:Wedding
DESCRIPTION:
URL:https://southernvoiceband.com/event/wedding-3/
LOCATION:CT
END:VEVENT
END:VCALENDAR