BEGIN:VCALENDAR
VERSION:2.0
PRODID:-//Southern Voice - ECPv6.15.11//NONSGML v1.0//EN
CALSCALE:GREGORIAN
METHOD:PUBLISH
X-WR-CALNAME:Southern Voice
X-ORIGINAL-URL:https://southernvoiceband.com
X-WR-CALDESC:Events for Southern Voice
REFRESH-INTERVAL;VALUE=DURATION:PT1H
X-Robots-Tag:noindex
X-PUBLISHED-TTL:PT1H
BEGIN:VTIMEZONE
TZID:America/New_York
BEGIN:DAYLIGHT
TZOFFSETFROM:-0500
TZOFFSETTO:-0400
TZNAME:EDT
DTSTART:20220313T070000
END:DAYLIGHT
BEGIN:STANDARD
TZOFFSETFROM:-0400
TZOFFSETTO:-0500
TZNAME:EST
DTSTART:20221106T060000
END:STANDARD
BEGIN:DAYLIGHT
TZOFFSETFROM:-0500
TZOFFSETTO:-0400
TZNAME:EDT
DTSTART:20230312T070000
END:DAYLIGHT
BEGIN:STANDARD
TZOFFSETFROM:-0400
TZOFFSETTO:-0500
TZNAME:EST
DTSTART:20231105T060000
END:STANDARD
BEGIN:DAYLIGHT
TZOFFSETFROM:-0500
TZOFFSETTO:-0400
TZNAME:EDT
DTSTART:20240310T070000
END:DAYLIGHT
BEGIN:STANDARD
TZOFFSETFROM:-0400
TZOFFSETTO:-0500
TZNAME:EST
DTSTART:20241103T060000
END:STANDARD
END:VTIMEZONE
BEGIN:VEVENT
DTSTART;TZID=America/New_York:20231014T180000
DTEND;TZID=America/New_York:20231014T210000
DTSTAMP:20260421T170256
CREATED:20230224T030502Z
LAST-MODIFIED:20230224T030502Z
UID:2749-1697306400-1697317200@southernvoiceband.com
SUMMARY:Clocktown Brewery (Acoustic)
DESCRIPTION:
URL:https://southernvoiceband.com/event/clocktown-brewery-acoustic-6/
LOCATION:Clocktown Brewery\, 135 South Main St\, Thomaston\, 06787\, United States
END:VEVENT
BEGIN:VEVENT
DTSTART;TZID=America/New_York:20231013T200000
DTEND;TZID=America/New_York:20231013T230000
DTSTAMP:20260421T170256
CREATED:20230715T202806Z
LAST-MODIFIED:20230825T190831Z
UID:2889-1697227200-1697238000@southernvoiceband.com
SUMMARY:The Warehouse at Fairfield Theatre Company
DESCRIPTION:
URL:https://southernvoiceband.com/event/the-warehouse-at-fairfield-theatre-company/
LOCATION:CT
END:VEVENT
BEGIN:VEVENT
DTSTART;TZID=America/New_York:20231012T180000
DTEND;TZID=America/New_York:20231012T210000
DTSTAMP:20260421T170256
CREATED:20230622T010449Z
LAST-MODIFIED:20230622T010449Z
UID:2871-1697133600-1697144400@southernvoiceband.com
SUMMARY:Chute Gates (Annmarie solo)
DESCRIPTION:
URL:https://southernvoiceband.com/event/chute-gates-annmarie-solo-4/
LOCATION:Chute Gates\, 321 Main St\, Terryville\, CT
END:VEVENT
BEGIN:VEVENT
DTSTART;TZID=America/New_York:20231008T170000
DTEND;TZID=America/New_York:20231008T190000
DTSTAMP:20260421T170256
CREATED:20230825T185818Z
LAST-MODIFIED:20230825T190309Z
UID:2910-1696784400-1696791600@southernvoiceband.com
SUMMARY:Greenhouse Tavern (Annmarie Solo)
DESCRIPTION:
URL:https://southernvoiceband.com/event/greenhouse-tavern-annmarie-solo-3/
LOCATION:Greenhouse Cafe & Tavern\, 511 Spielman Hwy\, Burlington\, CT\, 06013
END:VEVENT
BEGIN:VEVENT
DTSTART;TZID=America/New_York:20231007T190000
DTEND;TZID=America/New_York:20231007T223000
DTSTAMP:20260421T170256
CREATED:20230119T000647Z
LAST-MODIFIED:20230119T000647Z
UID:2630-1696705200-1696717800@southernvoiceband.com
SUMMARY:Odetah Camping Resort
DESCRIPTION:
URL:https://southernvoiceband.com/event/odetah-camping-resort/
LOCATION:Odetah Camping Resort\, 38 Bozrah St.\, Bozrah\, CT
END:VEVENT
BEGIN:VEVENT
DTSTART;TZID=America/New_York:20231007T120000
DTEND;TZID=America/New_York:20231007T140000
DTSTAMP:20260421T170256
CREATED:20230602T134131Z
LAST-MODIFIED:20230602T134131Z
UID:2818-1696680000-1696687200@southernvoiceband.com
SUMMARY:The Flour Girl Cafe (Annmarie Solo)
DESCRIPTION:
URL:https://southernvoiceband.com/event/the-flour-girl-cafe-annmarie-solo/
LOCATION:The Flour Girl\, 12 Main St\, Herbron\, CT
END:VEVENT
BEGIN:VEVENT
DTSTART;TZID=America/New_York:20231001T130000
DTEND;TZID=America/New_York:20231001T150000
DTSTAMP:20260421T170256
CREATED:20230825T184921Z
LAST-MODIFIED:20230825T184921Z
UID:2907-1696165200-1696172400@southernvoiceband.com
SUMMARY:Tonn's Marketplace (Annmarie Solo)
DESCRIPTION:
URL:https://southernvoiceband.com/event/tonns-marketplace-annmarie-solo/
LOCATION:Tonn’s Marketplace\, 418 Milford St\, Burlington\, CT\, 06013
END:VEVENT
BEGIN:VEVENT
DTSTART;TZID=America/New_York:20230930T150000
DTEND;TZID=America/New_York:20230930T163000
DTSTAMP:20260421T170257
CREATED:20230622T005916Z
LAST-MODIFIED:20230711T191054Z
UID:2866-1696086000-1696091400@southernvoiceband.com
SUMMARY:The Big E - Dolly's Honky Tonk
DESCRIPTION:More details soon…\nTheBigE.com/Tickets
URL:https://southernvoiceband.com/event/announcement-coming-soon/
LOCATION:CT
END:VEVENT
BEGIN:VEVENT
DTSTART;TZID=America/New_York:20230928T180000
DTEND;TZID=America/New_York:20230928T210000
DTSTAMP:20260421T170257
CREATED:20230622T005446Z
LAST-MODIFIED:20230622T005446Z
UID:2862-1695924000-1695934800@southernvoiceband.com
SUMMARY:Chute Gates (Annmarie Solo)
DESCRIPTION:
URL:https://southernvoiceband.com/event/chute-gates-annmarie-solo-3/
LOCATION:Chute Gates\, 321 Main St\, Terryville\, CT
END:VEVENT
BEGIN:VEVENT
DTSTART;TZID=America/New_York:20230927T140000
DTEND;TZID=America/New_York:20230927T150000
DTSTAMP:20260421T170257
CREATED:20230224T030332Z
LAST-MODIFIED:20230224T030332Z
UID:2747-1695823200-1695826800@southernvoiceband.com
SUMMARY:Private (Annmarie Solo)
DESCRIPTION:
URL:https://southernvoiceband.com/event/private-annmarie-solo-8/
LOCATION:CT
END:VEVENT
BEGIN:VEVENT
DTSTART;TZID=America/New_York:20230924T140000
DTEND;TZID=America/New_York:20230924T170000
DTSTAMP:20260421T170257
CREATED:20230622T004839Z
LAST-MODIFIED:20230622T004839Z
UID:2860-1695564000-1695574800@southernvoiceband.com
SUMMARY:Badsons Beer Co. (Annmarie Solo)
DESCRIPTION:
URL:https://southernvoiceband.com/event/badsons-beer-co-annmarie-solo/
LOCATION:Badsons Beer Co.\, 251 Roosevelt Dr.\, Derby\, CT
END:VEVENT
BEGIN:VEVENT
DTSTART;TZID=America/New_York:20230923T120000
DTEND;TZID=America/New_York:20230923T150000
DTSTAMP:20260421T170257
CREATED:20230602T133854Z
LAST-MODIFIED:20230602T133854Z
UID:2815-1695470400-1695481200@southernvoiceband.com
SUMMARY:Cops and Roders
DESCRIPTION:
URL:https://southernvoiceband.com/event/cops-and-roders/
LOCATION:Cops and Roders\, Washington\, MA
END:VEVENT
BEGIN:VEVENT
DTSTART;TZID=America/New_York:20230922T100000
DTEND;TZID=America/New_York:20230922T120000
DTSTAMP:20260421T170257
CREATED:20230602T133725Z
LAST-MODIFIED:20230602T133725Z
UID:2813-1695376800-1695384000@southernvoiceband.com
SUMMARY:Durham Fair (Acoustic)
DESCRIPTION:
URL:https://southernvoiceband.com/event/durham-fair-acoustic/
LOCATION:CT
END:VEVENT
BEGIN:VEVENT
DTSTART;TZID=America/New_York:20230921T140000
DTEND;TZID=America/New_York:20230921T150000
DTSTAMP:20260421T170257
CREATED:20230220T134202Z
LAST-MODIFIED:20230220T134202Z
UID:2732-1695304800-1695308400@southernvoiceband.com
SUMMARY:Private (Annmarie Solo)
DESCRIPTION:
URL:https://southernvoiceband.com/event/private-annmarie-solo-5/
LOCATION:CT
END:VEVENT
BEGIN:VEVENT
DTSTART;TZID=America/New_York:20230919T173000
DTEND;TZID=America/New_York:20230919T193000
DTSTAMP:20260421T170257
CREATED:20230220T134045Z
LAST-MODIFIED:20230220T134045Z
UID:2730-1695144600-1695151800@southernvoiceband.com
SUMMARY:TPC River Highlands (Members Only)
DESCRIPTION:
URL:https://southernvoiceband.com/event/tpc-river-highlands-members-only-4/
LOCATION:TPC River Highlands\, 1 Golf Club Rd\, Cromwell\, CT
END:VEVENT
BEGIN:VEVENT
DTSTART;TZID=America/New_York:20230917T130000
DTEND;TZID=America/New_York:20230917T160000
DTSTAMP:20260421T170257
CREATED:20230825T184443Z
LAST-MODIFIED:20230825T184443Z
UID:2904-1694955600-1694966400@southernvoiceband.com
SUMMARY:Orange County Fair
DESCRIPTION:
URL:https://southernvoiceband.com/event/orange-county-fair/
LOCATION:Orange County Fair\, 525 Orange Center Rd\, Orange\, CT\, 06477
END:VEVENT
BEGIN:VEVENT
DTSTART;TZID=America/New_York:20230916T113000
DTEND;TZID=America/New_York:20230916T130000
DTSTAMP:20260421T170257
CREATED:20230127T153830Z
LAST-MODIFIED:20230127T153830Z
UID:2658-1694863800-1694869200@southernvoiceband.com
SUMMARY:Watertown Fall Festival (Acoustic)
DESCRIPTION:
URL:https://southernvoiceband.com/event/watertown-fall-festival-acoustic/
LOCATION:Veterans Park\, 570 Nova Scotia Hill Rd\, Watertown\, CT
END:VEVENT
BEGIN:VEVENT
DTSTART;TZID=America/New_York:20230908T143000
DTEND;TZID=America/New_York:20230908T153000
DTSTAMP:20260421T170257
CREATED:20230622T004657Z
LAST-MODIFIED:20230622T004657Z
UID:2857-1694183400-1694187000@southernvoiceband.com
SUMMARY:Private (FL)
DESCRIPTION:
URL:https://southernvoiceband.com/event/private-fl/
LOCATION:CT
END:VEVENT
BEGIN:VEVENT
DTSTART;TZID=America/New_York:20230907T180000
DTEND;TZID=America/New_York:20230907T210000
DTSTAMP:20260421T170257
CREATED:20230622T004600Z
LAST-MODIFIED:20230622T004600Z
UID:2853-1694109600-1694120400@southernvoiceband.com
SUMMARY:Orange Blossom Opry Party on the Patio/Entertainment Showcase (FL)
DESCRIPTION:
URL:https://southernvoiceband.com/event/orange-blossom-opry-party-on-the-patio-entertainment-showcase-fl/
LOCATION:Orange Bloosom Opry\, Southeast 138th Terrace\, Weirsdale\, FL
END:VEVENT
BEGIN:VEVENT
DTSTART;TZID=America/New_York:20230903T190000
DTEND;TZID=America/New_York:20230903T220000
DTSTAMP:20260421T170257
CREATED:20230119T000503Z
LAST-MODIFIED:20230119T000503Z
UID:2628-1693767600-1693778400@southernvoiceband.com
SUMMARY:Bronxfield Country Club (Private)
DESCRIPTION:
URL:https://southernvoiceband.com/event/bronxfield-country-club-private/
LOCATION:CT
END:VEVENT
BEGIN:VEVENT
DTSTART;TZID=America/New_York:20230902T190000
DTEND;TZID=America/New_York:20230902T220000
DTSTAMP:20260421T170257
CREATED:20230119T000330Z
LAST-MODIFIED:20230119T000330Z
UID:2626-1693681200-1693692000@southernvoiceband.com
SUMMARY:Cozy Hills Campground (Campers Only)
DESCRIPTION:
URL:https://southernvoiceband.com/event/cozy-hills-campground-campers-only/
LOCATION:Cozy Hills Campground\, 1311 Bantam Rd\, Bantam\, CT
END:VEVENT
BEGIN:VEVENT
DTSTART;TZID=America/New_York:20230901T183000
DTEND;TZID=America/New_York:20230901T203000
DTSTAMP:20260421T170257
CREATED:20221119T183423Z
LAST-MODIFIED:20230111T130040Z
UID:2561-1693593000-1693600200@southernvoiceband.com
SUMMARY:March Farms Concert Series
DESCRIPTION:
URL:https://southernvoiceband.com/event/march-farms-friends-fridays-summer-concert-series/
LOCATION:March Farms\, 160 Munger Lane\, Bethlehem\, CT\, 06751
END:VEVENT
BEGIN:VEVENT
DTSTART;TZID=America/New_York:20230831T130000
DTEND;TZID=America/New_York:20230831T153000
DTSTAMP:20260421T170257
CREATED:20230622T004737Z
LAST-MODIFIED:20230622T004737Z
UID:2854-1693486800-1693495800@southernvoiceband.com
SUMMARY:Private (Annmarie Solo)
DESCRIPTION:
URL:https://southernvoiceband.com/event/private-annmarie-solo-11/
LOCATION:CT
END:VEVENT
BEGIN:VEVENT
DTSTART;TZID=America/New_York:20230827T150000
DTEND;TZID=America/New_York:20230827T190000
DTSTAMP:20260421T170257
CREATED:20230720T192012Z
LAST-MODIFIED:20230720T192012Z
UID:2901-1693148400-1693162800@southernvoiceband.com
SUMMARY:Newtown Football Team Fundraiser
DESCRIPTION:
URL:https://southernvoiceband.com/event/newtown-football-team-fundraiser/
LOCATION:CT
END:VEVENT
BEGIN:VEVENT
DTSTART;TZID=America/New_York:20230827T100000
DTEND;TZID=America/New_York:20230827T110000
DTSTAMP:20260421T170257
CREATED:20230622T003315Z
LAST-MODIFIED:20230622T003315Z
UID:2850-1693130400-1693134000@southernvoiceband.com
SUMMARY:Awareness Recovery Festival (Acoustic)
DESCRIPTION:
URL:https://southernvoiceband.com/event/awareness-recovery-festival-acoustic/
LOCATION:26 Main St\, 26 Main St\, New Milford\, CT
END:VEVENT
BEGIN:VEVENT
DTSTART;TZID=America/New_York:20230826T190000
DTEND;TZID=America/New_York:20230826T220000
DTSTAMP:20260421T170257
CREATED:20230622T003124Z
LAST-MODIFIED:20230622T003124Z
UID:2847-1693076400-1693087200@southernvoiceband.com
SUMMARY:Sun Outdoors Mystic (Campers Only)
DESCRIPTION:
URL:https://southernvoiceband.com/event/sun-outdoors-mystic-campers-only/
LOCATION:Sun Outdoors Mystic\, 45 Campground Rd\, Old Mystic\, CT
END:VEVENT
BEGIN:VEVENT
DTSTART;TZID=America/New_York:20230825T150000
DTEND;TZID=America/New_York:20230825T160000
DTSTAMP:20260421T170257
CREATED:20230825T192823Z
LAST-MODIFIED:20230825T192823Z
UID:2919-1692975600-1692979200@southernvoiceband.com
SUMMARY:Private (Annmarie Solo FL)
DESCRIPTION:
URL:https://southernvoiceband.com/event/private-annmarie-solo-fl-2/
LOCATION:CT
END:VEVENT
BEGIN:VEVENT
DTSTART;TZID=America/New_York:20230820T180000
DTEND;TZID=America/New_York:20230820T200000
DTSTAMP:20260421T170257
CREATED:20230205T131104Z
LAST-MODIFIED:20230205T131104Z
UID:2677-1692554400-1692561600@southernvoiceband.com
SUMMARY:Wolcott Summer Concert Series
DESCRIPTION:
URL:https://southernvoiceband.com/event/wolcott-summer-concert-series/
LOCATION:Peterson Park\, 123 Mad River Rd\, Wolcott\, CT
END:VEVENT
BEGIN:VEVENT
DTSTART;TZID=America/New_York:20230819T170000
DTEND;TZID=America/New_York:20230819T220000
DTSTAMP:20260421T170257
CREATED:20230119T000136Z
LAST-MODIFIED:20230119T000136Z
UID:2624-1692464400-1692482400@southernvoiceband.com
SUMMARY:Wedding
DESCRIPTION:
URL:https://southernvoiceband.com/event/wedding-2/
LOCATION:CT
END:VEVENT
BEGIN:VEVENT
DTSTART;TZID=America/New_York:20230817T180000
DTEND;TZID=America/New_York:20230817T193000
DTSTAMP:20260421T170257
CREATED:20230119T000033Z
LAST-MODIFIED:20230119T000033Z
UID:2622-1692295200-1692300600@southernvoiceband.com
SUMMARY:Cohasset Mass Summer Concert Series
DESCRIPTION:
URL:https://southernvoiceband.com/event/cohasset-mass-summer-concert-series/
LOCATION:Cohasset Town Common\, 41 Highland Ave\, Cohasset\, MA
END:VEVENT
END:VCALENDAR