BEGIN:VCALENDAR
VERSION:2.0
PRODID:-//Southern Voice - ECPv6.15.11//NONSGML v1.0//EN
CALSCALE:GREGORIAN
METHOD:PUBLISH
X-WR-CALNAME:Southern Voice
X-ORIGINAL-URL:https://southernvoiceband.com
X-WR-CALDESC:Events for Southern Voice
REFRESH-INTERVAL;VALUE=DURATION:PT1H
X-Robots-Tag:noindex
X-PUBLISHED-TTL:PT1H
BEGIN:VTIMEZONE
TZID:America/New_York
BEGIN:DAYLIGHT
TZOFFSETFROM:-0500
TZOFFSETTO:-0400
TZNAME:EDT
DTSTART:20220313T070000
END:DAYLIGHT
BEGIN:STANDARD
TZOFFSETFROM:-0400
TZOFFSETTO:-0500
TZNAME:EST
DTSTART:20221106T060000
END:STANDARD
BEGIN:DAYLIGHT
TZOFFSETFROM:-0500
TZOFFSETTO:-0400
TZNAME:EDT
DTSTART:20230312T070000
END:DAYLIGHT
BEGIN:STANDARD
TZOFFSETFROM:-0400
TZOFFSETTO:-0500
TZNAME:EST
DTSTART:20231105T060000
END:STANDARD
BEGIN:DAYLIGHT
TZOFFSETFROM:-0500
TZOFFSETTO:-0400
TZNAME:EDT
DTSTART:20240310T070000
END:DAYLIGHT
BEGIN:STANDARD
TZOFFSETFROM:-0400
TZOFFSETTO:-0500
TZNAME:EST
DTSTART:20241103T060000
END:STANDARD
END:VTIMEZONE
BEGIN:VEVENT
DTSTART;TZID=America/New_York:20230902T190000
DTEND;TZID=America/New_York:20230902T220000
DTSTAMP:20260421T205003
CREATED:20230119T000330Z
LAST-MODIFIED:20230119T000330Z
UID:2626-1693681200-1693692000@southernvoiceband.com
SUMMARY:Cozy Hills Campground (Campers Only)
DESCRIPTION:
URL:https://southernvoiceband.com/event/cozy-hills-campground-campers-only/
LOCATION:Cozy Hills Campground\, 1311 Bantam Rd\, Bantam\, CT
END:VEVENT
BEGIN:VEVENT
DTSTART;TZID=America/New_York:20230901T183000
DTEND;TZID=America/New_York:20230901T203000
DTSTAMP:20260421T205003
CREATED:20221119T183423Z
LAST-MODIFIED:20230111T130040Z
UID:2561-1693593000-1693600200@southernvoiceband.com
SUMMARY:March Farms Concert Series
DESCRIPTION:
URL:https://southernvoiceband.com/event/march-farms-friends-fridays-summer-concert-series/
LOCATION:March Farms\, 160 Munger Lane\, Bethlehem\, CT\, 06751
END:VEVENT
BEGIN:VEVENT
DTSTART;TZID=America/New_York:20230831T130000
DTEND;TZID=America/New_York:20230831T153000
DTSTAMP:20260421T205003
CREATED:20230622T004737Z
LAST-MODIFIED:20230622T004737Z
UID:2854-1693486800-1693495800@southernvoiceband.com
SUMMARY:Private (Annmarie Solo)
DESCRIPTION:
URL:https://southernvoiceband.com/event/private-annmarie-solo-11/
END:VEVENT
BEGIN:VEVENT
DTSTART;TZID=America/New_York:20230827T150000
DTEND;TZID=America/New_York:20230827T190000
DTSTAMP:20260421T205003
CREATED:20230720T192012Z
LAST-MODIFIED:20230720T192012Z
UID:2901-1693148400-1693162800@southernvoiceband.com
SUMMARY:Newtown Football Team Fundraiser
DESCRIPTION:
URL:https://southernvoiceband.com/event/newtown-football-team-fundraiser/
END:VEVENT
BEGIN:VEVENT
DTSTART;TZID=America/New_York:20230827T100000
DTEND;TZID=America/New_York:20230827T110000
DTSTAMP:20260421T205003
CREATED:20230622T003315Z
LAST-MODIFIED:20230622T003315Z
UID:2850-1693130400-1693134000@southernvoiceband.com
SUMMARY:Awareness Recovery Festival (Acoustic)
DESCRIPTION:
URL:https://southernvoiceband.com/event/awareness-recovery-festival-acoustic/
LOCATION:26 Main St\, 26 Main St\, New Milford\, CT
END:VEVENT
BEGIN:VEVENT
DTSTART;TZID=America/New_York:20230826T190000
DTEND;TZID=America/New_York:20230826T220000
DTSTAMP:20260421T205003
CREATED:20230622T003124Z
LAST-MODIFIED:20230622T003124Z
UID:2847-1693076400-1693087200@southernvoiceband.com
SUMMARY:Sun Outdoors Mystic (Campers Only)
DESCRIPTION:
URL:https://southernvoiceband.com/event/sun-outdoors-mystic-campers-only/
LOCATION:Sun Outdoors Mystic\, 45 Campground Rd\, Old Mystic\, CT
END:VEVENT
BEGIN:VEVENT
DTSTART;TZID=America/New_York:20230825T150000
DTEND;TZID=America/New_York:20230825T160000
DTSTAMP:20260421T205003
CREATED:20230825T192823Z
LAST-MODIFIED:20230825T192823Z
UID:2919-1692975600-1692979200@southernvoiceband.com
SUMMARY:Private (Annmarie Solo FL)
DESCRIPTION:
URL:https://southernvoiceband.com/event/private-annmarie-solo-fl-2/
END:VEVENT
BEGIN:VEVENT
DTSTART;TZID=America/New_York:20230820T180000
DTEND;TZID=America/New_York:20230820T200000
DTSTAMP:20260421T205003
CREATED:20230205T131104Z
LAST-MODIFIED:20230205T131104Z
UID:2677-1692554400-1692561600@southernvoiceband.com
SUMMARY:Wolcott Summer Concert Series
DESCRIPTION:
URL:https://southernvoiceband.com/event/wolcott-summer-concert-series/
LOCATION:Peterson Park\, 123 Mad River Rd\, Wolcott\, CT
END:VEVENT
BEGIN:VEVENT
DTSTART;TZID=America/New_York:20230819T170000
DTEND;TZID=America/New_York:20230819T220000
DTSTAMP:20260421T205003
CREATED:20230119T000136Z
LAST-MODIFIED:20230119T000136Z
UID:2624-1692464400-1692482400@southernvoiceband.com
SUMMARY:Wedding
DESCRIPTION:
URL:https://southernvoiceband.com/event/wedding-2/
END:VEVENT
BEGIN:VEVENT
DTSTART;TZID=America/New_York:20230817T180000
DTEND;TZID=America/New_York:20230817T193000
DTSTAMP:20260421T205003
CREATED:20230119T000033Z
LAST-MODIFIED:20230119T000033Z
UID:2622-1692295200-1692300600@southernvoiceband.com
SUMMARY:Cohasset Mass Summer Concert Series
DESCRIPTION:
URL:https://southernvoiceband.com/event/cohasset-mass-summer-concert-series/
LOCATION:Cohasset Town Common\, 41 Highland Ave\, Cohasset\, MA
END:VEVENT
BEGIN:VEVENT
DTSTART;TZID=America/New_York:20230815T140000
DTEND;TZID=America/New_York:20230815T150000
DTSTAMP:20260421T205003
CREATED:20230622T002910Z
LAST-MODIFIED:20230622T002910Z
UID:2845-1692108000-1692111600@southernvoiceband.com
SUMMARY:Private (Annmarie Solo)
DESCRIPTION:
URL:https://southernvoiceband.com/event/private-annmarie-solo-10/
END:VEVENT
BEGIN:VEVENT
DTSTART;TZID=America/New_York:20230813T190000
DTEND;TZID=America/New_York:20230813T203000
DTSTAMP:20260421T205003
CREATED:20230224T025358Z
LAST-MODIFIED:20230224T025358Z
UID:2736-1691953200-1691958600@southernvoiceband.com
SUMMARY:Enfield Congregational Church Summer Concert Series
DESCRIPTION:
URL:https://southernvoiceband.com/event/enfield-congregational-church-summer-concert-series/
LOCATION:Enfield Congregational Church Summer Series\, 1295 Enfield St\, Enfield\, CT
END:VEVENT
BEGIN:VEVENT
DTSTART;TZID=America/New_York:20230812T160000
DTEND;TZID=America/New_York:20230812T220000
DTSTAMP:20260421T205003
CREATED:20230218T232050Z
LAST-MODIFIED:20230218T232050Z
UID:2681-1691856000-1691877600@southernvoiceband.com
SUMMARY:Wedding (Tivoli NY)
DESCRIPTION:
URL:https://southernvoiceband.com/event/wedding-tivoli-ny/
END:VEVENT
BEGIN:VEVENT
DTSTART;TZID=America/New_York:20230811T193000
DTEND;TZID=America/New_York:20230811T223000
DTSTAMP:20260421T205003
CREATED:20230622T002457Z
LAST-MODIFIED:20230622T002457Z
UID:2841-1691782200-1691793000@southernvoiceband.com
SUMMARY:Chute Gates Restaurant (Acoustic Duo)
DESCRIPTION:
URL:https://southernvoiceband.com/event/chute-gates-restaurant-acoustic-duo/
LOCATION:Chute Gates\, 321 Main St\, Terryville\, CT
END:VEVENT
BEGIN:VEVENT
DTSTART;TZID=America/New_York:20230808T173000
DTEND;TZID=America/New_York:20230808T193000
DTSTAMP:20260421T205003
CREATED:20230220T133823Z
LAST-MODIFIED:20230220T133823Z
UID:2728-1691515800-1691523000@southernvoiceband.com
SUMMARY:TPC River Highlands (Members Only)
DESCRIPTION:
URL:https://southernvoiceband.com/event/tpc-river-highlands-members-only-3/
LOCATION:TPC River Highlands\, 1 Golf Club Rd\, Cromwell\, CT
END:VEVENT
BEGIN:VEVENT
DTSTART;TZID=America/New_York:20230805T183000
DTEND;TZID=America/New_York:20230805T213000
DTSTAMP:20260421T205003
CREATED:20230602T132853Z
LAST-MODIFIED:20230602T132853Z
UID:2807-1691260200-1691271000@southernvoiceband.com
SUMMARY:Private
DESCRIPTION:
URL:https://southernvoiceband.com/event/private-6/
END:VEVENT
BEGIN:VEVENT
DTSTART;TZID=America/New_York:20230801T183000
DTEND;TZID=America/New_York:20230801T203000
DTSTAMP:20260421T205003
CREATED:20230602T132712Z
LAST-MODIFIED:20230602T132738Z
UID:2803-1690914600-1690921800@southernvoiceband.com
SUMMARY:Rocky Hill Summer Concert Series Raindate August 2
DESCRIPTION:
URL:https://southernvoiceband.com/event/rocky-hill-summer-concert-series/
LOCATION:Veterans Memorial Ampitheatre
END:VEVENT
BEGIN:VEVENT
DTSTART;TZID=America/New_York:20230730T140000
DTEND;TZID=America/New_York:20230730T170000
DTSTAMP:20260421T205003
CREATED:20230622T002209Z
LAST-MODIFIED:20230622T002209Z
UID:2838-1690725600-1690736400@southernvoiceband.com
SUMMARY:Badsons Beer Company (Acoustic Duo)
DESCRIPTION:
URL:https://southernvoiceband.com/event/badsons-beer-company-acoustic-duo/
LOCATION:Badsons Beer Co.\, 251 Roosevelt Dr.\, Derby\, CT
END:VEVENT
BEGIN:VEVENT
DTSTART;TZID=America/New_York:20230729T153000
DTEND;TZID=America/New_York:20230729T193000
DTSTAMP:20260421T205003
CREATED:20230118T235834Z
LAST-MODIFIED:20230118T235834Z
UID:2620-1690644600-1690659000@southernvoiceband.com
SUMMARY:Private (Mass)
DESCRIPTION:
URL:https://southernvoiceband.com/event/private-mass/
END:VEVENT
BEGIN:VEVENT
DTSTART;TZID=America/New_York:20230728T210000
DTEND;TZID=America/New_York:20230729T010000
DTSTAMP:20260421T205003
CREATED:20221119T183005Z
LAST-MODIFIED:20221119T183005Z
UID:2559-1690578000-1690592400@southernvoiceband.com
SUMMARY:Comix Roadhouse Mohegan Sun Casino
DESCRIPTION:
URL:https://southernvoiceband.com/event/comix-roadhouse-mohegan-sun-casino-2/
LOCATION:Comix Roadhouse Mohegan Sun\, 1 Mohegan Sun\, Uncasville\, CT\, 06382
END:VEVENT
BEGIN:VEVENT
DTSTART;TZID=America/New_York:20230727T183000
DTEND;TZID=America/New_York:20230727T203000
DTSTAMP:20260421T205003
CREATED:20230622T002005Z
LAST-MODIFIED:20230622T002005Z
UID:2836-1690482600-1690489800@southernvoiceband.com
SUMMARY:Greenhouse Tavern (Annmarie Solo)
DESCRIPTION:
URL:https://southernvoiceband.com/event/greenhouse-tavern-annmarie-solo-2/
LOCATION:Greenhouse Cafe & Tavern\, 511 Spielman Hwy\, Burlington\, CT\, 06013
END:VEVENT
BEGIN:VEVENT
DTSTART;TZID=America/New_York:20230726T140000
DTEND;TZID=America/New_York:20230726T150000
DTSTAMP:20260421T205003
CREATED:20230224T030120Z
LAST-MODIFIED:20230224T030120Z
UID:2745-1690380000-1690383600@southernvoiceband.com
SUMMARY:Private (Annmarie Solo)
DESCRIPTION:
URL:https://southernvoiceband.com/event/private-annmarie-solo-7/
END:VEVENT
BEGIN:VEVENT
DTSTART;TZID=America/New_York:20230725T190000
DTEND;TZID=America/New_York:20230725T203000
DTSTAMP:20260421T205003
CREATED:20221113T165544Z
LAST-MODIFIED:20230117T152633Z
UID:2519-1690311600-1690317000@southernvoiceband.com
SUMMARY:Essex Summer Concert Series (Ivoryton Green)
DESCRIPTION:
URL:https://southernvoiceband.com/event/essex-summer-concert-series-ivoryton-green/
END:VEVENT
BEGIN:VEVENT
DTSTART;TZID=America/New_York:20230724T140000
DTEND;TZID=America/New_York:20230724T150000
DTSTAMP:20260421T205003
CREATED:20230623T182132Z
LAST-MODIFIED:20230623T182132Z
UID:2878-1690207200-1690210800@southernvoiceband.com
SUMMARY:Private Event
DESCRIPTION:
URL:https://southernvoiceband.com/event/private-event-9/
END:VEVENT
BEGIN:VEVENT
DTSTART;TZID=America/New_York:20230723T150000
DTEND;TZID=America/New_York:20230723T170000
DTSTAMP:20260421T205003
CREATED:20230509T205725Z
LAST-MODIFIED:20230602T131802Z
UID:2769-1690124400-1690131600@southernvoiceband.com
SUMMARY:Soul Friends Barnyard Jam
DESCRIPTION:
URL:https://southernvoiceband.com/event/soul-friends-barnyard-jam/
LOCATION:Hillside Equestrian Meadows\, 1260 Woodtick Rd\, Wolcott\, CT
END:VEVENT
BEGIN:VEVENT
DTSTART;TZID=America/New_York:20230722T123000
DTEND;TZID=America/New_York:20230722T153000
DTSTAMP:20260421T205003
CREATED:20230118T234643Z
LAST-MODIFIED:20230118T234732Z
UID:2617-1690029000-1690039800@southernvoiceband.com
SUMMARY:Private (Maine)
DESCRIPTION:
URL:https://southernvoiceband.com/event/private-me/
END:VEVENT
BEGIN:VEVENT
DTSTART;TZID=America/New_York:20230715T180000
DTEND;TZID=America/New_York:20230715T200000
DTSTAMP:20260421T205003
CREATED:20230220T133627Z
LAST-MODIFIED:20230220T133627Z
UID:2726-1689444000-1689451200@southernvoiceband.com
SUMMARY:Private
DESCRIPTION:
URL:https://southernvoiceband.com/event/private-5/
END:VEVENT
BEGIN:VEVENT
DTSTART;TZID=America/New_York:20230714T180000
DTEND;TZID=America/New_York:20230714T210000
DTSTAMP:20260421T205003
CREATED:20230509T211742Z
LAST-MODIFIED:20230509T211742Z
UID:2780-1689357600-1689368400@southernvoiceband.com
SUMMARY:Private (NY)
DESCRIPTION:
URL:https://southernvoiceband.com/event/private-ny/
END:VEVENT
BEGIN:VEVENT
DTSTART;TZID=America/New_York:20230713T183000
DTEND;TZID=America/New_York:20230713T203000
DTSTAMP:20260421T205003
CREATED:20230622T001539Z
LAST-MODIFIED:20230622T001539Z
UID:2833-1689273000-1689280200@southernvoiceband.com
SUMMARY:Greenhouse Tavern (Annmarie Solo)
DESCRIPTION:
URL:https://southernvoiceband.com/event/greenhouse-tavern-annmarie-solo/
LOCATION:Greenhouse Cafe & Tavern\, 511 Spielman Hwy\, Burlington\, CT\, 06013
END:VEVENT
BEGIN:VEVENT
DTSTART;TZID=America/New_York:20230712T180000
DTEND;TZID=America/New_York:20230712T210000
DTSTAMP:20260421T205003
CREATED:20230127T152322Z
LAST-MODIFIED:20230220T133410Z
UID:2655-1689184800-1689195600@southernvoiceband.com
SUMMARY:BBQ Festival @ National Constitution Center (Attendees Only)
DESCRIPTION:
URL:https://southernvoiceband.com/event/bbq-festival-national-constitution-center-attendees-only/
LOCATION:National Constitution Plaza\, 525 Arch St\, Philadelphia\, PA
END:VEVENT
END:VCALENDAR