BEGIN:VCALENDAR
VERSION:2.0
PRODID:-//Southern Voice - ECPv6.15.11//NONSGML v1.0//EN
CALSCALE:GREGORIAN
METHOD:PUBLISH
X-WR-CALNAME:Southern Voice
X-ORIGINAL-URL:https://southernvoiceband.com
X-WR-CALDESC:Events for Southern Voice
REFRESH-INTERVAL;VALUE=DURATION:PT1H
X-Robots-Tag:noindex
X-PUBLISHED-TTL:PT1H
BEGIN:VTIMEZONE
TZID:America/New_York
BEGIN:DAYLIGHT
TZOFFSETFROM:-0500
TZOFFSETTO:-0400
TZNAME:EDT
DTSTART:20220313T070000
END:DAYLIGHT
BEGIN:STANDARD
TZOFFSETFROM:-0400
TZOFFSETTO:-0500
TZNAME:EST
DTSTART:20221106T060000
END:STANDARD
BEGIN:DAYLIGHT
TZOFFSETFROM:-0500
TZOFFSETTO:-0400
TZNAME:EDT
DTSTART:20230312T070000
END:DAYLIGHT
BEGIN:STANDARD
TZOFFSETFROM:-0400
TZOFFSETTO:-0500
TZNAME:EST
DTSTART:20231105T060000
END:STANDARD
BEGIN:DAYLIGHT
TZOFFSETFROM:-0500
TZOFFSETTO:-0400
TZNAME:EDT
DTSTART:20240310T070000
END:DAYLIGHT
BEGIN:STANDARD
TZOFFSETFROM:-0400
TZOFFSETTO:-0500
TZNAME:EST
DTSTART:20241103T060000
END:STANDARD
END:VTIMEZONE
BEGIN:VEVENT
DTSTART;TZID=America/New_York:20230724T140000
DTEND;TZID=America/New_York:20230724T150000
DTSTAMP:20260421T221943
CREATED:20230623T182132Z
LAST-MODIFIED:20230623T182132Z
UID:2878-1690207200-1690210800@southernvoiceband.com
SUMMARY:Private Event
DESCRIPTION:
URL:https://southernvoiceband.com/event/private-event-9/
LOCATION:CT
END:VEVENT
BEGIN:VEVENT
DTSTART;TZID=America/New_York:20230723T150000
DTEND;TZID=America/New_York:20230723T170000
DTSTAMP:20260421T221943
CREATED:20230509T205725Z
LAST-MODIFIED:20230602T131802Z
UID:2769-1690124400-1690131600@southernvoiceband.com
SUMMARY:Soul Friends Barnyard Jam
DESCRIPTION:
URL:https://southernvoiceband.com/event/soul-friends-barnyard-jam/
LOCATION:Hillside Equestrian Meadows\, 1260 Woodtick Rd\, Wolcott\, CT
END:VEVENT
BEGIN:VEVENT
DTSTART;TZID=America/New_York:20230722T123000
DTEND;TZID=America/New_York:20230722T153000
DTSTAMP:20260421T221943
CREATED:20230118T234643Z
LAST-MODIFIED:20230118T234732Z
UID:2617-1690029000-1690039800@southernvoiceband.com
SUMMARY:Private (Maine)
DESCRIPTION:
URL:https://southernvoiceband.com/event/private-me/
LOCATION:CT
END:VEVENT
BEGIN:VEVENT
DTSTART;TZID=America/New_York:20230715T180000
DTEND;TZID=America/New_York:20230715T200000
DTSTAMP:20260421T221943
CREATED:20230220T133627Z
LAST-MODIFIED:20230220T133627Z
UID:2726-1689444000-1689451200@southernvoiceband.com
SUMMARY:Private
DESCRIPTION:
URL:https://southernvoiceband.com/event/private-5/
LOCATION:CT
END:VEVENT
BEGIN:VEVENT
DTSTART;TZID=America/New_York:20230714T180000
DTEND;TZID=America/New_York:20230714T210000
DTSTAMP:20260421T221943
CREATED:20230509T211742Z
LAST-MODIFIED:20230509T211742Z
UID:2780-1689357600-1689368400@southernvoiceband.com
SUMMARY:Private (NY)
DESCRIPTION:
URL:https://southernvoiceband.com/event/private-ny/
LOCATION:CT
END:VEVENT
BEGIN:VEVENT
DTSTART;TZID=America/New_York:20230713T183000
DTEND;TZID=America/New_York:20230713T203000
DTSTAMP:20260421T221943
CREATED:20230622T001539Z
LAST-MODIFIED:20230622T001539Z
UID:2833-1689273000-1689280200@southernvoiceband.com
SUMMARY:Greenhouse Tavern (Annmarie Solo)
DESCRIPTION:
URL:https://southernvoiceband.com/event/greenhouse-tavern-annmarie-solo/
LOCATION:Greenhouse Cafe & Tavern\, 511 Spielman Hwy\, Burlington\, CT\, 06013
END:VEVENT
BEGIN:VEVENT
DTSTART;TZID=America/New_York:20230712T180000
DTEND;TZID=America/New_York:20230712T210000
DTSTAMP:20260421T221943
CREATED:20230127T152322Z
LAST-MODIFIED:20230220T133410Z
UID:2655-1689184800-1689195600@southernvoiceband.com
SUMMARY:BBQ Festival @ National Constitution Center (Attendees Only)
DESCRIPTION:
URL:https://southernvoiceband.com/event/bbq-festival-national-constitution-center-attendees-only/
LOCATION:National Constitution Plaza\, 525 Arch St\, Philadelphia\, PA
END:VEVENT
BEGIN:VEVENT
DTSTART;TZID=America/New_York:20230711T140000
DTEND;TZID=America/New_York:20230711T150000
DTSTAMP:20260421T221943
CREATED:20230622T001319Z
LAST-MODIFIED:20230622T001319Z
UID:2831-1689084000-1689087600@southernvoiceband.com
SUMMARY:Private (Annmarie Solo)
DESCRIPTION:
URL:https://southernvoiceband.com/event/private-annmarie-solo-9/
LOCATION:CT
END:VEVENT
BEGIN:VEVENT
DTSTART;TZID=America/New_York:20230708T130000
DTEND;TZID=America/New_York:20230708T170000
DTSTAMP:20260421T221943
CREATED:20230602T132342Z
LAST-MODIFIED:20230602T132342Z
UID:2801-1688821200-1688835600@southernvoiceband.com
SUMMARY:Private Party
DESCRIPTION:
URL:https://southernvoiceband.com/event/private-party-9/
LOCATION:CT
END:VEVENT
BEGIN:VEVENT
DTSTART;TZID=America/New_York:20230707T193000
DTEND;TZID=America/New_York:20230707T200000
DTSTAMP:20260421T221943
CREATED:20230509T211443Z
LAST-MODIFIED:20230509T211443Z
UID:2777-1688758200-1688760000@southernvoiceband.com
SUMMARY:Hamden Summer Concert Series Opening Act 7:30 P.M.
DESCRIPTION:
URL:https://southernvoiceband.com/event/hamden-summer-concert-series-opening-act-730-p-m/
LOCATION:Town Center Park\, Hamden\, CT
END:VEVENT
BEGIN:VEVENT
DTSTART;TZID=America/New_York:20230706T190000
DTEND;TZID=America/New_York:20230706T210000
DTSTAMP:20260421T221943
CREATED:20230118T233259Z
LAST-MODIFIED:20230118T233259Z
UID:2615-1688670000-1688677200@southernvoiceband.com
SUMMARY:South Windsor Summer Concert Series (Evergreen Walk) Rain date Tuesday July 11
DESCRIPTION:
URL:https://southernvoiceband.com/event/south-windsor-summer-concert-series-evergreen-walk-rain-date-tuesday-july-11/
LOCATION:South Windsor Summer Concert\, 501 Evergreen Way\, South Windsor\, CT
END:VEVENT
BEGIN:VEVENT
DTSTART;TZID=America/New_York:20230704T150000
DTEND;TZID=America/New_York:20230704T180000
DTSTAMP:20260421T221943
CREATED:20230218T235539Z
LAST-MODIFIED:20230402T142000Z
UID:2720-1688482800-1688493600@southernvoiceband.com
SUMMARY:Lake Compounce Amusement Park Summer Concert Series (4th Of July)
DESCRIPTION:We are super excited to be a part of the 2023 Summer Concert Series at Lake Compounce Amusement Parks New Floating stage. Come hang out with us on 4th of July and enjoy the rides\,and live music.
URL:https://southernvoiceband.com/event/special-announcement-soon/
LOCATION:Lake Compounce\, 185 Enterprise Dr\, Bristol\, 06010\, United States
END:VEVENT
BEGIN:VEVENT
DTSTART;TZID=America/New_York:20230703T170000
DTEND;TZID=America/New_York:20230703T210000
DTSTAMP:20260421T221943
CREATED:20230622T001133Z
LAST-MODIFIED:20230622T001133Z
UID:2829-1688403600-1688418000@southernvoiceband.com
SUMMARY:Private (The Ark @ JFK Airport)
DESCRIPTION:
URL:https://southernvoiceband.com/event/private-the-ark-jfk-airport/
LOCATION:CT
END:VEVENT
BEGIN:VEVENT
DTSTART;TZID=America/New_York:20230702T193000
DTEND;TZID=America/New_York:20230702T220000
DTSTAMP:20260421T221943
CREATED:20230218T235451Z
LAST-MODIFIED:20230218T235451Z
UID:2718-1688326200-1688335200@southernvoiceband.com
SUMMARY:Copake Camping Resort (Campers Only) Acoustic
DESCRIPTION:
URL:https://southernvoiceband.com/event/copake-camping-resort-campers-only-acoustic/
LOCATION:CT
END:VEVENT
BEGIN:VEVENT
DTSTART;TZID=America/New_York:20230701T190000
DTEND;TZID=America/New_York:20230701T220000
DTSTAMP:20260421T221943
CREATED:20230118T232944Z
LAST-MODIFIED:20230118T232944Z
UID:2613-1688238000-1688248800@southernvoiceband.com
SUMMARY:Witch Meadow Campground
DESCRIPTION:
URL:https://southernvoiceband.com/event/witch-meadow-campground/
LOCATION:Witch Meadow Lake Campground\, 139 Witch Meadow Rd\, Salem\, CT
END:VEVENT
BEGIN:VEVENT
DTSTART;TZID=America/New_York:20230701T140000
DTEND;TZID=America/New_York:20230701T170000
DTSTAMP:20260421T221943
CREATED:20230625T190923Z
LAST-MODIFIED:20230625T190923Z
UID:2882-1688220000-1688230800@southernvoiceband.com
SUMMARY:Private Party
DESCRIPTION:
URL:https://southernvoiceband.com/event/private-party-10/
LOCATION:CT
END:VEVENT
BEGIN:VEVENT
DTSTART;TZID=America/New_York:20230630T173000
DTEND;TZID=America/New_York:20230630T193000
DTSTAMP:20260421T221943
CREATED:20230402T141906Z
LAST-MODIFIED:20230402T141906Z
UID:2756-1688146200-1688153400@southernvoiceband.com
SUMMARY:TPC The River Highlands (Members Only)
DESCRIPTION:
URL:https://southernvoiceband.com/event/tpc-the-river-highlands-members-only/
LOCATION:CT
END:VEVENT
BEGIN:VEVENT
DTSTART;TZID=America/New_York:20230629T180000
DTEND;TZID=America/New_York:20230629T203000
DTSTAMP:20260421T221943
CREATED:20230602T132218Z
LAST-MODIFIED:20230602T132218Z
UID:2799-1688061600-1688070600@southernvoiceband.com
SUMMARY:Plainville Summer Concert Series
DESCRIPTION:
URL:https://southernvoiceband.com/event/plainville-summer-concert-series/
LOCATION:Norton Park\, 72 Norton Trail\, Plainville\, CT
END:VEVENT
BEGIN:VEVENT
DTSTART;TZID=America/New_York:20230628T190000
DTEND;TZID=America/New_York:20230628T203000
DTSTAMP:20260421T221943
CREATED:20221113T165024Z
LAST-MODIFIED:20221113T165024Z
UID:2517-1687978800-1687984200@southernvoiceband.com
SUMMARY:Prospect Summer Concert Series
DESCRIPTION:
URL:https://southernvoiceband.com/event/prospect-summer-concert-series-2/
LOCATION:Prospect Green\, 12 Center Street\, Prospect\, CT\, 06712\, United States
END:VEVENT
BEGIN:VEVENT
DTSTART;TZID=America/New_York:20230627T180000
DTEND;TZID=America/New_York:20230627T200000
DTSTAMP:20260421T221943
CREATED:20230623T181714Z
LAST-MODIFIED:20230623T181714Z
UID:2875-1687888800-1687896000@southernvoiceband.com
SUMMARY:Rain Date for Goshen Summer Concert
DESCRIPTION:Original event: https://southernvoiceband.com/event/goshen-summer-concert-series-acoustic/
URL:https://southernvoiceband.com/event/rain-date-for-goshen-summer-concert/
LOCATION:Camp Cochipianee\, 291 Beach St\, Goshen\, CT\, 06756
END:VEVENT
BEGIN:VEVENT
DTSTART;TZID=America/New_York:20230627T143000
DTEND;TZID=America/New_York:20230627T150000
DTSTAMP:20260421T221943
CREATED:20230218T235338Z
LAST-MODIFIED:20230218T235338Z
UID:2716-1687876200-1687878000@southernvoiceband.com
SUMMARY:Private (Annmarie Solo)
DESCRIPTION:
URL:https://southernvoiceband.com/event/private-annmarie-solo-4/
LOCATION:CT
END:VEVENT
BEGIN:VEVENT
DTSTART;TZID=America/New_York:20230626T180000
DTEND;TZID=America/New_York:20230626T200000
DTSTAMP:20260421T221943
CREATED:20221113T164920Z
LAST-MODIFIED:20230623T181529Z
UID:2515-1687802400-1687809600@southernvoiceband.com
SUMMARY:Goshen Summer Concert Series (Acoustic)
DESCRIPTION:
URL:https://southernvoiceband.com/event/goshen-summer-concert-series-acoustic/
LOCATION:Camp Cochipianee\, 291 Beach St\, Goshen\, CT\, 06756
END:VEVENT
BEGIN:VEVENT
DTSTART;TZID=America/New_York:20230624T183000
DTEND;TZID=America/New_York:20230624T213000
DTSTAMP:20260421T221943
CREATED:20230509T211150Z
LAST-MODIFIED:20230602T132009Z
UID:2774-1687631400-1687642200@southernvoiceband.com
SUMMARY:Bishop Orchards Farm Market and Winery (Acoustic)
DESCRIPTION:
URL:https://southernvoiceband.com/event/bishop-orchards-farm-market-and-winery-acoustic/
LOCATION:Bishop Orchards Farm Market & Winery\, 1355 Boston Post Rd\, Guilford\, CT
END:VEVENT
BEGIN:VEVENT
DTSTART;TZID=America/New_York:20230623T180000
DTEND;TZID=America/New_York:20230623T210000
DTSTAMP:20260421T221943
CREATED:20230218T235243Z
LAST-MODIFIED:20230511T202418Z
UID:2713-1687543200-1687554000@southernvoiceband.com
SUMMARY:Whiskey & Whiskers A benefit for Branford Compassion Club
DESCRIPTION:A benefit for Branford Compassion Club. Live music by Southern Voice acoustic trio with special guest vocalist Jen Morgajna. Line Dancing instruction by Steps and Sounds. Honorees CT Media Personality Renee DiNino and cat rescuer extraordinary Stacy Attenburg.
URL:https://southernvoiceband.com/event/private-4/
LOCATION:Orchard Yacht Country Club\, 294 Pine Orchard Rd\, Branford\, CT
END:VEVENT
BEGIN:VEVENT
DTSTART;TZID=America/New_York:20230622T180000
DTEND;TZID=America/New_York:20230622T210000
DTSTAMP:20260421T221943
CREATED:20230622T002626Z
LAST-MODIFIED:20230622T002626Z
UID:2843-1687456800-1687467600@southernvoiceband.com
SUMMARY:Chute Gates (Annmarie Solo)
DESCRIPTION:
URL:https://southernvoiceband.com/event/chute-gates-annmarie-solo-2/
LOCATION:Chute Gates\, 321 Main St\, Terryville\, CT
END:VEVENT
BEGIN:VEVENT
DTSTART;TZID=America/New_York:20230617T180000
DTEND;TZID=America/New_York:20230617T200000
DTSTAMP:20260421T221943
CREATED:20230129T212522Z
LAST-MODIFIED:20230402T141730Z
UID:2660-1687024800-1687032000@southernvoiceband.com
SUMMARY:Private
DESCRIPTION:
URL:https://southernvoiceband.com/event/private-2/
LOCATION:CT
END:VEVENT
BEGIN:VEVENT
DTSTART;TZID=America/New_York:20230616T180000
DTEND;TZID=America/New_York:20230616T210000
DTSTAMP:20260421T221943
CREATED:20230218T235048Z
LAST-MODIFIED:20230218T235048Z
UID:2711-1686938400-1686949200@southernvoiceband.com
SUMMARY:Jesse Camille's Restaurant (Annmarie Solo)
DESCRIPTION:
URL:https://southernvoiceband.com/event/jesse-camilles-restaurant-annmarie-solo/
LOCATION:Jesse Camille’s Restaurant\, 615 North Church St Rte 63\, Naugatuck\, CT
END:VEVENT
BEGIN:VEVENT
DTSTART;TZID=America/New_York:20230615T180000
DTEND;TZID=America/New_York:20230615T200000
DTSTAMP:20260421T221943
CREATED:20221119T184603Z
LAST-MODIFIED:20221119T184603Z
UID:2564-1686852000-1686859200@southernvoiceband.com
SUMMARY:Sturbridge Summer Concert Series
DESCRIPTION:
URL:https://southernvoiceband.com/event/sturbridge-summer-concert-series/
LOCATION:Sturbridge Common\, 6 Chamberlain Ave\, Sturbridge\, MA
END:VEVENT
BEGIN:VEVENT
DTSTART;TZID=America/New_York:20230611T120000
DTEND;TZID=America/New_York:20230611T150000
DTSTAMP:20260421T221943
CREATED:20230602T131926Z
LAST-MODIFIED:20230602T131926Z
UID:2797-1686484800-1686495600@southernvoiceband.com
SUMMARY:Private (Patchogue NY)
DESCRIPTION:
URL:https://southernvoiceband.com/event/private-patchogue-ny/
LOCATION:CT
END:VEVENT
BEGIN:VEVENT
DTSTART;TZID=America/New_York:20230610T150000
DTEND;TZID=America/New_York:20230610T180000
DTSTAMP:20260421T221943
CREATED:20230509T205831Z
LAST-MODIFIED:20230509T205831Z
UID:2772-1686409200-1686420000@southernvoiceband.com
SUMMARY:Private Graduation Party
DESCRIPTION:
URL:https://southernvoiceband.com/event/private-graduation-party/
LOCATION:CT
END:VEVENT
END:VCALENDAR