BEGIN:VCALENDAR
VERSION:2.0
PRODID:-//Southern Voice - ECPv6.15.11//NONSGML v1.0//EN
CALSCALE:GREGORIAN
METHOD:PUBLISH
X-WR-CALNAME:Southern Voice
X-ORIGINAL-URL:https://southernvoiceband.com
X-WR-CALDESC:Events for Southern Voice
REFRESH-INTERVAL;VALUE=DURATION:PT1H
X-Robots-Tag:noindex
X-PUBLISHED-TTL:PT1H
BEGIN:VTIMEZONE
TZID:America/New_York
BEGIN:DAYLIGHT
TZOFFSETFROM:-0500
TZOFFSETTO:-0400
TZNAME:EDT
DTSTART:20220313T070000
END:DAYLIGHT
BEGIN:STANDARD
TZOFFSETFROM:-0400
TZOFFSETTO:-0500
TZNAME:EST
DTSTART:20221106T060000
END:STANDARD
BEGIN:DAYLIGHT
TZOFFSETFROM:-0500
TZOFFSETTO:-0400
TZNAME:EDT
DTSTART:20230312T070000
END:DAYLIGHT
BEGIN:STANDARD
TZOFFSETFROM:-0400
TZOFFSETTO:-0500
TZNAME:EST
DTSTART:20231105T060000
END:STANDARD
BEGIN:DAYLIGHT
TZOFFSETFROM:-0500
TZOFFSETTO:-0400
TZNAME:EDT
DTSTART:20240310T070000
END:DAYLIGHT
BEGIN:STANDARD
TZOFFSETFROM:-0400
TZOFFSETTO:-0500
TZNAME:EST
DTSTART:20241103T060000
END:STANDARD
END:VTIMEZONE
BEGIN:VEVENT
DTSTART;TZID=America/New_York:20230629T180000
DTEND;TZID=America/New_York:20230629T203000
DTSTAMP:20260422T040440
CREATED:20230602T132218Z
LAST-MODIFIED:20230602T132218Z
UID:2799-1688061600-1688070600@southernvoiceband.com
SUMMARY:Plainville Summer Concert Series
DESCRIPTION:
URL:https://southernvoiceband.com/event/plainville-summer-concert-series/
LOCATION:Norton Park\, 72 Norton Trail\, Plainville\, CT
END:VEVENT
BEGIN:VEVENT
DTSTART;TZID=America/New_York:20230628T190000
DTEND;TZID=America/New_York:20230628T203000
DTSTAMP:20260422T040440
CREATED:20221113T165024Z
LAST-MODIFIED:20221113T165024Z
UID:2517-1687978800-1687984200@southernvoiceband.com
SUMMARY:Prospect Summer Concert Series
DESCRIPTION:
URL:https://southernvoiceband.com/event/prospect-summer-concert-series-2/
LOCATION:Prospect Green\, 12 Center Street\, Prospect\, CT\, 06712\, United States
END:VEVENT
BEGIN:VEVENT
DTSTART;TZID=America/New_York:20230627T180000
DTEND;TZID=America/New_York:20230627T200000
DTSTAMP:20260422T040441
CREATED:20230623T181714Z
LAST-MODIFIED:20230623T181714Z
UID:2875-1687888800-1687896000@southernvoiceband.com
SUMMARY:Rain Date for Goshen Summer Concert
DESCRIPTION:Original event: https://southernvoiceband.com/event/goshen-summer-concert-series-acoustic/
URL:https://southernvoiceband.com/event/rain-date-for-goshen-summer-concert/
LOCATION:Camp Cochipianee\, 291 Beach St\, Goshen\, CT\, 06756
END:VEVENT
BEGIN:VEVENT
DTSTART;TZID=America/New_York:20230627T143000
DTEND;TZID=America/New_York:20230627T150000
DTSTAMP:20260422T040441
CREATED:20230218T235338Z
LAST-MODIFIED:20230218T235338Z
UID:2716-1687876200-1687878000@southernvoiceband.com
SUMMARY:Private (Annmarie Solo)
DESCRIPTION:
URL:https://southernvoiceband.com/event/private-annmarie-solo-4/
LOCATION:CT
END:VEVENT
BEGIN:VEVENT
DTSTART;TZID=America/New_York:20230626T180000
DTEND;TZID=America/New_York:20230626T200000
DTSTAMP:20260422T040441
CREATED:20221113T164920Z
LAST-MODIFIED:20230623T181529Z
UID:2515-1687802400-1687809600@southernvoiceband.com
SUMMARY:Goshen Summer Concert Series (Acoustic)
DESCRIPTION:
URL:https://southernvoiceband.com/event/goshen-summer-concert-series-acoustic/
LOCATION:Camp Cochipianee\, 291 Beach St\, Goshen\, CT\, 06756
END:VEVENT
BEGIN:VEVENT
DTSTART;TZID=America/New_York:20230624T183000
DTEND;TZID=America/New_York:20230624T213000
DTSTAMP:20260422T040441
CREATED:20230509T211150Z
LAST-MODIFIED:20230602T132009Z
UID:2774-1687631400-1687642200@southernvoiceband.com
SUMMARY:Bishop Orchards Farm Market and Winery (Acoustic)
DESCRIPTION:
URL:https://southernvoiceband.com/event/bishop-orchards-farm-market-and-winery-acoustic/
LOCATION:Bishop Orchards Farm Market & Winery\, 1355 Boston Post Rd\, Guilford\, CT
END:VEVENT
BEGIN:VEVENT
DTSTART;TZID=America/New_York:20230623T180000
DTEND;TZID=America/New_York:20230623T210000
DTSTAMP:20260422T040441
CREATED:20230218T235243Z
LAST-MODIFIED:20230511T202418Z
UID:2713-1687543200-1687554000@southernvoiceband.com
SUMMARY:Whiskey & Whiskers A benefit for Branford Compassion Club
DESCRIPTION:A benefit for Branford Compassion Club. Live music by Southern Voice acoustic trio with special guest vocalist Jen Morgajna. Line Dancing instruction by Steps and Sounds. Honorees CT Media Personality Renee DiNino and cat rescuer extraordinary Stacy Attenburg.
URL:https://southernvoiceband.com/event/private-4/
LOCATION:Orchard Yacht Country Club\, 294 Pine Orchard Rd\, Branford\, CT
END:VEVENT
BEGIN:VEVENT
DTSTART;TZID=America/New_York:20230622T180000
DTEND;TZID=America/New_York:20230622T210000
DTSTAMP:20260422T040441
CREATED:20230622T002626Z
LAST-MODIFIED:20230622T002626Z
UID:2843-1687456800-1687467600@southernvoiceband.com
SUMMARY:Chute Gates (Annmarie Solo)
DESCRIPTION:
URL:https://southernvoiceband.com/event/chute-gates-annmarie-solo-2/
LOCATION:Chute Gates\, 321 Main St\, Terryville\, CT
END:VEVENT
BEGIN:VEVENT
DTSTART;TZID=America/New_York:20230617T180000
DTEND;TZID=America/New_York:20230617T200000
DTSTAMP:20260422T040441
CREATED:20230129T212522Z
LAST-MODIFIED:20230402T141730Z
UID:2660-1687024800-1687032000@southernvoiceband.com
SUMMARY:Private
DESCRIPTION:
URL:https://southernvoiceband.com/event/private-2/
LOCATION:CT
END:VEVENT
BEGIN:VEVENT
DTSTART;TZID=America/New_York:20230616T180000
DTEND;TZID=America/New_York:20230616T210000
DTSTAMP:20260422T040441
CREATED:20230218T235048Z
LAST-MODIFIED:20230218T235048Z
UID:2711-1686938400-1686949200@southernvoiceband.com
SUMMARY:Jesse Camille's Restaurant (Annmarie Solo)
DESCRIPTION:
URL:https://southernvoiceband.com/event/jesse-camilles-restaurant-annmarie-solo/
LOCATION:Jesse Camille’s Restaurant\, 615 North Church St Rte 63\, Naugatuck\, CT
END:VEVENT
BEGIN:VEVENT
DTSTART;TZID=America/New_York:20230615T180000
DTEND;TZID=America/New_York:20230615T200000
DTSTAMP:20260422T040441
CREATED:20221119T184603Z
LAST-MODIFIED:20221119T184603Z
UID:2564-1686852000-1686859200@southernvoiceband.com
SUMMARY:Sturbridge Summer Concert Series
DESCRIPTION:
URL:https://southernvoiceband.com/event/sturbridge-summer-concert-series/
LOCATION:Sturbridge Common\, 6 Chamberlain Ave\, Sturbridge\, MA
END:VEVENT
BEGIN:VEVENT
DTSTART;TZID=America/New_York:20230611T120000
DTEND;TZID=America/New_York:20230611T150000
DTSTAMP:20260422T040441
CREATED:20230602T131926Z
LAST-MODIFIED:20230602T131926Z
UID:2797-1686484800-1686495600@southernvoiceband.com
SUMMARY:Private (Patchogue NY)
DESCRIPTION:
URL:https://southernvoiceband.com/event/private-patchogue-ny/
LOCATION:CT
END:VEVENT
BEGIN:VEVENT
DTSTART;TZID=America/New_York:20230610T150000
DTEND;TZID=America/New_York:20230610T180000
DTSTAMP:20260422T040441
CREATED:20230509T205831Z
LAST-MODIFIED:20230509T205831Z
UID:2772-1686409200-1686420000@southernvoiceband.com
SUMMARY:Private Graduation Party
DESCRIPTION:
URL:https://southernvoiceband.com/event/private-graduation-party/
LOCATION:CT
END:VEVENT
BEGIN:VEVENT
DTSTART;TZID=America/New_York:20230609T211500
DTEND;TZID=America/New_York:20230610T010000
DTSTAMP:20260422T040441
CREATED:20221005T160000Z
LAST-MODIFIED:20221005T160000Z
UID:2442-1686345300-1686358800@southernvoiceband.com
SUMMARY:Comix Roadhouse (Mohegan Sun Casino)
DESCRIPTION:
URL:https://southernvoiceband.com/event/comix-roadhouse-mohegan-sun-casino/
LOCATION:Comix Roadhouse Mohegan Sun\, 1 Mohegan Sun\, Uncasville\, CT\, 06382
END:VEVENT
BEGIN:VEVENT
DTSTART;TZID=America/New_York:20230608T180000
DTEND;TZID=America/New_York:20230608T210000
DTSTAMP:20260422T040441
CREATED:20230205T130752Z
LAST-MODIFIED:20230205T130752Z
UID:2675-1686247200-1686258000@southernvoiceband.com
SUMMARY:Newington Goes Country
DESCRIPTION:
URL:https://southernvoiceband.com/event/newington-goes-country/
LOCATION:Mills Pond Park\, 14 E Hill Road\, Canton\, CT\, 06019\, United States
END:VEVENT
BEGIN:VEVENT
DTSTART;TZID=America/New_York:20230606T173000
DTEND;TZID=America/New_York:20230606T193000
DTSTAMP:20260422T040441
CREATED:20230218T234900Z
LAST-MODIFIED:20230218T234900Z
UID:2709-1686072600-1686079800@southernvoiceband.com
SUMMARY:TPC River Highlands (Members Only)
DESCRIPTION:
URL:https://southernvoiceband.com/event/tpc-river-highlands-members-only-2/
LOCATION:TPC River Highlands\, 1 Golf Club Rd\, Cromwell\, CT
END:VEVENT
BEGIN:VEVENT
DTSTART;TZID=America/New_York:20230603T160000
DTEND;TZID=America/New_York:20230603T190000
DTSTAMP:20260422T040441
CREATED:20230602T133113Z
LAST-MODIFIED:20230602T133113Z
UID:2809-1685808000-1685818800@southernvoiceband.com
SUMMARY:Private
DESCRIPTION:
URL:https://southernvoiceband.com/event/private-3/
LOCATION:CT
END:VEVENT
BEGIN:VEVENT
DTSTART;TZID=America/New_York:20230602T193000
DTEND;TZID=America/New_York:20230602T223000
DTSTAMP:20260422T040441
CREATED:20230402T141555Z
LAST-MODIFIED:20230402T141555Z
UID:2754-1685734200-1685745000@southernvoiceband.com
SUMMARY:Deemans Bar & Grill (Annmarie Solo)
DESCRIPTION:
URL:https://southernvoiceband.com/event/deemans-bar-grill-annmarie-solo/
LOCATION:Deemans Bar Grill\, 1370 New Haven Rd\, Naugatuck\, CT\, 06706\, United States
END:VEVENT
BEGIN:VEVENT
DTSTART;TZID=America/New_York:20230601T180000
DTEND;TZID=America/New_York:20230601T210000
DTSTAMP:20260422T040441
CREATED:20230509T205212Z
LAST-MODIFIED:20230509T205212Z
UID:2766-1685642400-1685653200@southernvoiceband.com
SUMMARY:Chute Gates (Annmarie solo)
DESCRIPTION:
URL:https://southernvoiceband.com/event/chute-gates-annmarie-solo/
LOCATION:Chute Gates\, 321 Main St\, Terryville\, CT
END:VEVENT
BEGIN:VEVENT
DTSTART;TZID=America/New_York:20230530T140000
DTEND;TZID=America/New_York:20230530T150000
DTSTAMP:20260422T040441
CREATED:20230224T025747Z
LAST-MODIFIED:20230224T025747Z
UID:2741-1685455200-1685458800@southernvoiceband.com
SUMMARY:Private (Annmarie Solo)
DESCRIPTION:
URL:https://southernvoiceband.com/event/private-annmarie-solo-6/
LOCATION:CT
END:VEVENT
BEGIN:VEVENT
DTSTART;TZID=America/New_York:20230528T170000
DTEND;TZID=America/New_York:20230528T200000
DTSTAMP:20260422T040441
CREATED:20230124T030859Z
LAST-MODIFIED:20230124T031302Z
UID:2638-1685293200-1685304000@southernvoiceband.com
SUMMARY:Patridge Hollow Campground (Memorial Day)
DESCRIPTION:
URL:https://southernvoiceband.com/event/patridge-hollow-campground/
LOCATION:Patridge Hollow Campground\, 72 Sutcliff Rd.\, Monson\, MA\, 01057
END:VEVENT
BEGIN:VEVENT
DTSTART;TZID=America/New_York:20230525T153000
DTEND;TZID=America/New_York:20230525T163000
DTSTAMP:20260422T040441
CREATED:20230218T234438Z
LAST-MODIFIED:20230218T234438Z
UID:2707-1685028600-1685032200@southernvoiceband.com
SUMMARY:The Atrium Of Gainsville (Annmarie Solo Private)
DESCRIPTION:
URL:https://southernvoiceband.com/event/the-atrium-of-gainsville-annmarie-solo-private/
LOCATION:CT
END:VEVENT
BEGIN:VEVENT
DTSTART;TZID=America/New_York:20230522T140000
DTEND;TZID=America/New_York:20230522T150000
DTSTAMP:20260422T040441
CREATED:20230224T025626Z
LAST-MODIFIED:20230224T025626Z
UID:2739-1684764000-1684767600@southernvoiceband.com
SUMMARY:Paddock Ridge (Annmarie Solo) FL
DESCRIPTION:
URL:https://southernvoiceband.com/event/paddock-ridge-annmarie-solo-fl/
LOCATION:CT
END:VEVENT
BEGIN:VEVENT
DTSTART;TZID=America/New_York:20230522T140000
DTEND;TZID=America/New_York:20230522T150000
DTSTAMP:20260422T040441
CREATED:20230218T234350Z
LAST-MODIFIED:20230218T234350Z
UID:2705-1684764000-1684767600@southernvoiceband.com
SUMMARY:Paddock Ridge Ocala (Private)
DESCRIPTION:
URL:https://southernvoiceband.com/event/paddock-ridge-ocala-private/
LOCATION:CT
END:VEVENT
BEGIN:VEVENT
DTSTART;TZID=America/New_York:20230513T170000
DTEND;TZID=America/New_York:20230513T200000
DTSTAMP:20260422T040441
CREATED:20221119T182759Z
LAST-MODIFIED:20230218T234258Z
UID:2557-1683997200-1684008000@southernvoiceband.com
SUMMARY:Private (Muzzy Field)
DESCRIPTION:
URL:https://southernvoiceband.com/event/clocktown-brewery-acoustic-3/
LOCATION:CT
END:VEVENT
BEGIN:VEVENT
DTSTART;TZID=America/New_York:20230512T183000
DTEND;TZID=America/New_York:20230512T213000
DTSTAMP:20260422T040441
CREATED:20230511T030733Z
LAST-MODIFIED:20230511T030733Z
UID:2791-1683916200-1683927000@southernvoiceband.com
SUMMARY:Jesse Camille's Restaurant (Annmarie Solo)
DESCRIPTION:Come on out for great food\, drinks\, and music.
URL:https://southernvoiceband.com/event/jesse-camilles-restaurant-annmarie-solo-2/
LOCATION:Jesse Camille’s Restaurant\, 615 North Church St Rte 63\, Naugatuck\, CT
END:VEVENT
BEGIN:VEVENT
DTSTART;TZID=America/New_York:20230512T160000
DTEND;TZID=America/New_York:20230512T170000
DTSTAMP:20260422T040441
CREATED:20230218T234131Z
LAST-MODIFIED:20230218T234131Z
UID:2702-1683907200-1683910800@southernvoiceband.com
SUMMARY:Private (Annmarie Solo)
DESCRIPTION:
URL:https://southernvoiceband.com/event/private-annmarie-solo-3/
LOCATION:CT
END:VEVENT
BEGIN:VEVENT
DTSTART;TZID=America/New_York:20230506T180000
DTEND;TZID=America/New_York:20230506T210000
DTSTAMP:20260422T040441
CREATED:20230118T232742Z
LAST-MODIFIED:20230118T232742Z
UID:2611-1683396000-1683406800@southernvoiceband.com
SUMMARY:Nick's Country Kitchen (Annmarie Solo)
DESCRIPTION:
URL:https://southernvoiceband.com/event/nicks-country-kitchen-annmarie-solo-2/
LOCATION:Nick’s Country Kitchen\, 3G Flanders Rd.\, Bethleham\, CT
END:VEVENT
BEGIN:VEVENT
DTSTART;TZID=America/New_York:20230505T173000
DTEND;TZID=America/New_York:20230505T193000
DTSTAMP:20260422T040441
CREATED:20230218T233248Z
LAST-MODIFIED:20230218T233248Z
UID:2697-1683307800-1683315000@southernvoiceband.com
SUMMARY:TPC River Highlands (Members Only)
DESCRIPTION:
URL:https://southernvoiceband.com/event/tpc-river-highlands-members-only/
LOCATION:TPC River Highlands\, 1 Golf Club Rd\, Cromwell\, CT
END:VEVENT
BEGIN:VEVENT
DTSTART;TZID=America/New_York:20230429T140000
DTEND;TZID=America/New_York:20230429T170000
DTSTAMP:20260422T040441
CREATED:20230127T151305Z
LAST-MODIFIED:20230127T151305Z
UID:2651-1682776800-1682787600@southernvoiceband.com
SUMMARY:Trinity College (Private)
DESCRIPTION:
URL:https://southernvoiceband.com/event/trinity-college-private/
LOCATION:CT
END:VEVENT
END:VCALENDAR