BEGIN:VCALENDAR
VERSION:2.0
PRODID:-//Southern Voice - ECPv6.15.11//NONSGML v1.0//EN
CALSCALE:GREGORIAN
METHOD:PUBLISH
X-WR-CALNAME:Southern Voice
X-ORIGINAL-URL:https://southernvoiceband.com
X-WR-CALDESC:Events for Southern Voice
REFRESH-INTERVAL;VALUE=DURATION:PT1H
X-Robots-Tag:noindex
X-PUBLISHED-TTL:PT1H
BEGIN:VTIMEZONE
TZID:America/New_York
BEGIN:DAYLIGHT
TZOFFSETFROM:-0500
TZOFFSETTO:-0400
TZNAME:EDT
DTSTART:20210314T070000
END:DAYLIGHT
BEGIN:STANDARD
TZOFFSETFROM:-0400
TZOFFSETTO:-0500
TZNAME:EST
DTSTART:20211107T060000
END:STANDARD
BEGIN:DAYLIGHT
TZOFFSETFROM:-0500
TZOFFSETTO:-0400
TZNAME:EDT
DTSTART:20220313T070000
END:DAYLIGHT
BEGIN:STANDARD
TZOFFSETFROM:-0400
TZOFFSETTO:-0500
TZNAME:EST
DTSTART:20221106T060000
END:STANDARD
BEGIN:DAYLIGHT
TZOFFSETFROM:-0500
TZOFFSETTO:-0400
TZNAME:EDT
DTSTART:20230312T070000
END:DAYLIGHT
BEGIN:STANDARD
TZOFFSETFROM:-0400
TZOFFSETTO:-0500
TZNAME:EST
DTSTART:20231105T060000
END:STANDARD
BEGIN:DAYLIGHT
TZOFFSETFROM:-0500
TZOFFSETTO:-0400
TZNAME:EDT
DTSTART:20240310T070000
END:DAYLIGHT
BEGIN:STANDARD
TZOFFSETFROM:-0400
TZOFFSETTO:-0500
TZNAME:EST
DTSTART:20241103T060000
END:STANDARD
END:VTIMEZONE
BEGIN:VEVENT
DTSTART;TZID=America/New_York:20230404T140000
DTEND;TZID=America/New_York:20230404T150000
DTSTAMP:20260422T062907
CREATED:20230218T232851Z
LAST-MODIFIED:20230218T232851Z
UID:2691-1680616800-1680620400@southernvoiceband.com
SUMMARY:Private (Annmarie Solo)
DESCRIPTION:
URL:https://southernvoiceband.com/event/private-annmarie-solo-2/
LOCATION:CT
END:VEVENT
BEGIN:VEVENT
DTSTART;TZID=America/New_York:20230402T140000
DTEND;TZID=America/New_York:20230402T150000
DTSTAMP:20260422T062907
CREATED:20230218T232747Z
LAST-MODIFIED:20230218T232747Z
UID:2689-1680444000-1680447600@southernvoiceband.com
SUMMARY:Private (Annmarie Solo)
DESCRIPTION:
URL:https://southernvoiceband.com/event/private-annmarie-solo/
LOCATION:CT
END:VEVENT
BEGIN:VEVENT
DTSTART;TZID=America/New_York:20230324T153000
DTEND;TZID=America/New_York:20230324T163000
DTSTAMP:20260422T062907
CREATED:20230218T232619Z
LAST-MODIFIED:20230218T232619Z
UID:2687-1679671800-1679675400@southernvoiceband.com
SUMMARY:The Atrium Gainsville FL (AM Solo Private)
DESCRIPTION:
URL:https://southernvoiceband.com/event/the-atrium-gainsville-fl-am-solo-private/
LOCATION:CT
END:VEVENT
BEGIN:VEVENT
DTSTART;TZID=America/New_York:20230311T193000
DTEND;TZID=America/New_York:20230311T233000
DTSTAMP:20260422T062907
CREATED:20230111T132936Z
LAST-MODIFIED:20230111T132936Z
UID:2587-1678563000-1678577400@southernvoiceband.com
SUMMARY:Hermatige Club at Haystack Mountain (Private)
DESCRIPTION:
URL:https://southernvoiceband.com/event/hermatige-club-at-haystack-mountain-private/
LOCATION:CT
END:VEVENT
BEGIN:VEVENT
DTSTART;TZID=America/New_York:20230310T190000
DTEND;TZID=America/New_York:20230310T220000
DTSTAMP:20260422T062907
CREATED:20230118T212218Z
LAST-MODIFIED:20230118T212218Z
UID:2600-1678474800-1678485600@southernvoiceband.com
SUMMARY:Retro Grub and Pub (duo)
DESCRIPTION:
URL:https://southernvoiceband.com/event/retro-grub-and-pub-duo/
LOCATION:Retro Grub and Pub\, 87 Elizabeth St.\, Derby\, CT\, 06418
END:VEVENT
BEGIN:VEVENT
DTSTART;TZID=America/New_York:20230225T140000
DTEND;TZID=America/New_York:20230225T160000
DTSTAMP:20260422T062907
CREATED:20230218T232444Z
LAST-MODIFIED:20230218T232444Z
UID:2685-1677333600-1677340800@southernvoiceband.com
SUMMARY:Southern Springs RV Resort (Annmarie Solo Private)
DESCRIPTION:
URL:https://southernvoiceband.com/event/southern-springs-rv-resort-annmarie-solo-private/
LOCATION:CT
END:VEVENT
BEGIN:VEVENT
DTSTART;TZID=America/New_York:20230223T143000
DTEND;TZID=America/New_York:20230223T153000
DTSTAMP:20260422T062907
CREATED:20230218T232332Z
LAST-MODIFIED:20230218T232332Z
UID:2683-1677162600-1677166200@southernvoiceband.com
SUMMARY:Harbor Chase Of Gainsville (AM Solo Private)
DESCRIPTION:
URL:https://southernvoiceband.com/event/harbor-chase-of-gainsville-am-solo-private/
LOCATION:CT
END:VEVENT
BEGIN:VEVENT
DTSTART;TZID=America/New_York:20230216T143000
DTEND;TZID=America/New_York:20230216T153000
DTSTAMP:20260422T062907
CREATED:20230127T151111Z
LAST-MODIFIED:20230127T151111Z
UID:2649-1676557800-1676561400@southernvoiceband.com
SUMMARY:Private (Gainsville FL)
DESCRIPTION:
URL:https://southernvoiceband.com/event/private-gainsville-fl/
LOCATION:CT
END:VEVENT
BEGIN:VEVENT
DTSTART;TZID=America/New_York:20230212T180000
DTEND;TZID=America/New_York:20230212T210000
DTSTAMP:20260422T062907
CREATED:20221119T224245Z
LAST-MODIFIED:20230111T130237Z
UID:2571-1676224800-1676235600@southernvoiceband.com
SUMMARY:Red White & Blues  FL
DESCRIPTION:
URL:https://southernvoiceband.com/event/red-white-blues-fl-annmarie-solo/
LOCATION:Red White & Blues\, 101 Palm Harbor Parkway C132\, Palm Coast\, FL
END:VEVENT
BEGIN:VEVENT
DTSTART;TZID=America/New_York:20230211T190000
DTEND;TZID=America/New_York:20230211T220000
DTSTAMP:20260422T062907
CREATED:20221119T182320Z
LAST-MODIFIED:20221119T182320Z
UID:2551-1676142000-1676152800@southernvoiceband.com
SUMMARY:Southern Springs RV Resort (Campers Only)
DESCRIPTION:
URL:https://southernvoiceband.com/event/southern-springs-rv-resort-campers-only/
LOCATION:CT
END:VEVENT
BEGIN:VEVENT
DTSTART;TZID=America/New_York:20230204T120000
DTEND;TZID=America/New_York:20230204T170000
DTSTAMP:20260422T062907
CREATED:20230127T150608Z
LAST-MODIFIED:20230127T150608Z
UID:2647-1675512000-1675530000@southernvoiceband.com
SUMMARY:Private (Wedding)
DESCRIPTION:
URL:https://southernvoiceband.com/event/private-wedding-2/
LOCATION:CT
END:VEVENT
BEGIN:VEVENT
DTSTART;TZID=America/New_York:20230203T190000
DTEND;TZID=America/New_York:20230203T220000
DTSTAMP:20260422T062907
CREATED:20230124T030606Z
LAST-MODIFIED:20230124T030606Z
UID:2635-1675450800-1675461600@southernvoiceband.com
SUMMARY:Perfusion Bar (Acoustic)
DESCRIPTION:
URL:https://southernvoiceband.com/event/perfusion-bar-acoustic/
LOCATION:Perfusion Bar\, 274 South Main St.\, Newtown\, CT
END:VEVENT
BEGIN:VEVENT
DTSTART;TZID=America/New_York:20230121T140000
DTEND;TZID=America/New_York:20230121T170000
DTSTAMP:20260422T062907
CREATED:20221005T155012Z
LAST-MODIFIED:20221005T155012Z
UID:2429-1674309600-1674320400@southernvoiceband.com
SUMMARY:Private Event
DESCRIPTION:
URL:https://southernvoiceband.com/event/private-event-8/
LOCATION:Italian American Club\, Waterbury\, CT
END:VEVENT
BEGIN:VEVENT
DTSTART;TZID=America/New_York:20230120T180000
DTEND;TZID=America/New_York:20230120T210000
DTSTAMP:20260422T062907
CREATED:20221113T163609Z
LAST-MODIFIED:20221113T163609Z
UID:2507-1674237600-1674248400@southernvoiceband.com
SUMMARY:Clocktown Brewery (Acoustic)
DESCRIPTION:
URL:https://southernvoiceband.com/event/clocktown-brewery-acoustic-2/
LOCATION:Clocktown Brewery\, 135 South Main St\, Thomaston\, 06787\, United States
END:VEVENT
BEGIN:VEVENT
DTSTART;TZID=America/New_York:20230111T140000
DTEND;TZID=America/New_York:20230111T150000
DTSTAMP:20260422T062907
CREATED:20221113T163247Z
LAST-MODIFIED:20221113T163310Z
UID:2503-1673445600-1673449200@southernvoiceband.com
SUMMARY:Superior Residences at Calla Hills FL Private (Annmarie Solo)
DESCRIPTION:Residents and Family
URL:https://southernvoiceband.com/event/superior-residences-at-calla-hills-fl-private-annmarie-solo/
LOCATION:CT
END:VEVENT
BEGIN:VEVENT
DTSTART;TZID=America/New_York:20230108T140000
DTEND;TZID=America/New_York:20230108T150000
DTSTAMP:20260422T062907
CREATED:20221113T163503Z
LAST-MODIFIED:20221113T163503Z
UID:2505-1673186400-1673190000@southernvoiceband.com
SUMMARY:Brandywine Living Care Private (Annmarie Solo)
DESCRIPTION:Private for residents and family
URL:https://southernvoiceband.com/event/brandywine-living-care-private-annmarie-solo/
LOCATION:CT
END:VEVENT
BEGIN:VEVENT
DTSTART;TZID=America/New_York:20230107T193000
DTEND;TZID=America/New_York:20230107T220000
DTSTAMP:20260422T062907
CREATED:20221113T163051Z
LAST-MODIFIED:20221113T163051Z
UID:2500-1673119800-1673128800@southernvoiceband.com
SUMMARY:Nick's Country Kitchen (Annmarie Solo)
DESCRIPTION:
URL:https://southernvoiceband.com/event/nicks-country-kitchen-annmarie-solo/
LOCATION:Nick’s Country Kitchen\, 3G Flanders Rd.\, Bethleham\, CT
END:VEVENT
BEGIN:VEVENT
DTSTART;TZID=America/New_York:20230107T143000
DTEND;TZID=America/New_York:20230107T153000
DTSTAMP:20260422T062907
CREATED:20221113T162906Z
LAST-MODIFIED:20221113T162906Z
UID:2498-1673101800-1673105400@southernvoiceband.com
SUMMARY:Private Worthington Manor (Annmarie Solo)
DESCRIPTION:
URL:https://southernvoiceband.com/event/private-worthington-manor-annmarie-solo/
LOCATION:CT
END:VEVENT
BEGIN:VEVENT
DTSTART;TZID=America/New_York:20230106T200000
DTEND;TZID=America/New_York:20230106T230000
DTSTAMP:20260422T062907
CREATED:20221005T154721Z
LAST-MODIFIED:20221005T154721Z
UID:2425-1673035200-1673046000@southernvoiceband.com
SUMMARY:Black Dog Bar and Grill (Annmarie Solo)
DESCRIPTION:
URL:https://southernvoiceband.com/event/black-dog-bar-and-grill-annmarie-solo/
LOCATION:Black Dog Bar and Grill\, 146 Park Rd\, Putnam\, CT\, 06260
END:VEVENT
BEGIN:VEVENT
DTSTART;TZID=America/New_York:20221222T130000
DTEND;TZID=America/New_York:20221222T140000
DTSTAMP:20260422T062907
CREATED:20221113T161059Z
LAST-MODIFIED:20221113T161059Z
UID:2496-1671714000-1671717600@southernvoiceband.com
SUMMARY:Heritage Oaks Ocala Fl Private (Annmarie Solo)
DESCRIPTION:
URL:https://southernvoiceband.com/event/heritage-oaks-ocala-fl-private-annmarie-solo/
LOCATION:CT
END:VEVENT
BEGIN:VEVENT
DTSTART;TZID=America/New_York:20221221T143000
DTEND;TZID=America/New_York:20221221T163000
DTSTAMP:20260422T062907
CREATED:20221113T160947Z
LAST-MODIFIED:20221113T160947Z
UID:2494-1671633000-1671640200@southernvoiceband.com
SUMMARY:Tuscan Gardens Palm Coast FL (Private)
DESCRIPTION:
URL:https://southernvoiceband.com/event/tuscan-gardens-palm-coast-fl-private/
LOCATION:CT
END:VEVENT
BEGIN:VEVENT
DTSTART;TZID=America/New_York:20221217T180000
DTEND;TZID=America/New_York:20221217T220000
DTSTAMP:20260422T062907
CREATED:20220907T163627Z
LAST-MODIFIED:20220907T163627Z
UID:2397-1671300000-1671314400@southernvoiceband.com
SUMMARY:Private Wedding
DESCRIPTION:
URL:https://southernvoiceband.com/event/private-wedding/
LOCATION:CT
END:VEVENT
BEGIN:VEVENT
DTSTART;TZID=America/New_York:20221216T150000
DTEND;TZID=America/New_York:20221216T160000
DTSTAMP:20260422T062907
CREATED:20221113T160827Z
LAST-MODIFIED:20221113T160827Z
UID:2492-1671202800-1671206400@southernvoiceband.com
SUMMARY:Keystone Center Private (Annmarie Solo)
DESCRIPTION:Private Residents and family
URL:https://southernvoiceband.com/event/keystone-center-private-annmarie-solo/
LOCATION:CT
END:VEVENT
BEGIN:VEVENT
DTSTART;TZID=America/New_York:20221215T200000
DTEND;TZID=America/New_York:20221215T230000
DTSTAMP:20260422T062907
CREATED:20221005T154514Z
LAST-MODIFIED:20221005T154514Z
UID:2421-1671134400-1671145200@southernvoiceband.com
SUMMARY:Country Night @ Sicily Pizza (Acoustic)
DESCRIPTION:
URL:https://southernvoiceband.com/event/country-night-sicily-pizza-acoustic-2/
LOCATION:Sicily Coal Fired Pizza\, 412 Main St\, Middletown\, CT
END:VEVENT
BEGIN:VEVENT
DTSTART;TZID=America/New_York:20221215T160000
DTEND;TZID=America/New_York:20221215T170000
DTSTAMP:20260422T062907
CREATED:20221113T160636Z
LAST-MODIFIED:20221113T160636Z
UID:2490-1671120000-1671123600@southernvoiceband.com
SUMMARY:Private Senior Event Southington (Annmarie Solo)
DESCRIPTION:Private Holiday Event for Residents and Family
URL:https://southernvoiceband.com/event/private-senior-event-southington-annmarie-solo-2/
LOCATION:CT
END:VEVENT
BEGIN:VEVENT
DTSTART;TZID=America/New_York:20221212T160000
DTEND;TZID=America/New_York:20221212T170000
DTSTAMP:20260422T062907
CREATED:20221113T160524Z
LAST-MODIFIED:20221113T160524Z
UID:2488-1670860800-1670864400@southernvoiceband.com
SUMMARY:Private Senior Event Southington (Annmarie Solo)
DESCRIPTION:Private Holiday for residents and family
URL:https://southernvoiceband.com/event/private-senior-event-southington-annmarie-solo/
LOCATION:CT
END:VEVENT
BEGIN:VEVENT
DTSTART;TZID=America/New_York:20221210T200000
DTEND;TZID=America/New_York:20221210T230000
DTSTAMP:20260422T062907
CREATED:20221113T160431Z
LAST-MODIFIED:20221113T160431Z
UID:2485-1670702400-1670713200@southernvoiceband.com
SUMMARY:Holiday Party Private
DESCRIPTION:
URL:https://southernvoiceband.com/event/holiday-party-private-2/
LOCATION:Torrington Elks
END:VEVENT
BEGIN:VEVENT
DTSTART;TZID=America/New_York:20221210T143000
DTEND;TZID=America/New_York:20221210T153000
DTSTAMP:20260422T062907
CREATED:20221113T160338Z
LAST-MODIFIED:20221113T160338Z
UID:2483-1670682600-1670686200@southernvoiceband.com
SUMMARY:Private Marbridge Senior Living Center (Annmarie Solo)
DESCRIPTION:Private Residents and family
URL:https://southernvoiceband.com/event/private-marbridge-senior-living-center-annmarie-solo/
LOCATION:CT
END:VEVENT
BEGIN:VEVENT
DTSTART;TZID=America/New_York:20221209T163000
DTEND;TZID=America/New_York:20221209T193000
DTSTAMP:20260422T062907
CREATED:20221113T155935Z
LAST-MODIFIED:20221113T155935Z
UID:2478-1670603400-1670614200@southernvoiceband.com
SUMMARY:Greatest Hits (Annmarie Solo)
DESCRIPTION:
URL:https://southernvoiceband.com/event/greatest-hits-annmarie-solo/
LOCATION:Greatest Hits\, 35 Chase Ave\, Dudley\, Mass
END:VEVENT
BEGIN:VEVENT
DTSTART;TZID=America/New_York:20221208T160000
DTEND;TZID=America/New_York:20221208T170000
DTSTAMP:20260422T062907
CREATED:20221113T155811Z
LAST-MODIFIED:20221113T160135Z
UID:2476-1670515200-1670518800@southernvoiceband.com
SUMMARY:Private Senior Event Southington (Annmarie Solo)
DESCRIPTION:Holiday Party
URL:https://southernvoiceband.com/event/private-senior-event-southington-2/
LOCATION:CT
END:VEVENT
END:VCALENDAR