BEGIN:VCALENDAR
VERSION:2.0
PRODID:-//Southern Voice - ECPv6.15.11//NONSGML v1.0//EN
CALSCALE:GREGORIAN
METHOD:PUBLISH
X-WR-CALNAME:Southern Voice
X-ORIGINAL-URL:https://southernvoiceband.com
X-WR-CALDESC:Events for Southern Voice
REFRESH-INTERVAL;VALUE=DURATION:PT1H
X-Robots-Tag:noindex
X-PUBLISHED-TTL:PT1H
BEGIN:VTIMEZONE
TZID:America/New_York
BEGIN:DAYLIGHT
TZOFFSETFROM:-0500
TZOFFSETTO:-0400
TZNAME:EDT
DTSTART:20210314T070000
END:DAYLIGHT
BEGIN:STANDARD
TZOFFSETFROM:-0400
TZOFFSETTO:-0500
TZNAME:EST
DTSTART:20211107T060000
END:STANDARD
BEGIN:DAYLIGHT
TZOFFSETFROM:-0500
TZOFFSETTO:-0400
TZNAME:EDT
DTSTART:20220313T070000
END:DAYLIGHT
BEGIN:STANDARD
TZOFFSETFROM:-0400
TZOFFSETTO:-0500
TZNAME:EST
DTSTART:20221106T060000
END:STANDARD
BEGIN:DAYLIGHT
TZOFFSETFROM:-0500
TZOFFSETTO:-0400
TZNAME:EDT
DTSTART:20230312T070000
END:DAYLIGHT
BEGIN:STANDARD
TZOFFSETFROM:-0400
TZOFFSETTO:-0500
TZNAME:EST
DTSTART:20231105T060000
END:STANDARD
END:VTIMEZONE
BEGIN:VEVENT
DTSTART;TZID=America/New_York:20221208T160000
DTEND;TZID=America/New_York:20221208T170000
DTSTAMP:20260422T183414
CREATED:20221113T155811Z
LAST-MODIFIED:20221113T160135Z
UID:2476-1670515200-1670518800@southernvoiceband.com
SUMMARY:Private Senior Event Southington (Annmarie Solo)
DESCRIPTION:Holiday Party
URL:https://southernvoiceband.com/event/private-senior-event-southington-2/
END:VEVENT
BEGIN:VEVENT
DTSTART;TZID=America/New_York:20221205T160000
DTEND;TZID=America/New_York:20221205T170000
DTSTAMP:20260422T183414
CREATED:20221113T155728Z
LAST-MODIFIED:20221113T160022Z
UID:2474-1670256000-1670259600@southernvoiceband.com
SUMMARY:Private Senior Event Southington (Annmarie Solo)
DESCRIPTION:Private Holiday Event
URL:https://southernvoiceband.com/event/private-senior-event-southington/
END:VEVENT
BEGIN:VEVENT
DTSTART;TZID=America/New_York:20221204T120000
DTEND;TZID=America/New_York:20221204T150000
DTSTAMP:20260422T183414
CREATED:20221113T155529Z
LAST-MODIFIED:20221113T155529Z
UID:2471-1670155200-1670166000@southernvoiceband.com
SUMMARY:Holiday Party (Private)
DESCRIPTION:Private
URL:https://southernvoiceband.com/event/holiday-party-private/
LOCATION:Titanium Theatre\, 447 N Main St\, Southington\, CT\, 06489
END:VEVENT
BEGIN:VEVENT
DTSTART;TZID=America/New_York:20221124T190000
DTEND;TZID=America/New_York:20221124T220000
DTSTAMP:20260422T183414
CREATED:20221113T153518Z
LAST-MODIFIED:20221113T153518Z
UID:2469-1669316400-1669327200@southernvoiceband.com
SUMMARY:Southern Springs RV Resort Thanksgiving Celebration FL
DESCRIPTION:
URL:https://southernvoiceband.com/event/southern-springs-rv-resort-thanksgiving-celebration-fl/
END:VEVENT
BEGIN:VEVENT
DTSTART;TZID=America/New_York:20221123T140000
DTEND;TZID=America/New_York:20221123T150000
DTSTAMP:20260422T183414
CREATED:20221113T153411Z
LAST-MODIFIED:20221113T153411Z
UID:2467-1669212000-1669215600@southernvoiceband.com
SUMMARY:Private Hampton Manor FL
DESCRIPTION:
URL:https://southernvoiceband.com/event/private-hampton-manor-fl/
END:VEVENT
BEGIN:VEVENT
DTSTART;TZID=America/New_York:20221122T140000
DTEND;TZID=America/New_York:20221122T163000
DTSTAMP:20260422T183414
CREATED:20221113T153313Z
LAST-MODIFIED:20221113T153313Z
UID:2465-1669125600-1669134600@southernvoiceband.com
SUMMARY:Private Tuscan Gardens FL
DESCRIPTION:
URL:https://southernvoiceband.com/event/private-tuscan-gardens-fl/
END:VEVENT
BEGIN:VEVENT
DTSTART;TZID=America/New_York:20221118T140000
DTEND;TZID=America/New_York:20221118T150000
DTSTAMP:20260422T183414
CREATED:20221113T153216Z
LAST-MODIFIED:20221113T153216Z
UID:2463-1668780000-1668783600@southernvoiceband.com
SUMMARY:Private The Summit
DESCRIPTION:
URL:https://southernvoiceband.com/event/private-the-summit/
END:VEVENT
BEGIN:VEVENT
DTSTART;TZID=America/New_York:20221112T183000
DTEND;TZID=America/New_York:20221112T210000
DTSTAMP:20260422T183414
CREATED:20220907T163503Z
LAST-MODIFIED:20220907T163503Z
UID:2394-1668277800-1668286800@southernvoiceband.com
SUMMARY:Fire at the Ridge (Acoustic)
DESCRIPTION:
URL:https://southernvoiceband.com/event/fire-at-the-ridge-acoustic/
LOCATION:Fire at The Ridge\, 99 Powder Hill Rd\, Middletown\, CT
END:VEVENT
BEGIN:VEVENT
DTSTART;TZID=America/New_York:20221111T180000
DTEND;TZID=America/New_York:20221111T210000
DTSTAMP:20260422T183414
CREATED:20220907T163333Z
LAST-MODIFIED:20220907T163333Z
UID:2392-1668189600-1668200400@southernvoiceband.com
SUMMARY:Clocktown Brewery (Acoustic)
DESCRIPTION:
URL:https://southernvoiceband.com/event/clocktown-brewery-acoustic/
LOCATION:Clocktown Brewery\, 135 South Main St\, Thomaston\, 06787\, United States
END:VEVENT
BEGIN:VEVENT
DTSTART;TZID=America/New_York:20221110T200000
DTEND;TZID=America/New_York:20221110T230000
DTSTAMP:20260422T183414
CREATED:20221005T153853Z
LAST-MODIFIED:20221005T153853Z
UID:2415-1668110400-1668121200@southernvoiceband.com
SUMMARY:Country Night @ Sicily Coal Fired Pizza (Acoustic)
DESCRIPTION:
URL:https://southernvoiceband.com/event/country-night-sicily-coal-fired-pizza-acoustic-4/
LOCATION:Sicily Coal Fired Pizza\, 412 Main St\, Middletown\, CT
END:VEVENT
BEGIN:VEVENT
DTSTART;TZID=America/New_York:20221105T183000
DTEND;TZID=America/New_York:20221105T213000
DTSTAMP:20260422T183414
CREATED:20220907T163024Z
LAST-MODIFIED:20220907T163024Z
UID:2388-1667673000-1667683800@southernvoiceband.com
SUMMARY:Private Event
DESCRIPTION:
URL:https://southernvoiceband.com/event/private-event-7/
END:VEVENT
BEGIN:VEVENT
DTSTART;TZID=America/New_York:20221023T180000
DTEND;TZID=America/New_York:20221023T210000
DTSTAMP:20260422T183414
CREATED:20220907T162743Z
LAST-MODIFIED:20220907T162743Z
UID:2385-1666548000-1666558800@southernvoiceband.com
SUMMARY:SV Acoustic @ Red White and Blues
DESCRIPTION:
URL:https://southernvoiceband.com/event/sv-acoustic-red-white-and-blues/
LOCATION:Red White & Blues\, 101 Palm Harbor Parkway C132\, Palm Coast\, FL
END:VEVENT
BEGIN:VEVENT
DTSTART;TZID=America/New_York:20221021T180000
DTEND;TZID=America/New_York:20221021T210000
DTSTAMP:20260422T183414
CREATED:20220812T200008Z
LAST-MODIFIED:20220812T200008Z
UID:2326-1666375200-1666386000@southernvoiceband.com
SUMMARY:Yellow Pony @ The World Equestrian Center Ocala FL (Acoustic Duo)
DESCRIPTION:
URL:https://southernvoiceband.com/event/yellow-pony-the-world-equestrian-center-ocala-fl-acoustic-duo/
END:VEVENT
BEGIN:VEVENT
DTSTART;TZID=America/New_York:20221015T180000
DTEND;TZID=America/New_York:20221015T210000
DTSTAMP:20260422T183414
CREATED:20220406T190238Z
LAST-MODIFIED:20220406T190238Z
UID:2276-1665856800-1665867600@southernvoiceband.com
SUMMARY:Southern Voice @ Clocktown Brewing (Acoustic)
DESCRIPTION:
URL:https://southernvoiceband.com/event/southern-voice-clocktown-brewing-acoustic/
END:VEVENT
BEGIN:VEVENT
DTSTART;TZID=America/New_York:20221014T190000
DTEND;TZID=America/New_York:20221014T230000
DTSTAMP:20260422T183414
CREATED:20220406T190424Z
LAST-MODIFIED:20220406T190901Z
UID:2278-1665774000-1665788400@southernvoiceband.com
SUMMARY:Southern Voice @ Black Dog Bar & Grille (duo)
DESCRIPTION:
URL:https://southernvoiceband.com/event/southern-voice-black-dog-bar-grille-duo/
END:VEVENT
BEGIN:VEVENT
DTSTART;TZID=America/New_York:20221013T200000
DTEND;TZID=America/New_York:20221013T230000
DTSTAMP:20260422T183414
CREATED:20220907T162324Z
LAST-MODIFIED:20220907T162324Z
UID:2383-1665691200-1665702000@southernvoiceband.com
SUMMARY:Country Night @ Sicily Coal Fired Pizza (Acoustic)
DESCRIPTION:
URL:https://southernvoiceband.com/event/country-night-sicily-coal-fired-pizza-acoustic-2/
LOCATION:Sicily Coal Fired Pizza\, 412 Main St\, Middletown\, CT
END:VEVENT
BEGIN:VEVENT
DTSTART;TZID=America/New_York:20221009T130000
DTEND;TZID=America/New_York:20221009T170000
DTSTAMP:20260422T183414
CREATED:20220812T195548Z
LAST-MODIFIED:20220812T195548Z
UID:2323-1665320400-1665334800@southernvoiceband.com
SUMMARY:The Farm Fall Festival (Acoustic Trio)
DESCRIPTION:
URL:https://southernvoiceband.com/event/the-farm-fall-festival-acoustic-trio/
LOCATION:The Farm\, 281 Weekeepeemee Rd Rte 132\, Woodbury\, CT
END:VEVENT
BEGIN:VEVENT
DTSTART;TZID=America/New_York:20221008T170000
DTEND;TZID=America/New_York:20221008T200000
DTSTAMP:20260422T183414
CREATED:20220406T185543Z
LAST-MODIFIED:20220406T185801Z
UID:2274-1665248400-1665259200@southernvoiceband.com
SUMMARY:Private Event
DESCRIPTION:
URL:https://southernvoiceband.com/event/private-event-5/
END:VEVENT
BEGIN:VEVENT
DTSTART;TZID=America/New_York:20221008T160000
DTEND;TZID=America/New_York:20221008T190000
DTSTAMP:20260422T183414
CREATED:20220812T195106Z
LAST-MODIFIED:20220812T195106Z
UID:2321-1665244800-1665255600@southernvoiceband.com
SUMMARY:Wedding (Acoustic Duo)
DESCRIPTION:
URL:https://southernvoiceband.com/event/wedding-acoustic-duo/
END:VEVENT
BEGIN:VEVENT
DTSTART;TZID=America/New_York:20221006T190000
DTEND;TZID=America/New_York:20221006T220000
DTSTAMP:20260422T183414
CREATED:20220907T162155Z
LAST-MODIFIED:20220907T162155Z
UID:2380-1665082800-1665093600@southernvoiceband.com
SUMMARY:Country Night @ 66 Church
DESCRIPTION:
URL:https://southernvoiceband.com/event/country-night-66-church/
LOCATION:66 Church\, 66 Church St.\, Naugatuck\, CT\, 06770
END:VEVENT
BEGIN:VEVENT
DTSTART;TZID=America/New_York:20220927T190000
DTEND;TZID=America/New_York:20220927T220000
DTSTAMP:20260422T183415
CREATED:20220812T193812Z
LAST-MODIFIED:20220812T194939Z
UID:2319-1664305200-1664316000@southernvoiceband.com
SUMMARY:Hardrock Cafe Daytona Beach (Acoustic Duo)
DESCRIPTION:
URL:https://southernvoiceband.com/event/hardrock-cafe-daytona-beach-acoustic-duo/
END:VEVENT
BEGIN:VEVENT
DTSTART;TZID=America/New_York:20220924T133000
DTEND;TZID=America/New_York:20220924T163000
DTSTAMP:20260422T183415
CREATED:20220907T161828Z
LAST-MODIFIED:20220907T161938Z
UID:2376-1664026200-1664037000@southernvoiceband.com
SUMMARY:Private Event
DESCRIPTION:
URL:https://southernvoiceband.com/event/private-party-8/
END:VEVENT
BEGIN:VEVENT
DTSTART;TZID=America/New_York:20220923T130000
DTEND;TZID=America/New_York:20220923T140000
DTSTAMP:20260422T183415
CREATED:20220907T161758Z
LAST-MODIFIED:20220907T161916Z
UID:2374-1663938000-1663941600@southernvoiceband.com
SUMMARY:Private Event
DESCRIPTION:
URL:https://southernvoiceband.com/event/private/
END:VEVENT
BEGIN:VEVENT
DTSTART;TZID=America/New_York:20220922T200000
DTEND;TZID=America/New_York:20220922T230000
DTSTAMP:20260422T183415
CREATED:20220907T161727Z
LAST-MODIFIED:20220907T161727Z
UID:2372-1663876800-1663887600@southernvoiceband.com
SUMMARY:Country Night @ Sicily Coal Fired Pizza (Acoustic)
DESCRIPTION:
URL:https://southernvoiceband.com/event/country-night-sicily-coal-fired-pizza-acoustic/
LOCATION:Sicily Coal Fired Pizza\, 412 Main St\, Middletown\, CT
END:VEVENT
BEGIN:VEVENT
DTSTART;TZID=America/New_York:20220918T140000
DTEND;TZID=America/New_York:20220918T170000
DTSTAMP:20260422T183415
CREATED:20220907T161552Z
LAST-MODIFIED:20220907T161552Z
UID:2370-1663509600-1663520400@southernvoiceband.com
SUMMARY:Private Event
DESCRIPTION:
URL:https://southernvoiceband.com/event/private-event-6/
END:VEVENT
BEGIN:VEVENT
DTSTART;TZID=America/New_York:20220917T180000
DTEND;TZID=America/New_York:20220917T210000
DTSTAMP:20260422T183415
CREATED:20220812T193655Z
LAST-MODIFIED:20220812T193655Z
UID:2316-1663437600-1663448400@southernvoiceband.com
SUMMARY:Chicopee Mosse Family Center (Acoustic Duo)
DESCRIPTION:
URL:https://southernvoiceband.com/event/chicopee-mosse-family-center-acoustic-duo/
LOCATION:Chicopee Moose Family Center\, Fuller Road\, Chicopee\, MA
END:VEVENT
BEGIN:VEVENT
DTSTART;TZID=America/New_York:20220917T113000
DTEND;TZID=America/New_York:20220917T133000
DTSTAMP:20260422T183415
CREATED:20220812T193246Z
LAST-MODIFIED:20220812T193255Z
UID:2311-1663414200-1663421400@southernvoiceband.com
SUMMARY:Watertown Fall Festival (Acoustic Duo)
DESCRIPTION:
URL:https://southernvoiceband.com/event/watertown-fall-festival-acoustic-duo/
LOCATION:Veterans Park\, 570 Nova Scotia Hill Rd\, Watertown\, CT
END:VEVENT
BEGIN:VEVENT
DTSTART;TZID=America/New_York:20220910T100000
DTEND;TZID=America/New_York:20220910T140000
DTSTAMP:20260422T183415
CREATED:20220406T185102Z
LAST-MODIFIED:20220406T185102Z
UID:2270-1662804000-1662818400@southernvoiceband.com
SUMMARY:Private Party
DESCRIPTION:
URL:https://southernvoiceband.com/event/private-party-6/
END:VEVENT
BEGIN:VEVENT
DTSTART;TZID=America/New_York:20220904T180000
DTEND;TZID=America/New_York:20220904T230000
DTSTAMP:20260422T183415
CREATED:20220812T193419Z
LAST-MODIFIED:20220812T193419Z
UID:2314-1662314400-1662332400@southernvoiceband.com
SUMMARY:Private Party
DESCRIPTION:
URL:https://southernvoiceband.com/event/private-party-7/
END:VEVENT
BEGIN:VEVENT
DTSTART;TZID=America/New_York:20220903T190000
DTEND;TZID=America/New_York:20220903T220000
DTSTAMP:20260422T183415
CREATED:20220406T184627Z
LAST-MODIFIED:20220406T184627Z
UID:2266-1662231600-1662242400@southernvoiceband.com
SUMMARY:Cozy Hills Campground Labor Day Weekend (Campers Only)
DESCRIPTION:
URL:https://southernvoiceband.com/event/cozy-hills-campground-labor-day-weekend-campers-only/
LOCATION:Cozy Hills Campground\, 1311 Bantam Rd\, Bantam\, CT
END:VEVENT
END:VCALENDAR