BEGIN:VCALENDAR
VERSION:2.0
PRODID:-//Southern Voice - ECPv6.15.11//NONSGML v1.0//EN
CALSCALE:GREGORIAN
METHOD:PUBLISH
X-WR-CALNAME:Southern Voice
X-ORIGINAL-URL:https://southernvoiceband.com
X-WR-CALDESC:Events for Southern Voice
REFRESH-INTERVAL;VALUE=DURATION:PT1H
X-Robots-Tag:noindex
X-PUBLISHED-TTL:PT1H
BEGIN:VTIMEZONE
TZID:America/New_York
BEGIN:DAYLIGHT
TZOFFSETFROM:-0500
TZOFFSETTO:-0400
TZNAME:EDT
DTSTART:20210314T070000
END:DAYLIGHT
BEGIN:STANDARD
TZOFFSETFROM:-0400
TZOFFSETTO:-0500
TZNAME:EST
DTSTART:20211107T060000
END:STANDARD
BEGIN:DAYLIGHT
TZOFFSETFROM:-0500
TZOFFSETTO:-0400
TZNAME:EDT
DTSTART:20220313T070000
END:DAYLIGHT
BEGIN:STANDARD
TZOFFSETFROM:-0400
TZOFFSETTO:-0500
TZNAME:EST
DTSTART:20221106T060000
END:STANDARD
BEGIN:DAYLIGHT
TZOFFSETFROM:-0500
TZOFFSETTO:-0400
TZNAME:EDT
DTSTART:20230312T070000
END:DAYLIGHT
BEGIN:STANDARD
TZOFFSETFROM:-0400
TZOFFSETTO:-0500
TZNAME:EST
DTSTART:20231105T060000
END:STANDARD
END:VTIMEZONE
BEGIN:VEVENT
DTSTART;TZID=America/New_York:20220927T190000
DTEND;TZID=America/New_York:20220927T220000
DTSTAMP:20260422T221058
CREATED:20220812T193812Z
LAST-MODIFIED:20220812T194939Z
UID:2319-1664305200-1664316000@southernvoiceband.com
SUMMARY:Hardrock Cafe Daytona Beach (Acoustic Duo)
DESCRIPTION:
URL:https://southernvoiceband.com/event/hardrock-cafe-daytona-beach-acoustic-duo/
END:VEVENT
BEGIN:VEVENT
DTSTART;TZID=America/New_York:20220924T133000
DTEND;TZID=America/New_York:20220924T163000
DTSTAMP:20260422T221058
CREATED:20220907T161828Z
LAST-MODIFIED:20220907T161938Z
UID:2376-1664026200-1664037000@southernvoiceband.com
SUMMARY:Private Event
DESCRIPTION:
URL:https://southernvoiceband.com/event/private-party-8/
END:VEVENT
BEGIN:VEVENT
DTSTART;TZID=America/New_York:20220923T130000
DTEND;TZID=America/New_York:20220923T140000
DTSTAMP:20260422T221058
CREATED:20220907T161758Z
LAST-MODIFIED:20220907T161916Z
UID:2374-1663938000-1663941600@southernvoiceband.com
SUMMARY:Private Event
DESCRIPTION:
URL:https://southernvoiceband.com/event/private/
END:VEVENT
BEGIN:VEVENT
DTSTART;TZID=America/New_York:20220922T200000
DTEND;TZID=America/New_York:20220922T230000
DTSTAMP:20260422T221058
CREATED:20220907T161727Z
LAST-MODIFIED:20220907T161727Z
UID:2372-1663876800-1663887600@southernvoiceband.com
SUMMARY:Country Night @ Sicily Coal Fired Pizza (Acoustic)
DESCRIPTION:
URL:https://southernvoiceband.com/event/country-night-sicily-coal-fired-pizza-acoustic/
LOCATION:Sicily Coal Fired Pizza\, 412 Main St\, Middletown\, CT
END:VEVENT
BEGIN:VEVENT
DTSTART;TZID=America/New_York:20220918T140000
DTEND;TZID=America/New_York:20220918T170000
DTSTAMP:20260422T221058
CREATED:20220907T161552Z
LAST-MODIFIED:20220907T161552Z
UID:2370-1663509600-1663520400@southernvoiceband.com
SUMMARY:Private Event
DESCRIPTION:
URL:https://southernvoiceband.com/event/private-event-6/
END:VEVENT
BEGIN:VEVENT
DTSTART;TZID=America/New_York:20220917T180000
DTEND;TZID=America/New_York:20220917T210000
DTSTAMP:20260422T221058
CREATED:20220812T193655Z
LAST-MODIFIED:20220812T193655Z
UID:2316-1663437600-1663448400@southernvoiceband.com
SUMMARY:Chicopee Mosse Family Center (Acoustic Duo)
DESCRIPTION:
URL:https://southernvoiceband.com/event/chicopee-mosse-family-center-acoustic-duo/
LOCATION:Chicopee Moose Family Center\, Fuller Road\, Chicopee\, MA
END:VEVENT
BEGIN:VEVENT
DTSTART;TZID=America/New_York:20220917T113000
DTEND;TZID=America/New_York:20220917T133000
DTSTAMP:20260422T221058
CREATED:20220812T193246Z
LAST-MODIFIED:20220812T193255Z
UID:2311-1663414200-1663421400@southernvoiceband.com
SUMMARY:Watertown Fall Festival (Acoustic Duo)
DESCRIPTION:
URL:https://southernvoiceband.com/event/watertown-fall-festival-acoustic-duo/
LOCATION:Veterans Park\, 570 Nova Scotia Hill Rd\, Watertown\, CT
END:VEVENT
BEGIN:VEVENT
DTSTART;TZID=America/New_York:20220910T100000
DTEND;TZID=America/New_York:20220910T140000
DTSTAMP:20260422T221058
CREATED:20220406T185102Z
LAST-MODIFIED:20220406T185102Z
UID:2270-1662804000-1662818400@southernvoiceband.com
SUMMARY:Private Party
DESCRIPTION:
URL:https://southernvoiceband.com/event/private-party-6/
END:VEVENT
BEGIN:VEVENT
DTSTART;TZID=America/New_York:20220904T180000
DTEND;TZID=America/New_York:20220904T230000
DTSTAMP:20260422T221058
CREATED:20220812T193419Z
LAST-MODIFIED:20220812T193419Z
UID:2314-1662314400-1662332400@southernvoiceband.com
SUMMARY:Private Party
DESCRIPTION:
URL:https://southernvoiceband.com/event/private-party-7/
END:VEVENT
BEGIN:VEVENT
DTSTART;TZID=America/New_York:20220903T190000
DTEND;TZID=America/New_York:20220903T220000
DTSTAMP:20260422T221058
CREATED:20220406T184627Z
LAST-MODIFIED:20220406T184627Z
UID:2266-1662231600-1662242400@southernvoiceband.com
SUMMARY:Cozy Hills Campground Labor Day Weekend (Campers Only)
DESCRIPTION:
URL:https://southernvoiceband.com/event/cozy-hills-campground-labor-day-weekend-campers-only/
LOCATION:Cozy Hills Campground\, 1311 Bantam Rd\, Bantam\, CT
END:VEVENT
BEGIN:VEVENT
DTSTART;TZID=America/New_York:20220901T200000
DTEND;TZID=America/New_York:20220901T230000
DTSTAMP:20260422T221058
CREATED:20220406T184409Z
LAST-MODIFIED:20220406T184409Z
UID:2262-1662062400-1662073200@southernvoiceband.com
SUMMARY:Sicily Coal Fire Pizza Country Night (Acoustic)
DESCRIPTION:
URL:https://southernvoiceband.com/event/sicily-coal-fire-pizza-country-night-acoustic/
LOCATION:Sicily Coal Fired Pizza\, 412 Main St\, Middletown\, CT
END:VEVENT
BEGIN:VEVENT
DTSTART;TZID=America/New_York:20220831T183000
DTEND;TZID=America/New_York:20220831T193000
DTSTAMP:20260422T221058
CREATED:20220812T192505Z
LAST-MODIFIED:20220812T192505Z
UID:2307-1661970600-1661974200@southernvoiceband.com
SUMMARY:Middletown Senior Center (Acoustic Duo)
DESCRIPTION:
URL:https://southernvoiceband.com/event/middletown-senior-center-acoustic-duo/
END:VEVENT
BEGIN:VEVENT
DTSTART;TZID=America/New_York:20220826T183000
DTEND;TZID=America/New_York:20220826T230000
DTSTAMP:20260422T221058
CREATED:20220406T184132Z
LAST-MODIFIED:20220406T184132Z
UID:2258-1661538600-1661554800@southernvoiceband.com
SUMMARY:Chester Fair
DESCRIPTION:
URL:https://southernvoiceband.com/event/chester-fair/
LOCATION:Chester Fair\, 11 Kirkland Terrace\, Chester\, CT
END:VEVENT
BEGIN:VEVENT
DTSTART;TZID=America/New_York:20220824T190000
DTEND;TZID=America/New_York:20220824T210000
DTSTAMP:20260422T221058
CREATED:20220812T192146Z
LAST-MODIFIED:20220812T192146Z
UID:2304-1661367600-1661374800@southernvoiceband.com
SUMMARY:New Britain Summer Concert Series
DESCRIPTION:
URL:https://southernvoiceband.com/event/new-britain-summer-concert-series/
LOCATION:Walnut Hill Park\, 184 W Main St\, New Britain\, CT\, 06052
END:VEVENT
BEGIN:VEVENT
DTSTART;TZID=America/New_York:20220823T180000
DTEND;TZID=America/New_York:20220823T200000
DTSTAMP:20260422T221058
CREATED:20220406T183608Z
LAST-MODIFIED:20220812T191859Z
UID:2250-1661277600-1661284800@southernvoiceband.com
SUMMARY:Southern Voice @ TPC River Highlands (Acoustic)
DESCRIPTION:members only event
URL:https://southernvoiceband.com/event/southern-voice-tpc-river-highlands-acoustic/
LOCATION:TPC River Highlands\, 1 Golf Club Rd\, Cromwell\, CT
END:VEVENT
BEGIN:VEVENT
DTSTART;VALUE=DATE:20220820
DTEND;VALUE=DATE:20220822
DTSTAMP:20260422T221058
CREATED:20220406T184029Z
LAST-MODIFIED:20220406T184029Z
UID:2256-1660960800-1661047199@southernvoiceband.com
SUMMARY:Wedding
DESCRIPTION:
URL:https://southernvoiceband.com/event/wedding/
END:VEVENT
BEGIN:VEVENT
DTSTART;TZID=America/New_York:20220819T190000
DTEND;TZID=America/New_York:20220819T230000
DTSTAMP:20260422T221058
CREATED:20220406T183914Z
LAST-MODIFIED:20220406T183914Z
UID:2254-1660935600-1660950000@southernvoiceband.com
SUMMARY:Black Dog Bar and Grille (Acoustic)
DESCRIPTION:
URL:https://southernvoiceband.com/event/black-dog-bar-and-grille-acoustic/
LOCATION:Black Dog Bar and Grill\, 146 Park Rd\, Putnam\, CT\, 06260
END:VEVENT
BEGIN:VEVENT
DTSTART;TZID=America/New_York:20220818T200000
DTEND;TZID=America/New_York:20220818T230000
DTSTAMP:20260422T221058
CREATED:20220406T183724Z
LAST-MODIFIED:20220406T183724Z
UID:2252-1660852800-1660863600@southernvoiceband.com
SUMMARY:Sicily Wood Fire Pizza Country Night (Acoustic)
DESCRIPTION:
URL:https://southernvoiceband.com/event/sicily-wood-fire-pizza-country-night-acoustic/
LOCATION:Sicily Coal Fired Pizza\, 412 Main St\, Middletown\, CT
END:VEVENT
BEGIN:VEVENT
DTSTART;TZID=America/New_York:20220813T193000
DTEND;TZID=America/New_York:20220813T223000
DTSTAMP:20260422T221058
CREATED:20220319T180617Z
LAST-MODIFIED:20220319T180617Z
UID:2232-1660419000-1660429800@southernvoiceband.com
SUMMARY:Southern Voice Acoustic @ Nature's Campground
DESCRIPTION:
URL:https://southernvoiceband.com/event/southern-voice-acoustic-natures-campground/
LOCATION:Nature’s Campground\, 96 Ekonk Rd\, Voluntown\, CT
END:VEVENT
BEGIN:VEVENT
DTSTART;TZID=America/New_York:20220810T190000
DTEND;TZID=America/New_York:20220810T203000
DTSTAMP:20260422T221058
CREATED:20220406T183435Z
LAST-MODIFIED:20220406T183435Z
UID:2247-1660158000-1660163400@southernvoiceband.com
SUMMARY:Litchfield Summer Concert Series (Acoustic)
DESCRIPTION:
URL:https://southernvoiceband.com/event/litchfield-summer-concert-series-acoustic/
LOCATION:Litchfield Town Green\, 46 West St.\, Litchfield\, CT
END:VEVENT
BEGIN:VEVENT
DTSTART;TZID=America/New_York:20220806T203000
DTEND;TZID=America/New_York:20220806T230000
DTSTAMP:20260422T221058
CREATED:20220406T183258Z
LAST-MODIFIED:20220406T183258Z
UID:2245-1659817800-1659826800@southernvoiceband.com
SUMMARY:Private Party
DESCRIPTION:
URL:https://southernvoiceband.com/event/private-party-5/
END:VEVENT
BEGIN:VEVENT
DTSTART;TZID=America/New_York:20220804T180000
DTEND;TZID=America/New_York:20220804T193000
DTSTAMP:20260422T221058
CREATED:20220319T180134Z
LAST-MODIFIED:20220319T180134Z
UID:2227-1659636000-1659641400@southernvoiceband.com
SUMMARY:Southern Voice @ Cohasset Summer Concert Series
DESCRIPTION:
URL:https://southernvoiceband.com/event/southern-voice-cohasset-summer-concert-series-2/
LOCATION:Cohasset Town Common\, 41 Highland Ave\, Cohasset\, MA
END:VEVENT
BEGIN:VEVENT
DTSTART;TZID=America/New_York:20220803T183000
DTEND;TZID=America/New_York:20220803T203000
DTSTAMP:20260422T221058
CREATED:20220406T183211Z
LAST-MODIFIED:20220406T183211Z
UID:2243-1659551400-1659558600@southernvoiceband.com
SUMMARY:Prospect Summer Concert Series
DESCRIPTION:
URL:https://southernvoiceband.com/event/prospect-summer-concert-series/
LOCATION:Prospect Green\, 12 Center Street\, Prospect\, CT\, 06712\, United States
END:VEVENT
BEGIN:VEVENT
DTSTART;TZID=America/New_York:20220728T190000
DTEND;TZID=America/New_York:20220728T210000
DTSTAMP:20260422T221058
CREATED:20220319T175218Z
LAST-MODIFIED:20220319T175218Z
UID:2219-1659034800-1659042000@southernvoiceband.com
SUMMARY:Southern Voice @ South Windsor Summer Concert Series (Raindate August 2)
DESCRIPTION:
URL:https://southernvoiceband.com/event/southern-voice-south-windsor-summer-concert-series-raindate-august-2/
LOCATION:South Windsor Summer Concert\, 501 Evergreen Way\, South Windsor\, CT
END:VEVENT
BEGIN:VEVENT
DTSTART;TZID=America/New_York:20220723T160000
DTEND;TZID=America/New_York:20220723T190000
DTSTAMP:20260422T221058
CREATED:20220319T174757Z
LAST-MODIFIED:20220319T174757Z
UID:2216-1658592000-1658602800@southernvoiceband.com
SUMMARY:Southern Voice Acoustic @ Wyndcrest Estate
DESCRIPTION:
URL:https://southernvoiceband.com/event/southern-voice-acoustic-wyndcrest-estate/
LOCATION:Wyndcrest Estate\, 56 Kasson Rd\, Bethlehem\, CT\, 06751
END:VEVENT
BEGIN:VEVENT
DTSTART;TZID=America/New_York:20220722T183000
DTEND;TZID=America/New_York:20220722T200000
DTSTAMP:20260422T221058
CREATED:20220126T213142Z
LAST-MODIFIED:20220126T213142Z
UID:2180-1658514600-1658520000@southernvoiceband.com
SUMMARY:Southern Voice Acoustic @ Deerfield Mass Summer Concert Series
DESCRIPTION:Located at Memorial Field
URL:https://southernvoiceband.com/event/southern-voice-acoustic-deerfield-mass-summer-concert-series/
LOCATION:Memorial Field\, 8 Conway St.\, Deerfield\, MA
END:VEVENT
BEGIN:VEVENT
DTSTART;TZID=America/New_York:20220721T203000
DTEND;TZID=America/New_York:20220721T233000
DTSTAMP:20260422T221058
CREATED:20220319T174425Z
LAST-MODIFIED:20220319T174425Z
UID:2214-1658435400-1658446200@southernvoiceband.com
SUMMARY:Southern Voice Acoustic @ Sicily Wood Fire Pizza Country Night
DESCRIPTION:
URL:https://southernvoiceband.com/event/southern-voice-acoustic-sicily-wood-fire-pizza-country-night/
LOCATION:Sicily Coal Fired Pizza\, 412 Main St\, Middletown\, CT
END:VEVENT
BEGIN:VEVENT
DTSTART;TZID=America/New_York:20220720T190000
DTEND;TZID=America/New_York:20220720T203000
DTSTAMP:20260422T221058
CREATED:20220126T211734Z
LAST-MODIFIED:20220126T211734Z
UID:2178-1658343600-1658349000@southernvoiceband.com
SUMMARY:Southern Voice @ Wallingford Twilight Tunes
DESCRIPTION:
URL:https://southernvoiceband.com/event/southern-voice-wallingford-twilight-tunes/
END:VEVENT
BEGIN:VEVENT
DTSTART;TZID=America/New_York:20220719T173000
DTEND;TZID=America/New_York:20220719T193000
DTSTAMP:20260422T221058
CREATED:20220310T214936Z
LAST-MODIFIED:20220310T214936Z
UID:2208-1658251800-1658259000@southernvoiceband.com
SUMMARY:Southern Voice Acoustic TPC River Highlands
DESCRIPTION:
URL:https://southernvoiceband.com/event/southern-voice-acoustic-tpc-river-highlands/
LOCATION:TPC River Highlands\, 1 Golf Club Rd\, Cromwell\, CT
END:VEVENT
BEGIN:VEVENT
DTSTART;TZID=America/New_York:20220716T190000
DTEND;TZID=America/New_York:20220716T220000
DTSTAMP:20260422T221058
CREATED:20211118T191403Z
LAST-MODIFIED:20211118T191403Z
UID:2162-1657998000-1658008800@southernvoiceband.com
SUMMARY:Southern Voice @ Witch Meadow Lake Campground
DESCRIPTION:A New Campground for us. We hope you are ready for a night filled of dancing.
URL:https://southernvoiceband.com/event/southern-voice-witch-meadow-lake-campground/
LOCATION:Witch Meadow Lake Campground\, 139 Witch Meadow Rd\, Salem\, CT
END:VEVENT
END:VCALENDAR