BEGIN:VCALENDAR
VERSION:2.0
PRODID:-//Southern Voice - ECPv6.15.11//NONSGML v1.0//EN
CALSCALE:GREGORIAN
METHOD:PUBLISH
X-WR-CALNAME:Southern Voice
X-ORIGINAL-URL:https://southernvoiceband.com
X-WR-CALDESC:Events for Southern Voice
REFRESH-INTERVAL;VALUE=DURATION:PT1H
X-Robots-Tag:noindex
X-PUBLISHED-TTL:PT1H
BEGIN:VTIMEZONE
TZID:America/New_York
BEGIN:DAYLIGHT
TZOFFSETFROM:-0500
TZOFFSETTO:-0400
TZNAME:EDT
DTSTART:20200308T070000
END:DAYLIGHT
BEGIN:STANDARD
TZOFFSETFROM:-0400
TZOFFSETTO:-0500
TZNAME:EST
DTSTART:20201101T060000
END:STANDARD
BEGIN:DAYLIGHT
TZOFFSETFROM:-0500
TZOFFSETTO:-0400
TZNAME:EDT
DTSTART:20210314T070000
END:DAYLIGHT
BEGIN:STANDARD
TZOFFSETFROM:-0400
TZOFFSETTO:-0500
TZNAME:EST
DTSTART:20211107T060000
END:STANDARD
BEGIN:DAYLIGHT
TZOFFSETFROM:-0500
TZOFFSETTO:-0400
TZNAME:EDT
DTSTART:20220313T070000
END:DAYLIGHT
BEGIN:STANDARD
TZOFFSETFROM:-0400
TZOFFSETTO:-0500
TZNAME:EST
DTSTART:20221106T060000
END:STANDARD
BEGIN:DAYLIGHT
TZOFFSETFROM:-0500
TZOFFSETTO:-0400
TZNAME:EDT
DTSTART:20230312T070000
END:DAYLIGHT
BEGIN:STANDARD
TZOFFSETFROM:-0400
TZOFFSETTO:-0500
TZNAME:EST
DTSTART:20231105T060000
END:STANDARD
END:VTIMEZONE
BEGIN:VEVENT
DTSTART;TZID=America/New_York:20220713T193000
DTEND;TZID=America/New_York:20220713T210000
DTSTAMP:20260422T202707
CREATED:20220319T175812Z
LAST-MODIFIED:20220319T175812Z
UID:2225-1657740600-1657746000@southernvoiceband.com
SUMMARY:Southern Voice @ Southington Music on the Green (Raindate Next Day)
DESCRIPTION:
URL:https://southernvoiceband.com/event/southern-voice-southington-music-on-the-green-raindate-next-day/
END:VEVENT
BEGIN:VEVENT
DTSTART;TZID=America/New_York:20220709T173000
DTEND;TZID=America/New_York:20220709T230000
DTSTAMP:20260422T202707
CREATED:20220319T175631Z
LAST-MODIFIED:20220319T175631Z
UID:2223-1657387800-1657407600@southernvoiceband.com
SUMMARY:Wedding (Private)
DESCRIPTION:
URL:https://southernvoiceband.com/event/wedding-private-2/
END:VEVENT
BEGIN:VEVENT
DTSTART;TZID=America/New_York:20220707T183000
DTEND;TZID=America/New_York:20220707T200000
DTSTAMP:20260422T202707
CREATED:20220406T182906Z
LAST-MODIFIED:20220406T182947Z
UID:2240-1657218600-1657224000@southernvoiceband.com
SUMMARY:Durham Summer Concert Series (Acoustic)
DESCRIPTION:
URL:https://southernvoiceband.com/event/durham-summer-concert-series-acoustic/
LOCATION:Allyn Brook Park\, Durham\, CT
END:VEVENT
BEGIN:VEVENT
DTSTART;TZID=America/New_York:20220629T190000
DTEND;TZID=America/New_York:20220629T203000
DTSTAMP:20260422T202707
CREATED:20211118T185436Z
LAST-MODIFIED:20220310T214155Z
UID:2159-1656529200-1656534600@southernvoiceband.com
SUMMARY:Southern Voice Acoustic @ Watertown Summer Concert Series (Raindate 6/30)
DESCRIPTION:
URL:https://southernvoiceband.com/event/southern-voice-acoustic-watertown-summer-concert-series/
LOCATION:Veterans Park\, 570 Nova Scotia Hill Rd\, Watertown\, CT
END:VEVENT
BEGIN:VEVENT
DTSTART;TZID=America/New_York:20220625T210000
DTEND;TZID=America/New_York:20220626T000000
DTSTAMP:20260422T202707
CREATED:20211118T184605Z
LAST-MODIFIED:20211118T184905Z
UID:2157-1656190800-1656201600@southernvoiceband.com
SUMMARY:Southern Voice @ Elicit Brewing Company
DESCRIPTION:
URL:https://southernvoiceband.com/event/southern-voice-elicit-brewing-company-3/
LOCATION:Elicit Brewing\, 165 Adams St\, Manchester\, CT
END:VEVENT
BEGIN:VEVENT
DTSTART;TZID=America/New_York:20220624T190000
DTEND;TZID=America/New_York:20220624T230000
DTSTAMP:20260422T202707
CREATED:20211118T184417Z
LAST-MODIFIED:20211118T184417Z
UID:2154-1656097200-1656111600@southernvoiceband.com
SUMMARY:Southern Voice Acoustic @ Black Dog Bar and Grill
DESCRIPTION:
URL:https://southernvoiceband.com/event/southern-voice-acoustic-black-dog-bar-and-grill/
LOCATION:Black Dog Bar and Grill\, 146 Park Rd\, Putnam\, CT\, 06260
END:VEVENT
BEGIN:VEVENT
DTSTART;TZID=America/New_York:20220623T180000
DTEND;TZID=America/New_York:20220623T210000
DTSTAMP:20260422T202707
CREATED:20220310T214016Z
LAST-MODIFIED:20220310T214016Z
UID:2201-1656007200-1656018000@southernvoiceband.com
SUMMARY:Southern Voice Acoustic @ Preston Ridge
DESCRIPTION:
URL:https://southernvoiceband.com/event/southern-voice-acoustic-preston-ridge/
LOCATION:Preston Ridge Vineyard\, 100 Miller Rd\, Preston\, 06365\, United States
END:VEVENT
BEGIN:VEVENT
DTSTART;TZID=America/New_York:20220621T190000
DTEND;TZID=America/New_York:20220621T203000
DTSTAMP:20260422T202707
CREATED:20220126T211301Z
LAST-MODIFIED:20220126T211301Z
UID:2174-1655838000-1655843400@southernvoiceband.com
SUMMARY:Southern Voice @ Essex Summer Concert
DESCRIPTION:Located at the Ivoryton Green in Essex
URL:https://southernvoiceband.com/event/southern-voice-essex-summer-concert/
LOCATION:Essex Ivoryton Green\, 100 Main Street\, Ivoryton\, CT\, 06442\, United States
END:VEVENT
BEGIN:VEVENT
DTSTART;TZID=America/New_York:20220611T160000
DTEND;TZID=America/New_York:20220611T190000
DTSTAMP:20260422T202707
CREATED:20220310T213838Z
LAST-MODIFIED:20220310T213838Z
UID:2199-1654963200-1654974000@southernvoiceband.com
SUMMARY:Lake Compounce Bites & Pints
DESCRIPTION:
URL:https://southernvoiceband.com/event/lake-compounce-bites-pints-2/
LOCATION:Lake Compounce\, 185 Enterprise Dr\, Bristol\, 06010\, United States
END:VEVENT
BEGIN:VEVENT
DTSTART;TZID=America/New_York:20220610T183000
DTEND;TZID=America/New_York:20220610T223000
DTSTAMP:20260422T202707
CREATED:20220310T213736Z
LAST-MODIFIED:20220310T213736Z
UID:2197-1654885800-1654900200@southernvoiceband.com
SUMMARY:Southern Voice Acoustic @ Clocktown Brewery
DESCRIPTION:
URL:https://southernvoiceband.com/event/southern-voice-acoustic-clocktown-brewery-6/
END:VEVENT
BEGIN:VEVENT
DTSTART;TZID=America/New_York:20220604T160000
DTEND;TZID=America/New_York:20220604T190000
DTSTAMP:20260422T202707
CREATED:20220310T213610Z
LAST-MODIFIED:20220310T213610Z
UID:2195-1654358400-1654369200@southernvoiceband.com
SUMMARY:Lake Compounce Bites & Pints
DESCRIPTION:
URL:https://southernvoiceband.com/event/lake-compounce-bites-pints/
LOCATION:Lake Compounce\, 185 Enterprise Dr\, Bristol\, 06010\, United States
END:VEVENT
BEGIN:VEVENT
DTSTART;TZID=America/New_York:20220602T200000
DTEND;TZID=America/New_York:20220602T230000
DTSTAMP:20260422T202707
CREATED:20220310T213434Z
LAST-MODIFIED:20220310T213434Z
UID:2193-1654200000-1654210800@southernvoiceband.com
SUMMARY:Southern Voice Acoustic @ Sicily Coal Fire Pizza
DESCRIPTION:
URL:https://southernvoiceband.com/event/southern-voice-acoustic-sicily-coal-fire-pizza-4/
LOCATION:Sicily Coal Fired Pizza\, 412 Main St\, Middletown\, CT
END:VEVENT
BEGIN:VEVENT
DTSTART;TZID=America/New_York:20220530T140000
DTEND;TZID=America/New_York:20220530T153000
DTSTAMP:20260422T202707
CREATED:20220310T213122Z
LAST-MODIFIED:20220310T213122Z
UID:2190-1653919200-1653924600@southernvoiceband.com
SUMMARY:Morris Summer Concert Series (Memorial Day)
DESCRIPTION:
URL:https://southernvoiceband.com/event/morris-summer-concert-series-memorial-day/
LOCATION:Morris Town Green\, 15 South St\, Morris\, CT
END:VEVENT
BEGIN:VEVENT
DTSTART;TZID=America/New_York:20220527T180000
DTEND;TZID=America/New_York:20220527T210000
DTSTAMP:20260422T202707
CREATED:20220319T174127Z
LAST-MODIFIED:20220319T174127Z
UID:2212-1653674400-1653685200@southernvoiceband.com
SUMMARY:Southern Voice Acoustic @ Jesse Camille's Restaurant
DESCRIPTION:
URL:https://southernvoiceband.com/event/southern-voice-acoustic-jesse-camilles-restaurant/
LOCATION:Jesse Camille’s Restaurant\, 615 North Church St Rte 63\, Naugatuck\, CT
END:VEVENT
BEGIN:VEVENT
DTSTART;TZID=America/New_York:20220514T183000
DTEND;TZID=America/New_York:20220514T213000
DTSTAMP:20260422T202707
CREATED:20220310T211844Z
LAST-MODIFIED:20220310T211844Z
UID:2188-1652553000-1652563800@southernvoiceband.com
SUMMARY:Southern Voice Acoustic @ Clocktown Brewery
DESCRIPTION:
URL:https://southernvoiceband.com/event/southern-voice-acoustic-clocktown-brewery-5/
END:VEVENT
BEGIN:VEVENT
DTSTART;TZID=America/New_York:20220513T203000
DTEND;TZID=America/New_York:20220514T003000
DTSTAMP:20260422T202707
CREATED:20211118T183757Z
LAST-MODIFIED:20211118T183757Z
UID:2152-1652473800-1652488200@southernvoiceband.com
SUMMARY:Southern Voice @ Comix Roadhouse (Mohegan Sun Casino)
DESCRIPTION:
URL:https://southernvoiceband.com/event/southern-voice-comix-roadhouse-mohegan-sun-casino-7/
LOCATION:Comix Roadhouse Mohegan Sun\, 1 Mohegan Sun\, Uncasville\, CT\, 06382
END:VEVENT
BEGIN:VEVENT
DTSTART;TZID=America/New_York:20220512T200000
DTEND;TZID=America/New_York:20220512T230000
DTSTAMP:20260422T202707
CREATED:20220310T211706Z
LAST-MODIFIED:20220310T211706Z
UID:2186-1652385600-1652396400@southernvoiceband.com
SUMMARY:Southern Voice Acoustic @ Sicily Coal Fire Pizza
DESCRIPTION:
URL:https://southernvoiceband.com/event/southern-voice-acoustic-sicily-coal-fire-pizza-3/
LOCATION:Sicily Coal Fired Pizza\, 412 Main St\, Middletown\, CT
END:VEVENT
BEGIN:VEVENT
DTSTART;TZID=America/New_York:20220428T200000
DTEND;TZID=America/New_York:20220428T233000
DTSTAMP:20260422T202707
CREATED:20220406T182625Z
LAST-MODIFIED:20220423T231114Z
UID:2238-1651176000-1651188600@southernvoiceband.com
SUMMARY:Southern Voice @ Sicily Coal Fire Pizza (Acoustic)
DESCRIPTION:
URL:https://southernvoiceband.com/event/southern-voice-sicily-coal-fire-pizza-acoustic/
LOCATION:Sicily Coal Fired Pizza\, 412 Main St\, Middletown\, CT
END:VEVENT
BEGIN:VEVENT
DTSTART;TZID=America/New_York:20220402T210000
DTEND;TZID=America/New_York:20220403T000000
DTSTAMP:20260422T202707
CREATED:20211118T183519Z
LAST-MODIFIED:20211118T183519Z
UID:2150-1648933200-1648944000@southernvoiceband.com
SUMMARY:Southern Voice @ Elicit Brewing Company
DESCRIPTION:
URL:https://southernvoiceband.com/event/southern-voice-elicit-brewing-company-2/
LOCATION:Elicit Brewing\, 165 Adams St\, Manchester\, CT
END:VEVENT
BEGIN:VEVENT
DTSTART;TZID=America/New_York:20220401T180000
DTEND;TZID=America/New_York:20220401T210000
DTSTAMP:20260422T202707
CREATED:20220126T210839Z
LAST-MODIFIED:20220126T210839Z
UID:2172-1648836000-1648846800@southernvoiceband.com
SUMMARY:Southern Voice Acoustic @ Clocktown Brewery
DESCRIPTION:
URL:https://southernvoiceband.com/event/southern-voice-acoustic-clocktown-brewery-4/
LOCATION:Clocktown Brewery\, 135 South Main St\, Thomaston\, 06787\, United States
END:VEVENT
BEGIN:VEVENT
DTSTART;TZID=America/New_York:20220317T190000
DTEND;TZID=America/New_York:20220317T220000
DTSTAMP:20260422T202707
CREATED:20220310T210059Z
LAST-MODIFIED:20220310T210059Z
UID:2183-1647543600-1647554400@southernvoiceband.com
SUMMARY:Southern Voice Acoustic St. Patty's Day @ Jesse Camille's Restaurant
DESCRIPTION:
URL:https://southernvoiceband.com/event/southern-voice-acoustic-st-pattys-day-jesse-camilles-restaurant/
LOCATION:Jesse Camille’s Restaurant\, 615 North Church St Rte 63\, Naugatuck\, CT
END:VEVENT
BEGIN:VEVENT
DTSTART;TZID=America/New_York:20220305T180000
DTEND;TZID=America/New_York:20220305T210000
DTSTAMP:20260422T202707
CREATED:20220126T210513Z
LAST-MODIFIED:20220126T210513Z
UID:2170-1646503200-1646514000@southernvoiceband.com
SUMMARY:Southern Voice Acoustic @ Clocktown Brewing Company
DESCRIPTION:
URL:https://southernvoiceband.com/event/southern-voice-acoustic-clocktown-brewing-company-3/
LOCATION:Clocktown Brewery\, 135 South Main St\, Thomaston\, 06787\, United States
END:VEVENT
BEGIN:VEVENT
DTSTART;TZID=America/New_York:20220304T210000
DTEND;TZID=America/New_York:20220305T010000
DTSTAMP:20260422T202707
CREATED:20220126T210328Z
LAST-MODIFIED:20220126T210328Z
UID:2168-1646427600-1646442000@southernvoiceband.com
SUMMARY:Southern Voice @ Comix Roadhouse (Mohegan Sun Casino)
DESCRIPTION:
URL:https://southernvoiceband.com/event/southern-voice-comix-roadhouse-mohegan-sun-casino-8/
LOCATION:Comix Roadhouse Mohegan Sun\, 1 Mohegan Sun\, Uncasville\, CT\, 06382
END:VEVENT
BEGIN:VEVENT
DTSTART;TZID=America/New_York:20220303T200000
DTEND;TZID=America/New_York:20220303T230000
DTSTAMP:20260422T202707
CREATED:20211118T181201Z
LAST-MODIFIED:20211118T181201Z
UID:2147-1646337600-1646348400@southernvoiceband.com
SUMMARY:Southern Voice Acoustic @ Sicily Coal Fire Pizza
DESCRIPTION:Sicily Coal Fire Pizza teams together with Country 92.5 to bring you A taste of Nashville every Thursday night. With live music and a dj.
URL:https://southernvoiceband.com/event/southern-voice-acoustic-sicily-coal-fire-pizza-2/
LOCATION:Sicily Coal Fired Pizza\, 412 Main St\, Middletown\, CT
END:VEVENT
BEGIN:VEVENT
DTSTART;TZID=America/New_York:20220226T183000
DTEND;TZID=America/New_York:20220226T213000
DTSTAMP:20260422T202707
CREATED:20211118T171427Z
LAST-MODIFIED:20220126T205921Z
UID:2140-1645900200-1645911000@southernvoiceband.com
SUMMARY:Southern Voice Acoustic @ Clocktown Brewing Company
DESCRIPTION:A fun place for you to sample some of the awesome beers along with an opportunity to listen to live music.
URL:https://southernvoiceband.com/event/southern-voice-acoustic-clocktown-brewing-company-2/
LOCATION:Clocktown Brewery\, 135 South Main St\, Thomaston\, 06787\, United States
END:VEVENT
BEGIN:VEVENT
DTSTART;TZID=America/New_York:20220226T110000
DTEND;TZID=America/New_York:20220226T150000
DTSTAMP:20260422T202707
CREATED:20211118T175925Z
LAST-MODIFIED:20211118T180549Z
UID:2144-1645873200-1645887600@southernvoiceband.com
SUMMARY:Southern Voice @ The Farms Country Club Wedding & Event Expo
DESCRIPTION:Presented By Pink Olive Events and The Farms Country Club.
URL:https://southernvoiceband.com/event/southern-voice-the-farms-country-club-wedding-event-expo/
LOCATION:The Farms Country Club\, 180 Cheshire Rd\, Wallingford\, CT
END:VEVENT
BEGIN:VEVENT
DTSTART;TZID=America/New_York:20220225T193000
DTEND;TZID=America/New_York:20220225T223000
DTSTAMP:20260422T202707
CREATED:20220126T210101Z
LAST-MODIFIED:20220126T210101Z
UID:2166-1645817400-1645828200@southernvoiceband.com
SUMMARY:Southern Voice Acoustic @ Rail 99 Tavern
DESCRIPTION:
URL:https://southernvoiceband.com/event/southern-voice-acoustic-rail-99-tavern/
LOCATION:Rail 99 Tavern\, 1 Wall Street\, Cromwell\, ct\, 06416
END:VEVENT
BEGIN:VEVENT
DTSTART;TZID=America/New_York:20220108T210000
DTEND;TZID=America/New_York:20220109T000000
DTSTAMP:20260422T202707
CREATED:20211118T171050Z
LAST-MODIFIED:20211118T171050Z
UID:2138-1641675600-1641686400@southernvoiceband.com
SUMMARY:Southern Voice @ Elicit Brewing Company
DESCRIPTION:We are excited to be back for a fun filled evening at the Elicit Brewing Company. We can’t wait to see you there.
URL:https://southernvoiceband.com/event/southern-voice-elicit-brewing-company/
LOCATION:Elicit Brewing\, 165 Adams St\, Manchester\, CT
END:VEVENT
BEGIN:VEVENT
DTSTART;TZID=America/New_York:20220107T180000
DTEND;TZID=America/New_York:20220107T210000
DTSTAMP:20260422T202707
CREATED:20210826T224446Z
LAST-MODIFIED:20210826T224446Z
UID:2107-1641578400-1641589200@southernvoiceband.com
SUMMARY:Southern Voice @ Clocktown Brewery
DESCRIPTION:
URL:https://southernvoiceband.com/event/southern-voice-clocktown-brewery-2/
LOCATION:Clocktown Brewery\, 135 South Main St\, Thomaston\, 06787\, United States
END:VEVENT
BEGIN:VEVENT
DTSTART;TZID=America/New_York:20211216T200000
DTEND;TZID=America/New_York:20211216T230000
DTSTAMP:20260422T202707
CREATED:20211118T170736Z
LAST-MODIFIED:20211118T182217Z
UID:2136-1639684800-1639695600@southernvoiceband.com
SUMMARY:Southern Voice Acoustic @ Sicily Coal Fire Pizza
DESCRIPTION:Head on down for a night with Country 92.5 along with James and Matt (Whitt) of Southern Voice\, as they  bring you a fun filled evening.
URL:https://southernvoiceband.com/event/southern-voice-acoustic-sicily-coal-fire-pizza/
LOCATION:Sicily Coal Fired Pizza\, 412 Main St\, Middletown\, CT
END:VEVENT
END:VCALENDAR