BEGIN:VCALENDAR
VERSION:2.0
PRODID:-//Southern Voice - ECPv6.15.11//NONSGML v1.0//EN
CALSCALE:GREGORIAN
METHOD:PUBLISH
X-WR-CALNAME:Southern Voice
X-ORIGINAL-URL:https://southernvoiceband.com
X-WR-CALDESC:Events for Southern Voice
REFRESH-INTERVAL;VALUE=DURATION:PT1H
X-Robots-Tag:noindex
X-PUBLISHED-TTL:PT1H
BEGIN:VTIMEZONE
TZID:America/New_York
BEGIN:DAYLIGHT
TZOFFSETFROM:-0500
TZOFFSETTO:-0400
TZNAME:EDT
DTSTART:20190310T070000
END:DAYLIGHT
BEGIN:STANDARD
TZOFFSETFROM:-0400
TZOFFSETTO:-0500
TZNAME:EST
DTSTART:20191103T060000
END:STANDARD
BEGIN:DAYLIGHT
TZOFFSETFROM:-0500
TZOFFSETTO:-0400
TZNAME:EDT
DTSTART:20200308T070000
END:DAYLIGHT
BEGIN:STANDARD
TZOFFSETFROM:-0400
TZOFFSETTO:-0500
TZNAME:EST
DTSTART:20201101T060000
END:STANDARD
BEGIN:DAYLIGHT
TZOFFSETFROM:-0500
TZOFFSETTO:-0400
TZNAME:EDT
DTSTART:20210314T070000
END:DAYLIGHT
BEGIN:STANDARD
TZOFFSETFROM:-0400
TZOFFSETTO:-0500
TZNAME:EST
DTSTART:20211107T060000
END:STANDARD
BEGIN:DAYLIGHT
TZOFFSETFROM:-0500
TZOFFSETTO:-0400
TZNAME:EDT
DTSTART:20220313T070000
END:DAYLIGHT
BEGIN:STANDARD
TZOFFSETFROM:-0400
TZOFFSETTO:-0500
TZNAME:EST
DTSTART:20221106T060000
END:STANDARD
END:VTIMEZONE
BEGIN:VEVENT
DTSTART;TZID=America/New_York:20210621T180000
DTEND;TZID=America/New_York:20210621T203000
DTSTAMP:20260423T094104
CREATED:20210513T120532Z
LAST-MODIFIED:20210513T120532Z
UID:2012-1624298400-1624307400@southernvoiceband.com
SUMMARY:Southern Voice Acoustic @ Cozy Hills Campground
DESCRIPTION:
URL:https://southernvoiceband.com/event/southern-voice-acoustic-cozy-hills-campground/
LOCATION:Cozy Hills Campground\, 1311 Bantam Rd\, Bantam\, CT
END:VEVENT
BEGIN:VEVENT
DTSTART;TZID=America/New_York:20210619T190000
DTEND;TZID=America/New_York:20210619T220000
DTSTAMP:20260423T094104
CREATED:20210217T175051Z
LAST-MODIFIED:20210217T175051Z
UID:1973-1624129200-1624140000@southernvoiceband.com
SUMMARY:Southern Voice @ Sunfox Campground
DESCRIPTION:
URL:https://southernvoiceband.com/event/southern-voice-sunfox-campground/
LOCATION:Sunfox Campground\, 15 Kenyon Road\, Lisbon\, CT\, 06351\, United States
END:VEVENT
BEGIN:VEVENT
DTSTART;TZID=America/New_York:20210618T180000
DTEND;TZID=America/New_York:20210618T210000
DTSTAMP:20260423T094104
CREATED:20210513T120204Z
LAST-MODIFIED:20210513T120204Z
UID:2008-1624039200-1624050000@southernvoiceband.com
SUMMARY:Southern Voice Acoustic @ Clocktown Brewery
DESCRIPTION:
URL:https://southernvoiceband.com/event/southern-voice-acoustic-clocktown-brewery/
LOCATION:Clocktown Brewery\, 135 South Main St\, Thomaston\, 06787\, United States
END:VEVENT
BEGIN:VEVENT
DTSTART;TZID=America/New_York:20210606T140000
DTEND;TZID=America/New_York:20210606T190000
DTSTAMP:20260423T094104
CREATED:20210513T115935Z
LAST-MODIFIED:20210513T115935Z
UID:2005-1622988000-1623006000@southernvoiceband.com
SUMMARY:Southern Voice @ Lake Compounce Amusement Park
DESCRIPTION:
URL:https://southernvoiceband.com/event/southern-voice-lake-compounce-amusement-park/
LOCATION:Lake Compounce\, 185 Enterprise Dr\, Bristol\, 06010\, United States
END:VEVENT
BEGIN:VEVENT
DTSTART;TZID=America/New_York:20210522T133000
DTEND;TZID=America/New_York:20210522T173000
DTSTAMP:20260423T094104
CREATED:20210513T115627Z
LAST-MODIFIED:20210513T115627Z
UID:2002-1621690200-1621704600@southernvoiceband.com
SUMMARY:Southern Voice Acoustic @ Arrigoni Winery
DESCRIPTION:
URL:https://southernvoiceband.com/event/southern-voice-acoustic-arrigoni-winery/
LOCATION:Arrigoni Winery\, 1287 Portland -Cobalt Rd\, Portland\, 06480\, United States
END:VEVENT
BEGIN:VEVENT
DTSTART;TZID=America/New_York:20210521T203000
DTEND;TZID=America/New_York:20210521T233000
DTSTAMP:20260423T094104
CREATED:20210513T115238Z
LAST-MODIFIED:20210513T115339Z
UID:1998-1621629000-1621639800@southernvoiceband.com
SUMMARY:Southern Voice Acoustic @ Rooftop 120
DESCRIPTION:
URL:https://southernvoiceband.com/event/southern-voice-acoustic-rooftop-120/
LOCATION:Rooftop 120\, 120 Hebron Ave\, Glastonbury\, CT
END:VEVENT
BEGIN:VEVENT
DTSTART;TZID=America/New_York:20210423T204500
DTEND;TZID=America/New_York:20210424T000000
DTSTAMP:20260423T094104
CREATED:20210217T174558Z
LAST-MODIFIED:20210217T181129Z
UID:1971-1619210700-1619222400@southernvoiceband.com
SUMMARY:Southern Voice @ Comix Roadhouse Mohegan Sun
DESCRIPTION:
URL:https://southernvoiceband.com/event/southern-voice-comix-roadhouse-mohegan-sun-6/
LOCATION:Comix Roadhouse Mohegan Sun\, 1 Mohegan Sun\, Uncasville\, CT\, 06382
END:VEVENT
BEGIN:VEVENT
DTSTART;TZID=America/New_York:20210320T201500
DTEND;TZID=America/New_York:20210320T224500
DTSTAMP:20260423T094104
CREATED:20210219T210549Z
LAST-MODIFIED:20210219T210549Z
UID:1995-1616271300-1616280300@southernvoiceband.com
SUMMARY:Southern Voice @ Comix Roadhouse Mohegan Sun
DESCRIPTION:
URL:https://southernvoiceband.com/event/southern-voice-comix-roadhouse-mohegan-sun-7/
LOCATION:Comix Roadhouse Mohegan Sun\, 1 Mohegan Sun\, Uncasville\, CT\, 06382
END:VEVENT
BEGIN:VEVENT
DTSTART;TZID=America/New_York:20201031T203000
DTEND;TZID=America/New_York:20201031T203000
DTSTAMP:20260423T094104
CREATED:20200629T145912Z
LAST-MODIFIED:20200629T145912Z
UID:1962-1604176200-1604176200@southernvoiceband.com
SUMMARY:Southern Voice @ Comix Roadhouse
DESCRIPTION:
URL:https://southernvoiceband.com/event/southern-voice-comix-roadhouse-2/
LOCATION:Comix Roadhouse Mohegan Sun\, 1 Mohegan Sun\, Uncasville\, CT\, 06382
END:VEVENT
BEGIN:VEVENT
DTSTART;TZID=America/New_York:20200919T203000
DTEND;TZID=America/New_York:20200919T203000
DTSTAMP:20260423T094104
CREATED:20200629T145018Z
LAST-MODIFIED:20200629T145937Z
UID:1960-1600547400-1600547400@southernvoiceband.com
SUMMARY:Southern Voice @ Comix Roadhouse
DESCRIPTION:
URL:https://southernvoiceband.com/event/southern-voice-comix-roadhouse/
LOCATION:Comix Roadhouse Mohegan Sun\, 1 Mohegan Sun\, Uncasville\, CT\, 06382
END:VEVENT
BEGIN:VEVENT
DTSTART;TZID=America/New_York:20200918T080000
DTEND;TZID=America/New_York:20200918T170000
DTSTAMP:20260423T094104
CREATED:20200629T144908Z
LAST-MODIFIED:20200629T144908Z
UID:1958-1600416000-1600448400@southernvoiceband.com
SUMMARY:Southern Voice @ Rooftop 120
DESCRIPTION:
URL:https://southernvoiceband.com/event/southern-voice-rooftop-120/
END:VEVENT
BEGIN:VEVENT
DTSTART;TZID=America/New_York:20200913T103000
DTEND;TZID=America/New_York:20200913T133000
DTSTAMP:20260423T094104
CREATED:20200629T143112Z
LAST-MODIFIED:20200629T143112Z
UID:1956-1599993000-1600003800@southernvoiceband.com
SUMMARY:SV Trio @ Lady Kate Boat Cruise
DESCRIPTION:
URL:https://southernvoiceband.com/event/sv-trio-lady-kate-boat-cruise/
END:VEVENT
BEGIN:VEVENT
DTSTART;TZID=America/New_York:20200905T190000
DTEND;TZID=America/New_York:20200905T220000
DTSTAMP:20260423T094104
CREATED:20200629T142954Z
LAST-MODIFIED:20200629T142954Z
UID:1954-1599332400-1599343200@southernvoiceband.com
SUMMARY:Southern Voice @ Cozy Hill Campground
DESCRIPTION:
URL:https://southernvoiceband.com/event/southern-voice-cozy-hill-campground-4/
LOCATION:Cozy Hills Campground\, 1311 Bantam Rd\, Bantam\, CT
END:VEVENT
BEGIN:VEVENT
DTSTART;TZID=America/New_York:20200904T180000
DTEND;TZID=America/New_York:20200904T210000
DTSTAMP:20260423T094104
CREATED:20200629T142850Z
LAST-MODIFIED:20200629T142850Z
UID:1952-1599242400-1599253200@southernvoiceband.com
SUMMARY:SV Trio @ Holland Mass
DESCRIPTION:
URL:https://southernvoiceband.com/event/sv-trio-holland-mass/
END:VEVENT
BEGIN:VEVENT
DTSTART;TZID=America/New_York:20200820T080000
DTEND;TZID=America/New_York:20200820T170000
DTSTAMP:20260423T094104
CREATED:20200629T142737Z
LAST-MODIFIED:20200629T142737Z
UID:1950-1597910400-1597942800@southernvoiceband.com
SUMMARY:SV Trio @ Preston Ridge
DESCRIPTION:
URL:https://southernvoiceband.com/event/sv-trio-preston-ridge/
END:VEVENT
BEGIN:VEVENT
DTSTART;TZID=America/New_York:20200812T190000
DTEND;TZID=America/New_York:20200812T203000
DTSTAMP:20260423T094104
CREATED:20200629T142654Z
LAST-MODIFIED:20200629T142654Z
UID:1948-1597258800-1597264200@southernvoiceband.com
SUMMARY:Southern Voice @ Twighlight Tunes Wallingford
DESCRIPTION:
URL:https://southernvoiceband.com/event/southern-voice-twighlight-tunes-wallingford/
END:VEVENT
BEGIN:VEVENT
DTSTART;TZID=America/New_York:20200807T173000
DTEND;TZID=America/New_York:20200807T193000
DTSTAMP:20260423T094104
CREATED:20200629T142531Z
LAST-MODIFIED:20200629T142531Z
UID:1945-1596821400-1596828600@southernvoiceband.com
SUMMARY:Southern Voice @ Westbrook Summer Concert Series
DESCRIPTION:
URL:https://southernvoiceband.com/event/southern-voice-westbrook-summer-concert-series/
LOCATION:Westbrook\, 1179 Boston Post Rd\, Westbrook\, 06498\, United States
END:VEVENT
BEGIN:VEVENT
DTSTART;TZID=America/New_York:20200805T190000
DTEND;TZID=America/New_York:20200805T203000
DTSTAMP:20260423T094104
CREATED:20200629T142215Z
LAST-MODIFIED:20200629T142215Z
UID:1943-1596654000-1596659400@southernvoiceband.com
SUMMARY:Southern Voice @ Prospect Summer Concert Series
DESCRIPTION:
URL:https://southernvoiceband.com/event/southern-voice-prospect-summer-concert-series/
LOCATION:Prospect Green\, 12 Center Street\, Prospect\, CT\, 06712\, United States
END:VEVENT
BEGIN:VEVENT
DTSTART;TZID=America/New_York:20200729T180000
DTEND;TZID=America/New_York:20200729T193000
DTSTAMP:20260423T094104
CREATED:20200629T141935Z
LAST-MODIFIED:20200629T141935Z
UID:1941-1596045600-1596051000@southernvoiceband.com
SUMMARY:Southern Voice @ Essex Summer Concert Series
DESCRIPTION:
URL:https://southernvoiceband.com/event/southern-voice-essex-summer-concert-series/
LOCATION:Essex Ivoryton Green\, 100 Main Street\, Ivoryton\, CT\, 06442\, United States
END:VEVENT
BEGIN:VEVENT
DTSTART;TZID=America/New_York:20200718T190000
DTEND;TZID=America/New_York:20200718T220000
DTSTAMP:20260423T094104
CREATED:20200629T141825Z
LAST-MODIFIED:20200629T141825Z
UID:1939-1595098800-1595109600@southernvoiceband.com
SUMMARY:Southern Voice @ Cozy Hill Campground
DESCRIPTION:
URL:https://southernvoiceband.com/event/southern-voice-cozy-hill-campground-3/
LOCATION:Cozy Hills Campground\, 1311 Bantam Rd\, Bantam\, CT
END:VEVENT
BEGIN:VEVENT
DTSTART;TZID=America/New_York:20200710T190000
DTEND;TZID=America/New_York:20200710T220000
DTSTAMP:20260423T094104
CREATED:20200629T141703Z
LAST-MODIFIED:20200629T141703Z
UID:1937-1594407600-1594418400@southernvoiceband.com
SUMMARY:SV Trio @ TPC
DESCRIPTION:
URL:https://southernvoiceband.com/event/sv-trio-tpc/
END:VEVENT
BEGIN:VEVENT
DTSTART;TZID=America/New_York:20200705T150000
DTEND;TZID=America/New_York:20200705T180000
DTSTAMP:20260423T094104
CREATED:20200629T141019Z
LAST-MODIFIED:20200629T141019Z
UID:1935-1593961200-1593972000@southernvoiceband.com
SUMMARY:SV Trio @ Jessi Camilles
DESCRIPTION:
URL:https://southernvoiceband.com/event/sv-trio-jessi-camilles/
END:VEVENT
BEGIN:VEVENT
DTSTART;TZID=America/New_York:20200704T170000
DTEND;TZID=America/New_York:20200704T200000
DTSTAMP:20260423T094104
CREATED:20200629T140755Z
LAST-MODIFIED:20200629T141037Z
UID:1933-1593882000-1593892800@southernvoiceband.com
SUMMARY:Private Party - Kinderhook\, NY
DESCRIPTION:
URL:https://southernvoiceband.com/event/private-party-kinderhook-ny/
END:VEVENT
BEGIN:VEVENT
DTSTART;TZID=America/New_York:20200531T150000
DTEND;TZID=America/New_York:20200531T180000
DTSTAMP:20260423T094104
CREATED:20191213T193219Z
LAST-MODIFIED:20191213T193219Z
UID:1926-1590937200-1590948000@southernvoiceband.com
SUMMARY:Southern Voice @ Charlestown Rathskeller
DESCRIPTION:
URL:https://southernvoiceband.com/event/southern-voice-charlestown-rathskeller/
LOCATION:Charlestown Rathskeller\, 489A Old Coach Road\, Charlestown\, RI\, 02813\, United States
END:VEVENT
BEGIN:VEVENT
DTSTART;TZID=America/New_York:20200523T190000
DTEND;TZID=America/New_York:20200523T230000
DTSTAMP:20260423T094104
CREATED:20191213T192936Z
LAST-MODIFIED:20191213T192936Z
UID:1924-1590260400-1590274800@southernvoiceband.com
SUMMARY:Southern Voice @ Cozy Hill Campground
DESCRIPTION:
URL:https://southernvoiceband.com/event/southern-voice-cozy-hill-campground-2/
LOCATION:Cozy Hills Campground\, 1311 Bantam Rd\, Bantam\, CT
END:VEVENT
BEGIN:VEVENT
DTSTART;TZID=America/New_York:20200424T203000
DTEND;TZID=America/New_York:20200424T233000
DTSTAMP:20260423T094104
CREATED:20191213T192801Z
LAST-MODIFIED:20191213T192801Z
UID:1922-1587760200-1587771000@southernvoiceband.com
SUMMARY:Southern Voice @ Comix Roadhouse Mohegan Sun
DESCRIPTION:
URL:https://southernvoiceband.com/event/southern-voice-comix-roadhouse-mohegan-sun-5/
LOCATION:Comix Roadhouse Mohegan Sun\, 1 Mohegan Sun\, Uncasville\, CT\, 06382
END:VEVENT
BEGIN:VEVENT
DTSTART;TZID=America/New_York:20200321T203000
DTEND;TZID=America/New_York:20200321T233000
DTSTAMP:20260423T094104
CREATED:20191213T192705Z
LAST-MODIFIED:20191213T192705Z
UID:1920-1584822600-1584833400@southernvoiceband.com
SUMMARY:Southern Voice @ Comix Roadhouse Mohegan Sun
DESCRIPTION:
URL:https://southernvoiceband.com/event/southern-voice-comix-roadhouse-mohegan-sun-4/
END:VEVENT
BEGIN:VEVENT
DTSTART;TZID=America/New_York:20200313T200000
DTEND;TZID=America/New_York:20200313T230000
DTSTAMP:20260423T094104
CREATED:20191213T192553Z
LAST-MODIFIED:20191213T192553Z
UID:1917-1584129600-1584140400@southernvoiceband.com
SUMMARY:Southern Voice @ Phoenix Dining and Entertainment
DESCRIPTION:
URL:https://southernvoiceband.com/event/southern-voice-phoenix-dining-and-entertainment/
LOCATION:Phoenix Dining and Entertainment\, 215 Liberty Street\, Pawcatuck\, 06379\, United States
END:VEVENT
BEGIN:VEVENT
DTSTART;TZID=America/New_York:20200214T203000
DTEND;TZID=America/New_York:20200214T233000
DTSTAMP:20260423T094104
CREATED:20191213T192005Z
LAST-MODIFIED:20191213T192032Z
UID:1915-1581712200-1581723000@southernvoiceband.com
SUMMARY:Southern Voice @ Valentine's Day Comix Roadhouse Mohegan Sun Casino
DESCRIPTION:
URL:https://southernvoiceband.com/event/southern-voice-valentines-day-comix-roadhouse-mohegan-sun-casino/
END:VEVENT
BEGIN:VEVENT
DTSTART;TZID=America/New_York:20200118T203000
DTEND;TZID=America/New_York:20200118T233000
DTSTAMP:20260423T094104
CREATED:20191213T191521Z
LAST-MODIFIED:20191213T191521Z
UID:1913-1579379400-1579390200@southernvoiceband.com
SUMMARY:Southern Voice @ Comix Roadhouse Mohegan Sun Casino
DESCRIPTION:
URL:https://southernvoiceband.com/event/southern-voice-comix-roadhouse-mohegan-sun-casino-5/
LOCATION:Comix Roadhouse Mohegan Sun\, 1 Mohegan Sun\, Uncasville\, CT\, 06382
END:VEVENT
END:VCALENDAR