BEGIN:VCALENDAR
VERSION:2.0
PRODID:-//Southern Voice - ECPv6.15.11//NONSGML v1.0//EN
CALSCALE:GREGORIAN
METHOD:PUBLISH
X-WR-CALNAME:Southern Voice
X-ORIGINAL-URL:https://southernvoiceband.com
X-WR-CALDESC:Events for Southern Voice
REFRESH-INTERVAL;VALUE=DURATION:PT1H
X-Robots-Tag:noindex
X-PUBLISHED-TTL:PT1H
BEGIN:VTIMEZONE
TZID:America/New_York
BEGIN:DAYLIGHT
TZOFFSETFROM:-0500
TZOFFSETTO:-0400
TZNAME:EDT
DTSTART:20180311T070000
END:DAYLIGHT
BEGIN:STANDARD
TZOFFSETFROM:-0400
TZOFFSETTO:-0500
TZNAME:EST
DTSTART:20181104T060000
END:STANDARD
BEGIN:DAYLIGHT
TZOFFSETFROM:-0500
TZOFFSETTO:-0400
TZNAME:EDT
DTSTART:20190310T070000
END:DAYLIGHT
BEGIN:STANDARD
TZOFFSETFROM:-0400
TZOFFSETTO:-0500
TZNAME:EST
DTSTART:20191103T060000
END:STANDARD
BEGIN:DAYLIGHT
TZOFFSETFROM:-0500
TZOFFSETTO:-0400
TZNAME:EDT
DTSTART:20200308T070000
END:DAYLIGHT
BEGIN:STANDARD
TZOFFSETFROM:-0400
TZOFFSETTO:-0500
TZNAME:EST
DTSTART:20201101T060000
END:STANDARD
BEGIN:DAYLIGHT
TZOFFSETFROM:-0500
TZOFFSETTO:-0400
TZNAME:EDT
DTSTART:20210314T070000
END:DAYLIGHT
BEGIN:STANDARD
TZOFFSETFROM:-0400
TZOFFSETTO:-0500
TZNAME:EST
DTSTART:20211107T060000
END:STANDARD
END:VTIMEZONE
BEGIN:VEVENT
DTSTART;TZID=America/New_York:20200718T190000
DTEND;TZID=America/New_York:20200718T220000
DTSTAMP:20260423T175644
CREATED:20200629T141825Z
LAST-MODIFIED:20200629T141825Z
UID:1939-1595098800-1595109600@southernvoiceband.com
SUMMARY:Southern Voice @ Cozy Hill Campground
DESCRIPTION:
URL:https://southernvoiceband.com/event/southern-voice-cozy-hill-campground-3/
LOCATION:Cozy Hills Campground\, 1311 Bantam Rd\, Bantam\, CT
END:VEVENT
BEGIN:VEVENT
DTSTART;TZID=America/New_York:20200710T190000
DTEND;TZID=America/New_York:20200710T220000
DTSTAMP:20260423T175644
CREATED:20200629T141703Z
LAST-MODIFIED:20200629T141703Z
UID:1937-1594407600-1594418400@southernvoiceband.com
SUMMARY:SV Trio @ TPC
DESCRIPTION:
URL:https://southernvoiceband.com/event/sv-trio-tpc/
LOCATION:CT
END:VEVENT
BEGIN:VEVENT
DTSTART;TZID=America/New_York:20200705T150000
DTEND;TZID=America/New_York:20200705T180000
DTSTAMP:20260423T175644
CREATED:20200629T141019Z
LAST-MODIFIED:20200629T141019Z
UID:1935-1593961200-1593972000@southernvoiceband.com
SUMMARY:SV Trio @ Jessi Camilles
DESCRIPTION:
URL:https://southernvoiceband.com/event/sv-trio-jessi-camilles/
LOCATION:CT
END:VEVENT
BEGIN:VEVENT
DTSTART;TZID=America/New_York:20200704T170000
DTEND;TZID=America/New_York:20200704T200000
DTSTAMP:20260423T175644
CREATED:20200629T140755Z
LAST-MODIFIED:20200629T141037Z
UID:1933-1593882000-1593892800@southernvoiceband.com
SUMMARY:Private Party - Kinderhook\, NY
DESCRIPTION:
URL:https://southernvoiceband.com/event/private-party-kinderhook-ny/
LOCATION:CT
END:VEVENT
BEGIN:VEVENT
DTSTART;TZID=America/New_York:20200531T150000
DTEND;TZID=America/New_York:20200531T180000
DTSTAMP:20260423T175644
CREATED:20191213T193219Z
LAST-MODIFIED:20191213T193219Z
UID:1926-1590937200-1590948000@southernvoiceband.com
SUMMARY:Southern Voice @ Charlestown Rathskeller
DESCRIPTION:
URL:https://southernvoiceband.com/event/southern-voice-charlestown-rathskeller/
LOCATION:Charlestown Rathskeller\, 489A Old Coach Road\, Charlestown\, RI\, 02813\, United States
END:VEVENT
BEGIN:VEVENT
DTSTART;TZID=America/New_York:20200523T190000
DTEND;TZID=America/New_York:20200523T230000
DTSTAMP:20260423T175644
CREATED:20191213T192936Z
LAST-MODIFIED:20191213T192936Z
UID:1924-1590260400-1590274800@southernvoiceband.com
SUMMARY:Southern Voice @ Cozy Hill Campground
DESCRIPTION:
URL:https://southernvoiceband.com/event/southern-voice-cozy-hill-campground-2/
LOCATION:Cozy Hills Campground\, 1311 Bantam Rd\, Bantam\, CT
END:VEVENT
BEGIN:VEVENT
DTSTART;TZID=America/New_York:20200424T203000
DTEND;TZID=America/New_York:20200424T233000
DTSTAMP:20260423T175644
CREATED:20191213T192801Z
LAST-MODIFIED:20191213T192801Z
UID:1922-1587760200-1587771000@southernvoiceband.com
SUMMARY:Southern Voice @ Comix Roadhouse Mohegan Sun
DESCRIPTION:
URL:https://southernvoiceband.com/event/southern-voice-comix-roadhouse-mohegan-sun-5/
LOCATION:Comix Roadhouse Mohegan Sun\, 1 Mohegan Sun\, Uncasville\, CT\, 06382
END:VEVENT
BEGIN:VEVENT
DTSTART;TZID=America/New_York:20200321T203000
DTEND;TZID=America/New_York:20200321T233000
DTSTAMP:20260423T175644
CREATED:20191213T192705Z
LAST-MODIFIED:20191213T192705Z
UID:1920-1584822600-1584833400@southernvoiceband.com
SUMMARY:Southern Voice @ Comix Roadhouse Mohegan Sun
DESCRIPTION:
URL:https://southernvoiceband.com/event/southern-voice-comix-roadhouse-mohegan-sun-4/
LOCATION:CT
END:VEVENT
BEGIN:VEVENT
DTSTART;TZID=America/New_York:20200313T200000
DTEND;TZID=America/New_York:20200313T230000
DTSTAMP:20260423T175644
CREATED:20191213T192553Z
LAST-MODIFIED:20191213T192553Z
UID:1917-1584129600-1584140400@southernvoiceband.com
SUMMARY:Southern Voice @ Phoenix Dining and Entertainment
DESCRIPTION:
URL:https://southernvoiceband.com/event/southern-voice-phoenix-dining-and-entertainment/
LOCATION:Phoenix Dining and Entertainment\, 215 Liberty Street\, Pawcatuck\, 06379\, United States
END:VEVENT
BEGIN:VEVENT
DTSTART;TZID=America/New_York:20200214T203000
DTEND;TZID=America/New_York:20200214T233000
DTSTAMP:20260423T175644
CREATED:20191213T192005Z
LAST-MODIFIED:20191213T192032Z
UID:1915-1581712200-1581723000@southernvoiceband.com
SUMMARY:Southern Voice @ Valentine's Day Comix Roadhouse Mohegan Sun Casino
DESCRIPTION:
URL:https://southernvoiceband.com/event/southern-voice-valentines-day-comix-roadhouse-mohegan-sun-casino/
LOCATION:CT
END:VEVENT
BEGIN:VEVENT
DTSTART;TZID=America/New_York:20200118T203000
DTEND;TZID=America/New_York:20200118T233000
DTSTAMP:20260423T175644
CREATED:20191213T191521Z
LAST-MODIFIED:20191213T191521Z
UID:1913-1579379400-1579390200@southernvoiceband.com
SUMMARY:Southern Voice @ Comix Roadhouse Mohegan Sun Casino
DESCRIPTION:
URL:https://southernvoiceband.com/event/southern-voice-comix-roadhouse-mohegan-sun-casino-5/
LOCATION:Comix Roadhouse Mohegan Sun\, 1 Mohegan Sun\, Uncasville\, CT\, 06382
END:VEVENT
BEGIN:VEVENT
DTSTART;TZID=America/New_York:20191231T200000
DTEND;TZID=America/New_York:20200101T020000
DTSTAMP:20260423T175644
CREATED:20190423T185027Z
LAST-MODIFIED:20190423T194541Z
UID:1828-1577822400-1577844000@southernvoiceband.com
SUMMARY:Southern Voice @ New Years Eve at Comix Roadhouse Mohegan Sun Casino
DESCRIPTION:We are super excited to be playing this event. Call and book your room today. Ring in 2020 with us at Comix Roadhouse!!
URL:https://southernvoiceband.com/event/southern-voice-comix-roadhouse-mohegan-sun-casino-3/
LOCATION:Comix Roadhouse Mohegan Sun\, 1 Mohegan Sun\, Uncasville\, CT\, 06382
END:VEVENT
BEGIN:VEVENT
DTSTART;TZID=America/New_York:20191221T203000
DTEND;TZID=America/New_York:20191221T233000
DTSTAMP:20260423T175644
CREATED:20191213T191317Z
LAST-MODIFIED:20191213T191317Z
UID:1911-1576960200-1576971000@southernvoiceband.com
SUMMARY:Southern Voice @ Comix Roadhouse Mohegan Sun Casino
DESCRIPTION:
URL:https://southernvoiceband.com/event/southern-voice-comix-roadhouse-mohegan-sun-casino-4/
LOCATION:Comix Roadhouse Mohegan Sun\, 1 Mohegan Sun\, Uncasville\, CT\, 06382
END:VEVENT
BEGIN:VEVENT
DTSTART;TZID=America/New_York:20191124T120000
DTEND;TZID=America/New_York:20191124T150000
DTSTAMP:20260423T175644
CREATED:20190808T181451Z
LAST-MODIFIED:20190808T181451Z
UID:1898-1574596800-1574607600@southernvoiceband.com
SUMMARY:SV Trio @ Preston Vineyard
DESCRIPTION:
URL:https://southernvoiceband.com/event/sv-trio-preston-vineyard/
LOCATION:CT
END:VEVENT
BEGIN:VEVENT
DTSTART;TZID=America/New_York:20191102T203000
DTEND;TZID=America/New_York:20191102T203000
DTSTAMP:20260423T175644
CREATED:20190808T181350Z
LAST-MODIFIED:20190808T181350Z
UID:1896-1572726600-1572726600@southernvoiceband.com
SUMMARY:Southern Voice @ Comix Roadhouse Mohegan Sun
DESCRIPTION:
URL:https://southernvoiceband.com/event/southern-voice-comix-roadhouse-mohegan-sun-3/
LOCATION:Comix Roadhouse Mohegan Sun\, 1 Mohegan Sun\, Uncasville\, CT\, 06382
END:VEVENT
BEGIN:VEVENT
DTSTART;TZID=America/New_York:20191101T213000
DTEND;TZID=America/New_York:20191101T213000
DTSTAMP:20260423T175644
CREATED:20190812T124204Z
LAST-MODIFIED:20190812T124204Z
UID:1902-1572643800-1572643800@southernvoiceband.com
SUMMARY:Southern Voice @ BarCode Bar & Restaurant
DESCRIPTION:
URL:https://southernvoiceband.com/event/southern-voice-barcode-bar-restaurant/
LOCATION:BarCode\, 501 Boston Post Road\, Orange\, CT\, 06477\, United States
END:VEVENT
BEGIN:VEVENT
DTSTART;TZID=America/New_York:20190921T150000
DTEND;TZID=America/New_York:20190921T160000
DTSTAMP:20260423T175644
CREATED:20190808T181152Z
LAST-MODIFIED:20190808T181152Z
UID:1894-1569078000-1569081600@southernvoiceband.com
SUMMARY:Southern Voice @ Bristol Mum Fesitval
DESCRIPTION:
URL:https://southernvoiceband.com/event/southern-voice-bristol-mum-fesitval/
LOCATION:CT
END:VEVENT
BEGIN:VEVENT
DTSTART;TZID=America/New_York:20190915T150000
DTEND;TZID=America/New_York:20190915T180000
DTSTAMP:20260423T175644
CREATED:20190808T180836Z
LAST-MODIFIED:20190808T180836Z
UID:1892-1568559600-1568570400@southernvoiceband.com
SUMMARY:SV Trio @ Jesse Camilles
DESCRIPTION:
URL:https://southernvoiceband.com/event/sv-trio-jesse-camilles/
LOCATION:Jesse Camille’s Restaurant\, 615 North Church St Rte 63\, Naugatuck\, CT
END:VEVENT
BEGIN:VEVENT
DTSTART;TZID=America/New_York:20190914T190000
DTEND;TZID=America/New_York:20190914T220000
DTSTAMP:20260423T175644
CREATED:20190808T180433Z
LAST-MODIFIED:20190910T165554Z
UID:1890-1568487600-1568498400@southernvoiceband.com
SUMMARY:Southern Voice @ Cozy Hill Campground
DESCRIPTION:
URL:https://southernvoiceband.com/event/sv-trio-cozy-hill-campground/
LOCATION:Cozy Hills Campground\, 1311 Bantam Rd\, Bantam\, CT
END:VEVENT
BEGIN:VEVENT
DTSTART;TZID=America/New_York:20190905T190000
DTEND;TZID=America/New_York:20190905T203000
DTSTAMP:20260423T175644
CREATED:20190903T175648Z
LAST-MODIFIED:20190903T175648Z
UID:1906-1567710000-1567715400@southernvoiceband.com
SUMMARY:Southern Voice @ North Haven Fair
DESCRIPTION:
URL:https://southernvoiceband.com/event/southern-voice-north-haven-fair/
LOCATION:North Haven Fair\, 290 Washington Ave\, North Haven\, CT\, 06473\, United States
END:VEVENT
BEGIN:VEVENT
DTSTART;TZID=America/New_York:20190831T203000
DTEND;TZID=America/New_York:20190831T203000
DTSTAMP:20260423T175644
CREATED:20190808T175645Z
LAST-MODIFIED:20190808T175645Z
UID:1888-1567283400-1567283400@southernvoiceband.com
SUMMARY:Southern Voice @ Comix Roadhouse Mohegan Sun
DESCRIPTION:
URL:https://southernvoiceband.com/event/southern-voice-comix-roadhouse-mohegan-sun-2/
LOCATION:CT
END:VEVENT
BEGIN:VEVENT
DTSTART;TZID=America/New_York:20190824T160000
DTEND;TZID=America/New_York:20190824T220000
DTSTAMP:20260423T175644
CREATED:20190808T175110Z
LAST-MODIFIED:20190808T175110Z
UID:1886-1566662400-1566684000@southernvoiceband.com
SUMMARY:Southern Voice @ Private Event
DESCRIPTION:
URL:https://southernvoiceband.com/event/southern-voice-private-event/
LOCATION:CT
END:VEVENT
BEGIN:VEVENT
DTSTART;TZID=America/New_York:20190822T183000
DTEND;TZID=America/New_York:20190822T200000
DTSTAMP:20260423T175644
CREATED:20190326T192259Z
LAST-MODIFIED:20190808T174940Z
UID:1822-1566498600-1566504000@southernvoiceband.com
SUMMARY:Southern Voice @ Canton Park & Rec Summer Concert Series
DESCRIPTION:
URL:https://southernvoiceband.com/event/southern-voice-canton-park-rec-summer-concert-series/
LOCATION:Mills Pond Park\, 14 E Hill Road\, Canton\, CT\, 06019\, United States
END:VEVENT
BEGIN:VEVENT
DTSTART;TZID=America/New_York:20190821T190000
DTEND;TZID=America/New_York:20190821T203000
DTSTAMP:20260423T175644
CREATED:20190808T174802Z
LAST-MODIFIED:20190808T174802Z
UID:1882-1566414000-1566419400@southernvoiceband.com
SUMMARY:Southern Voice @ Prospect Summer Concert Series
DESCRIPTION:
URL:https://southernvoiceband.com/event/southern-voice-prospect-summer-concert-series-2/
LOCATION:Prospect Green\, 12 Center Street\, Prospect\, CT\, 06712\, United States
END:VEVENT
BEGIN:VEVENT
DTSTART;TZID=America/New_York:20190820T180000
DTEND;TZID=America/New_York:20190820T193000
DTSTAMP:20260423T175644
CREATED:20190808T145834Z
LAST-MODIFIED:20190808T145834Z
UID:1880-1566324000-1566329400@southernvoiceband.com
SUMMARY:Southern Voice @ Essex Summer Concert Series
DESCRIPTION:
URL:https://southernvoiceband.com/event/southern-voice-essex-summer-concert-series-2/
LOCATION:Essex Ivoryton Green\, 100 Main Street\, Ivoryton\, CT\, 06442\, United States
END:VEVENT
BEGIN:VEVENT
DTSTART;TZID=America/New_York:20190817T160000
DTEND;TZID=America/New_York:20190817T190000
DTSTAMP:20260423T175644
CREATED:20190522T202338Z
LAST-MODIFIED:20190522T202338Z
UID:1872-1566057600-1566068400@southernvoiceband.com
SUMMARY:Southern Voice @  4H Fair
DESCRIPTION:
URL:https://southernvoiceband.com/event/southern-voice-4h-fair/
LOCATION:CT
END:VEVENT
BEGIN:VEVENT
DTSTART;TZID=America/New_York:20190816T190000
DTEND;TZID=America/New_York:20190816T203000
DTSTAMP:20260423T175644
CREATED:20190522T202223Z
LAST-MODIFIED:20190522T202223Z
UID:1869-1565982000-1565987400@southernvoiceband.com
SUMMARY:Southern Voice @ Thompson Summer Concert Series
DESCRIPTION:
URL:https://southernvoiceband.com/event/southern-voice-thompson-summer-concert-series/
LOCATION:Thompson Summer Concrt\, 815 Riverside Drive\, North Grosvenor Dale\, CT\, 06255\, United States
END:VEVENT
BEGIN:VEVENT
DTSTART;TZID=America/New_York:20190815T180000
DTEND;TZID=America/New_York:20190815T200000
DTSTAMP:20260423T175644
CREATED:20190522T202009Z
LAST-MODIFIED:20190522T202009Z
UID:1867-1565892000-1565899200@southernvoiceband.com
SUMMARY:Southern Voice @ Sturbridge Summer Concert Series
DESCRIPTION:
URL:https://southernvoiceband.com/event/southern-voice-sturbridge-summer-concert-series/
LOCATION:CT
END:VEVENT
BEGIN:VEVENT
DTSTART;TZID=America/New_York:20190810T200000
DTEND;TZID=America/New_York:20190810T230000
DTSTAMP:20260423T175644
CREATED:20190522T201827Z
LAST-MODIFIED:20190522T201827Z
UID:1865-1565467200-1565478000@southernvoiceband.com
SUMMARY:SV Acoustic Trio @ Sunset Grille at Crestbrook Park
DESCRIPTION:
URL:https://southernvoiceband.com/event/sv-acoustic-trio-sunset-grille-at-crestbrook-park/
LOCATION:CT
END:VEVENT
BEGIN:VEVENT
DTSTART;TZID=America/New_York:20190810T130000
DTEND;TZID=America/New_York:20190810T150000
DTSTAMP:20260423T175644
CREATED:20190522T201710Z
LAST-MODIFIED:20190522T201710Z
UID:1863-1565442000-1565449200@southernvoiceband.com
SUMMARY:SV Acoustic Duo @ Charles Island Music Festival
DESCRIPTION:
URL:https://southernvoiceband.com/event/sv-acoustic-duo-charles-island-music-festival/
LOCATION:CT
END:VEVENT
END:VCALENDAR