BEGIN:VCALENDAR
VERSION:2.0
PRODID:-//Southern Voice - ECPv6.15.11//NONSGML v1.0//EN
CALSCALE:GREGORIAN
METHOD:PUBLISH
X-WR-CALNAME:Southern Voice
X-ORIGINAL-URL:https://southernvoiceband.com
X-WR-CALDESC:Events for Southern Voice
REFRESH-INTERVAL;VALUE=DURATION:PT1H
X-Robots-Tag:noindex
X-PUBLISHED-TTL:PT1H
BEGIN:VTIMEZONE
TZID:America/New_York
BEGIN:DAYLIGHT
TZOFFSETFROM:-0500
TZOFFSETTO:-0400
TZNAME:EDT
DTSTART:20170312T070000
END:DAYLIGHT
BEGIN:STANDARD
TZOFFSETFROM:-0400
TZOFFSETTO:-0500
TZNAME:EST
DTSTART:20171105T060000
END:STANDARD
BEGIN:DAYLIGHT
TZOFFSETFROM:-0500
TZOFFSETTO:-0400
TZNAME:EDT
DTSTART:20180311T070000
END:DAYLIGHT
BEGIN:STANDARD
TZOFFSETFROM:-0400
TZOFFSETTO:-0500
TZNAME:EST
DTSTART:20181104T060000
END:STANDARD
BEGIN:DAYLIGHT
TZOFFSETFROM:-0500
TZOFFSETTO:-0400
TZNAME:EDT
DTSTART:20190310T070000
END:DAYLIGHT
BEGIN:STANDARD
TZOFFSETFROM:-0400
TZOFFSETTO:-0500
TZNAME:EST
DTSTART:20191103T060000
END:STANDARD
BEGIN:DAYLIGHT
TZOFFSETFROM:-0500
TZOFFSETTO:-0400
TZNAME:EDT
DTSTART:20200308T070000
END:DAYLIGHT
BEGIN:STANDARD
TZOFFSETFROM:-0400
TZOFFSETTO:-0500
TZNAME:EST
DTSTART:20201101T060000
END:STANDARD
END:VTIMEZONE
BEGIN:VEVENT
DTSTART;TZID=America/New_York:20190622T183000
DTEND;TZID=America/New_York:20190622T223000
DTSTAMP:20260423T182339
CREATED:20181215T183817Z
LAST-MODIFIED:20190214T004953Z
UID:1768-1561228200-1561242600@southernvoiceband.com
SUMMARY:Southern Voice @ Odetah Campground
DESCRIPTION:We’re Back. You don’t want to miss the party. Camping reservations required. Make your reservations today. \nhttps://reservations.odetah.com/#/roomsBooking
URL:https://southernvoiceband.com/event/southern-voice-odetah-campground/
LOCATION:Odetah Camping Resort\, 38 Bozrah St.\, Bozrah\, CT
END:VEVENT
BEGIN:VEVENT
DTSTART;TZID=America/New_York:20190615T140000
DTEND;TZID=America/New_York:20190615T170000
DTSTAMP:20260423T182339
CREATED:20190522T160216Z
LAST-MODIFIED:20190522T160216Z
UID:1846-1560607200-1560618000@southernvoiceband.com
SUMMARY:Southern Voice @ Bunker Hill Assocation (Private Event)
DESCRIPTION:
URL:https://southernvoiceband.com/event/southern-voice-bunker-hill-assocation-private-event/
END:VEVENT
BEGIN:VEVENT
DTSTART;TZID=America/New_York:20190601T200000
DTEND;TZID=America/New_York:20190601T230000
DTSTAMP:20260423T182339
CREATED:20190522T155823Z
LAST-MODIFIED:20190522T155823Z
UID:1844-1559419200-1559430000@southernvoiceband.com
SUMMARY:SV Acoustic Duo @ Rail 99
DESCRIPTION:
URL:https://southernvoiceband.com/event/sv-acoustic-duo-rail-99/
LOCATION:Rail 99 Tavern\, 1 Wall Street\, Cromwell\, ct\, 06416
END:VEVENT
BEGIN:VEVENT
DTSTART;TZID=America/New_York:20190525T170000
DTEND;TZID=America/New_York:20190525T200000
DTSTAMP:20260423T182339
CREATED:20190522T155436Z
LAST-MODIFIED:20190522T155436Z
UID:1842-1558803600-1558814400@southernvoiceband.com
SUMMARY:SV Acoustic Duo @ TPC (Private Event)
DESCRIPTION:
URL:https://southernvoiceband.com/event/sv-acoustic-duo-tpc-private-event/
END:VEVENT
BEGIN:VEVENT
DTSTART;TZID=America/New_York:20190524T200000
DTEND;TZID=America/New_York:20190524T230000
DTSTAMP:20260423T182339
CREATED:20190522T155256Z
LAST-MODIFIED:20190522T155700Z
UID:1839-1558728000-1558738800@southernvoiceband.com
SUMMARY:SV Acoustic Duo @ Rail 99 Tavern
DESCRIPTION:
URL:https://southernvoiceband.com/event/sv-acoustic-duo-rail-99-tavern/
LOCATION:Rail 99 Tavern\, 1 Wall Street\, Cromwell\, ct\, 06416
END:VEVENT
BEGIN:VEVENT
DTSTART;TZID=America/New_York:20190511T150000
DTEND;TZID=America/New_York:20190511T180000
DTSTAMP:20260423T182339
CREATED:20181215T183608Z
LAST-MODIFIED:20181215T183608Z
UID:1766-1557586800-1557597600@southernvoiceband.com
SUMMARY:Southern Voice Acoustic@ Still Hill Brewery
DESCRIPTION:
URL:https://southernvoiceband.com/event/southern-voice-acoustic-still-hill-brewery-2/
LOCATION:Still Hill Brewery and Tap Room\, 1275 Cromwell Ave\, Rocky Hill\, CT
END:VEVENT
BEGIN:VEVENT
DTSTART;TZID=America/New_York:20190504T203000
DTEND;TZID=America/New_York:20190505T203000
DTSTAMP:20260423T182339
CREATED:20190214T004115Z
LAST-MODIFIED:20190214T004115Z
UID:1790-1557001800-1557088200@southernvoiceband.com
SUMMARY:Southern Voice @ Comix Roadhouse Mohegan Sun Casino
DESCRIPTION:We are back. It’s another night of great food\, drinks and country music.
URL:https://southernvoiceband.com/event/southern-voice-comix-roadhouse-mohegan-sun-casino-2/
LOCATION:Comix Roadhouse Mohegan Sun\, 1 Mohegan Sun\, Uncasville\, CT\, 06382
END:VEVENT
BEGIN:VEVENT
DTSTART;TZID=America/New_York:20190427T210000
DTEND;TZID=America/New_York:20190427T210000
DTSTAMP:20260423T182339
CREATED:20190318T142127Z
LAST-MODIFIED:20190318T142822Z
UID:1809-1556398800-1556398800@southernvoiceband.com
SUMMARY:Southern Voice Acoustic Duo @ The Pub in Matuntuck
DESCRIPTION:
URL:https://southernvoiceband.com/event/the-pub-in-matuntuck-acoustic-duo/
LOCATION:The Pub in Matuntuck
END:VEVENT
BEGIN:VEVENT
DTSTART;TZID=America/New_York:20190419T193000
DTEND;TZID=America/New_York:20190419T223000
DTSTAMP:20260423T182339
CREATED:20190211T201135Z
LAST-MODIFIED:20190211T201135Z
UID:1781-1555702200-1555713000@southernvoiceband.com
SUMMARY:Southern Voice Acoustic Duo @ Waverly Inn Cheshire
DESCRIPTION:
URL:https://southernvoiceband.com/event/southern-voice-acoustic-duo-waverly-inn-cheshire/
LOCATION:The Waverly Inn\, 286 Maple Ave\, Cheshire\, CT
END:VEVENT
BEGIN:VEVENT
DTSTART;TZID=America/New_York:20190413T203000
DTEND;TZID=America/New_York:20190414T010000
DTSTAMP:20260423T182339
CREATED:20181215T183435Z
LAST-MODIFIED:20190214T003735Z
UID:1764-1555187400-1555203600@southernvoiceband.com
SUMMARY:Southern Voice @ Comix Roadhouse Mohegan Sun Casino
DESCRIPTION:
URL:https://southernvoiceband.com/event/southern-voice-comix-roadhouse-mohegan-sun-casino/
LOCATION:Comix Roadhouse Mohegan Sun\, 1 Mohegan Sun\, Uncasville\, CT\, 06382
END:VEVENT
BEGIN:VEVENT
DTSTART;TZID=America/New_York:20190322T080000
DTEND;TZID=America/New_York:20190323T000000
DTSTAMP:20260423T182339
CREATED:20190318T142656Z
LAST-MODIFIED:20190318T142746Z
UID:1813-1553241600-1553299200@southernvoiceband.com
SUMMARY:Southern Voice @ Casa Mia at the Hawthorne Inn with Cowboy Ron
DESCRIPTION:
URL:https://southernvoiceband.com/event/casa-mia-at-the-hawthorne-inn-with-cowboy-ron/
LOCATION:Casa Mia at the Hawthorne\, 2421 Berlin Turnpike\, Berlin\, 06037\, United States
END:VEVENT
BEGIN:VEVENT
DTSTART;TZID=America/New_York:20190223T210000
DTEND;TZID=America/New_York:20190224T210000
DTSTAMP:20260423T182339
CREATED:20190214T010543Z
LAST-MODIFIED:20190214T010543Z
UID:1796-1550955600-1551042000@southernvoiceband.com
SUMMARY:Southern Voice Acoustic @ The Pub in Matunuck
DESCRIPTION:Legend has it they are one of the oldest Irish Bars in America. Located in Matunuck Rhode Island right on the Sandy Beach.
URL:https://southernvoiceband.com/event/southern-voice-acoustic-the-pub-in-matunuck/
END:VEVENT
BEGIN:VEVENT
DTSTART;TZID=America/New_York:20190209T220000
DTEND;TZID=America/New_York:20190210T010000
DTSTAMP:20260423T182339
CREATED:20181215T183102Z
LAST-MODIFIED:20181215T183102Z
UID:1760-1549749600-1549760400@southernvoiceband.com
SUMMARY:Southern Voice @ Comix Roadhouse located in Mohegan Sun Casino
DESCRIPTION:
URL:https://southernvoiceband.com/event/southern-voice-comix-roadhouse-located-in-mohegan-sun-casino/
LOCATION:Comix Roadhouse Mohegan Sun\, 1 Mohegan Sun\, Uncasville\, CT\, 06382
END:VEVENT
BEGIN:VEVENT
DTSTART;TZID=America/New_York:20190209T150000
DTEND;TZID=America/New_York:20190209T180000
DTSTAMP:20260423T182339
CREATED:20181215T182917Z
LAST-MODIFIED:20181215T182917Z
UID:1758-1549724400-1549735200@southernvoiceband.com
SUMMARY:Southern Voice Acoustic @ Still Hill Brewery
DESCRIPTION:
URL:https://southernvoiceband.com/event/southern-voice-acoustic-still-hill-brewery/
LOCATION:Still Hill Brewery and Tap Room\, 1275 Cromwell Ave\, Rocky Hill\, CT
END:VEVENT
BEGIN:VEVENT
DTSTART;TZID=America/New_York:20190202T213000
DTEND;TZID=America/New_York:20190203T003000
DTSTAMP:20260423T182339
CREATED:20180508T181014Z
LAST-MODIFIED:20180916T161214Z
UID:1615-1549143000-1549153800@southernvoiceband.com
SUMMARY:Southern Voice @ Blackstone Irish Pub
DESCRIPTION:We officially said goodbye to our former drummer Stan almost 2 years ago last time we were here. Now we are back with the new crew of Southern Voice! Great people\, great dancing\, great times!
URL:https://southernvoiceband.com/event/southern-voice-blackstone/
LOCATION:Blackstone Irish Pub\, 1678 Meriden Waterbury Turnpike\, Southington\, CT\, 06489
ATTACH;FMTTYPE=image/jpeg:https://southernvoiceband.com/wp/wp-content/uploads/2018/05/Blackstone-1.jpg
END:VEVENT
BEGIN:VEVENT
DTSTART;TZID=America/New_York:20190125T193000
DTEND;TZID=America/New_York:20190125T223000
DTSTAMP:20260423T182339
CREATED:20181215T182721Z
LAST-MODIFIED:20181215T182721Z
UID:1755-1548444600-1548455400@southernvoiceband.com
SUMMARY:Southern Voice Acoustic @ The Waverly Inn
DESCRIPTION:The Waverly Inn which was built in 1896 located in Cheshire. Come enjoy a night out with great food\, and great drinks. While you listen to us play some acoustic music.
URL:https://southernvoiceband.com/event/southern-voice-acoustic-the-waverly-inn/
LOCATION:The Waverly Inn\, 286 Maple Ave\, Cheshire\, CT
END:VEVENT
BEGIN:VEVENT
DTSTART;TZID=America/New_York:20190119T110000
DTEND;TZID=America/New_York:20190119T160000
DTSTAMP:20260423T182339
CREATED:20181215T182028Z
LAST-MODIFIED:20181215T182028Z
UID:1752-1547895600-1547913600@southernvoiceband.com
SUMMARY:Southern Voice Acoustic @ 2019 KC101 Wedding & Bridal Expo Oakdale Theatre
DESCRIPTION:Southern Voice joins with Jenks Productions to be a part of the 2019 KC101 Wedding and Bridal Expo. This is not only a chance to get out our table and talk with us about being a part of your special day. It is also a time you can hear us perform live.
URL:https://southernvoiceband.com/event/southern-voice-acoustic-2019-kc101-wedding-bridal-expo-oakdale-theatre/
LOCATION:Oakdale Theatre\, 95 S Turnpike Rd\, Wallingford\, CT
END:VEVENT
BEGIN:VEVENT
DTSTART;TZID=America/New_York:20190112T213000
DTEND;TZID=America/New_York:20190113T013000
DTSTAMP:20260423T182339
CREATED:20181215T181403Z
LAST-MODIFIED:20181215T181403Z
UID:1749-1547328600-1547343000@southernvoiceband.com
SUMMARY:Southern Voice @ Comix Roadhouse located in Mohegan Sun
DESCRIPTION:
URL:https://southernvoiceband.com/event/southern-voice-comix-roadhouse-located-in-mohegan-sun/
LOCATION:Comix Roadhouse Mohegan Sun\, 1 Mohegan Sun\, Uncasville\, CT\, 06382
END:VEVENT
BEGIN:VEVENT
DTSTART;TZID=America/New_York:20190106T110000
DTEND;TZID=America/New_York:20190106T170000
DTSTAMP:20260423T182339
CREATED:20181215T180712Z
LAST-MODIFIED:20181215T181508Z
UID:1746-1546772400-1546794000@southernvoiceband.com
SUMMARY:Southern Voice Acoustic @ Connecticut Wedding & Bridal Show CT Convention Center
DESCRIPTION:Are you getting married? This is a perfect chance to talk with us about playing for your special day.
URL:https://southernvoiceband.com/event/southern-voice-acoustic-connecticut-wedding-bridal-show-ct-convention-center/
LOCATION:CT Convention Center\, 100 Columbus Blvd\, Hartford\, CT\, 06103
END:VEVENT
BEGIN:VEVENT
DTSTART;TZID=America/New_York:20181124T080000
DTEND;TZID=America/New_York:20181124T100000
DTSTAMP:20260423T182339
CREATED:20180916T161141Z
LAST-MODIFIED:20180917T152115Z
UID:1734-1543046400-1543053600@southernvoiceband.com
SUMMARY:Southern Voice @ Fanfest for UConn Football
DESCRIPTION:Southern Voice will be playing the UConn Fanfest before the football game November 24th.  Time is TBD.
URL:https://southernvoiceband.com/event/southern-voice-fanfest-for-uconn-football/
LOCATION:Rentschler Field\, East Hartford\, CT\, United States
ATTACH;FMTTYPE=image/jpeg:https://southernvoiceband.com/wp/wp-content/uploads/2018/09/UConn.jpg
END:VEVENT
BEGIN:VEVENT
DTSTART;TZID=America/New_York:20181104T110000
DTEND;TZID=America/New_York:20181104T160000
DTSTAMP:20260423T182339
CREATED:20180716T171820Z
LAST-MODIFIED:20180716T171820Z
UID:1712-1541329200-1541347200@southernvoiceband.com
SUMMARY:Farmington Bridal Show
DESCRIPTION:On November4\, 2018\, the Hartford Farmington Marriott Hotel will be converted into a wedding and bridal extravaganza as Jenks Productions presents The 14th Annual Farmington Wedding & Bridal Expo Show. \nThe Marriott will light up with unique and glamorous wedding gowns\, elegant formal wear\, magnificent floral designs\, and fabulous fashion shows. Taste extraordinary wedding cakes and delicious catered food. Meet with vendors from across the region covering every facet of wedding planning\, and find just what you need for a one-of-a-kind wedding to fit any budget. Whether you dream of a beach wedding\, outdoor wedding\, destination wedding\, or traditional church wedding\, brides-to-be and happily engaged couples can plan their entire wedding in just one day! \nThe 2018 Fall Farmington Wedding & Bridal Show will feature:\n\nDesigner Wedding Dresses\, Shoes\, & Bridal Veils\nBridesmaid & Mother of the Bride Dresses\nWedding Make-Up Artists & Hairstyles\nCT Wedding Venues & Reception Facilities\nWedding Planners\nWedding Invitations\nWedding Cakes\nWedding Favors\nWedding Decorations & Centerpieces\nWedding Flowers & Bouquets\nDJs\nWedding Photographers & Videographers\nWedding Jewelry & Accessory Designers\n\nThe Farmington Marriott Wedding & Bridal Expo is produced by Jenks Productions\, New England’s leader in bridal shows\, and will be held on November 4\, 2018 at The Hartford Farmington Marriott. The Bridal Expo hours are 11am to 4 pm\, and tickets are available at the door. \nJenks Productions has more than 38 years experience with exhibitions and trade shows and produces 22 shows a year in Connecticut\, Massachusetts\, Rhode Island\, Pennsylvania\, and New York. Learn more about their wedding shows and bridal expos and comprehensive home shows to make your new home together everything you want it to be!
URL:https://southernvoiceband.com/event/farmington-bridal-show/
LOCATION:Hartford Mariott Farmington\, 15 Farm Springs Rd\, Farmington\, CT\, 06032\, United States
ATTACH;FMTTYPE=image/jpeg:https://southernvoiceband.com/wp/wp-content/uploads/2018/07/wedding.jpg
END:VEVENT
BEGIN:VEVENT
DTSTART;TZID=America/New_York:20181103T160000
DTEND;TZID=America/New_York:20181103T210000
DTSTAMP:20260423T182339
CREATED:20180823T014441Z
LAST-MODIFIED:20180823T014441Z
UID:1730-1541260800-1541278800@southernvoiceband.com
SUMMARY:Private Event @ Fair Weather Acres
DESCRIPTION:
URL:https://southernvoiceband.com/event/private-event-fair-weather-acres/
END:VEVENT
BEGIN:VEVENT
DTSTART;TZID=America/New_York:20181026T080000
DTEND;TZID=America/New_York:20181027T190000
DTSTAMP:20260423T182339
CREATED:20180713T145132Z
LAST-MODIFIED:20180713T145132Z
UID:1710-1540540800-1540666800@southernvoiceband.com
SUMMARY:Private 2 Day Event
DESCRIPTION:Southern Voice is performing at a Private Event. Jealous? Book us for your private event!
URL:https://southernvoiceband.com/event/private-2-day-event/
ATTACH;FMTTYPE=image/jpeg:https://southernvoiceband.com/wp/wp-content/uploads/2018/07/private-events.jpg
END:VEVENT
BEGIN:VEVENT
DTSTART;TZID=America/New_York:20181012T080000
DTEND;TZID=America/New_York:20181012T170000
DTSTAMP:20260423T182339
CREATED:20180713T145002Z
LAST-MODIFIED:20180713T145002Z
UID:1708-1539331200-1539363600@southernvoiceband.com
SUMMARY:Private Party
DESCRIPTION:Southern Voice is performing at a Private Event. Jealous? Book us for your private event!
URL:https://southernvoiceband.com/event/private-party-3/
ATTACH;FMTTYPE=image/jpeg:https://southernvoiceband.com/wp/wp-content/uploads/2018/07/private-events.jpg
END:VEVENT
BEGIN:VEVENT
DTSTART;TZID=America/New_York:20181011T183000
DTEND;TZID=America/New_York:20181011T203000
DTSTAMP:20260423T182339
CREATED:20180712T170530Z
LAST-MODIFIED:20180712T170530Z
UID:1679-1539282600-1539289800@southernvoiceband.com
SUMMARY:Essex Riverboat
DESCRIPTION:More Info Coming Soon:
URL:https://southernvoiceband.com/event/essex-riverboat-2/
LOCATION:Essex Steam Train & Riverboat\, 1 Railroad Ave\, Essex\, CT\, 06426\, United States
END:VEVENT
BEGIN:VEVENT
DTSTART;TZID=America/New_York:20180929T133000
DTEND;TZID=America/New_York:20180929T153000
DTSTAMP:20260423T182339
CREATED:20180713T140647Z
LAST-MODIFIED:20180713T140647Z
UID:1685-1538227800-1538235000@southernvoiceband.com
SUMMARY:Ansonia Harvest Festival
DESCRIPTION:Southern Voice is happy to be a part of the 18th Annual Ansonia Harvest Festival! Over 5000 people are expected for a day of music on two stages\, entertainment\, business\, food trucks\, games and overall family fun! Get ready for a good ol’ fashioned street festival!
URL:https://southernvoiceband.com/event/ansonia-harvest-festival/
LOCATION:Ansonia Harvest Festival\, Main Street\, Ansonia\, CT\, 06401\, United States
ATTACH;FMTTYPE=image/jpeg:https://southernvoiceband.com/wp/wp-content/uploads/2018/07/Ansionia-Harvest-Festival.jpg
END:VEVENT
BEGIN:VEVENT
DTSTART;TZID=America/New_York:20180923T163000
DTEND;TZID=America/New_York:20180923T200000
DTSTAMP:20260423T182339
CREATED:20180920T154403Z
LAST-MODIFIED:20180920T184625Z
UID:1738-1537720200-1537732800@southernvoiceband.com
SUMMARY:Southern Voice Acoustic
DESCRIPTION:Annmarie and James playing acoustically at Mezzo Grille in Middletown.
URL:https://southernvoiceband.com/event/southern-voice-acoustic-3/
LOCATION:Mezzo Grille\, 106 Court st\, Middletown\, CT\, United States
ATTACH;FMTTYPE=image/jpeg:https://southernvoiceband.com/wp/wp-content/uploads/2018/09/Mezzo.jpg
END:VEVENT
BEGIN:VEVENT
DTSTART;TZID=America/New_York:20180914T190000
DTEND;TZID=America/New_York:20180914T220000
DTSTAMP:20260423T182339
CREATED:20180731T005646Z
LAST-MODIFIED:20180731T005808Z
UID:1720-1536951600-1536962400@southernvoiceband.com
SUMMARY:Southern Voice Acoustic @ Senor Panchos Cantina
DESCRIPTION:
URL:https://southernvoiceband.com/event/southern-voice-acoustic-senor-panchos-cantina/
LOCATION:senor panchos\, 280 Cheshire Rd\, Prospect\, CT
END:VEVENT
BEGIN:VEVENT
DTSTART;TZID=America/New_York:20180914T080000
DTEND;TZID=America/New_York:20180914T170000
DTSTAMP:20260423T182339
CREATED:20180713T143926Z
LAST-MODIFIED:20180713T143926Z
UID:1699-1536912000-1536944400@southernvoiceband.com
SUMMARY:Private Event
DESCRIPTION:Southern Voice is performing at a Private Event. Jealous? Book us for your private event!
URL:https://southernvoiceband.com/event/private-event-3/
ATTACH;FMTTYPE=image/jpeg:https://southernvoiceband.com/wp/wp-content/uploads/2018/07/private-events.jpg
END:VEVENT
BEGIN:VEVENT
DTSTART;TZID=America/New_York:20180908T190000
DTEND;TZID=America/New_York:20180908T220000
DTSTAMP:20260423T182339
CREATED:20180823T014238Z
LAST-MODIFIED:20180823T014238Z
UID:1728-1536433200-1536444000@southernvoiceband.com
SUMMARY:Private Party
DESCRIPTION:
URL:https://southernvoiceband.com/event/private-party-4/
END:VEVENT
END:VCALENDAR