BEGIN:VCALENDAR
VERSION:2.0
PRODID:-//Southern Voice - ECPv6.15.11//NONSGML v1.0//EN
CALSCALE:GREGORIAN
METHOD:PUBLISH
X-WR-CALNAME:Southern Voice
X-ORIGINAL-URL:https://southernvoiceband.com
X-WR-CALDESC:Events for Southern Voice
REFRESH-INTERVAL;VALUE=DURATION:PT1H
X-Robots-Tag:noindex
X-PUBLISHED-TTL:PT1H
BEGIN:VTIMEZONE
TZID:America/New_York
BEGIN:DAYLIGHT
TZOFFSETFROM:-0500
TZOFFSETTO:-0400
TZNAME:EDT
DTSTART:20230312T070000
END:DAYLIGHT
BEGIN:STANDARD
TZOFFSETFROM:-0400
TZOFFSETTO:-0500
TZNAME:EST
DTSTART:20231105T060000
END:STANDARD
BEGIN:DAYLIGHT
TZOFFSETFROM:-0500
TZOFFSETTO:-0400
TZNAME:EDT
DTSTART:20240310T070000
END:DAYLIGHT
BEGIN:STANDARD
TZOFFSETFROM:-0400
TZOFFSETTO:-0500
TZNAME:EST
DTSTART:20241103T060000
END:STANDARD
BEGIN:DAYLIGHT
TZOFFSETFROM:-0500
TZOFFSETTO:-0400
TZNAME:EDT
DTSTART:20250309T070000
END:DAYLIGHT
BEGIN:STANDARD
TZOFFSETFROM:-0400
TZOFFSETTO:-0500
TZNAME:EST
DTSTART:20251102T060000
END:STANDARD
END:VTIMEZONE
BEGIN:VEVENT
DTSTART;TZID=America/New_York:20240823T200000
DTEND;TZID=America/New_York:20240823T230000
DTSTAMP:20260420T175849
CREATED:20240701T143113Z
LAST-MODIFIED:20240701T143113Z
UID:3315-1724443200-1724454000@southernvoiceband.com
SUMMARY:Vinny and Annmarie @ Tomatoe's Pizza and Sports Bar
DESCRIPTION:
URL:https://southernvoiceband.com/event/vinny-and-annmarie-tomatoes-pizza-and-sports-bar/
LOCATION:Tomatoe’s Pizza\, 44 S Main St\, East Windsor\, CT
END:VEVENT
BEGIN:VEVENT
DTSTART;TZID=America/New_York:20240817T173000
DTEND;TZID=America/New_York:20240817T203000
DTSTAMP:20260420T175849
CREATED:20240701T142926Z
LAST-MODIFIED:20240701T142926Z
UID:3312-1723915800-1723926600@southernvoiceband.com
SUMMARY:Hamburg Fair
DESCRIPTION:
URL:https://southernvoiceband.com/event/hamburg-fair/
LOCATION:Hamburg Fair\, 2 Sterling City Rd\, Lyme\, CT\, 06371
END:VEVENT
BEGIN:VEVENT
DTSTART;TZID=America/New_York:20240816T190000
DTEND;TZID=America/New_York:20240816T213000
DTSTAMP:20260420T175849
CREATED:20240701T142712Z
LAST-MODIFIED:20240701T142712Z
UID:3310-1723834800-1723843800@southernvoiceband.com
SUMMARY:Cheshire Craft Brewery Karaoke hosted by Annmarie
DESCRIPTION:
URL:https://southernvoiceband.com/event/cheshire-craft-brewery-karaoke-hosted-by-annmarie/
LOCATION:Cheshire Craft Brewery\, 126 Commerce CT STE 7\, Cheshire\, CT\, 06410
END:VEVENT
BEGIN:VEVENT
DTSTART;TZID=America/New_York:20240810T190000
DTEND;TZID=America/New_York:20240810T220000
DTSTAMP:20260420T175849
CREATED:20240701T142614Z
LAST-MODIFIED:20240701T142614Z
UID:3307-1723316400-1723327200@southernvoiceband.com
SUMMARY:Island Pond Summer Concert Series
DESCRIPTION:
URL:https://southernvoiceband.com/event/island-pond-summer-concert-series/
LOCATION:Island Pond\, Brighton\, VT
END:VEVENT
BEGIN:VEVENT
DTSTART;TZID=America/New_York:20240809T180000
DTEND;TZID=America/New_York:20240809T210000
DTSTAMP:20260420T175849
CREATED:20240701T142000Z
LAST-MODIFIED:20240701T142000Z
UID:3305-1723226400-1723237200@southernvoiceband.com
SUMMARY:Annmarie @ Jesse Camille's Restaurant
DESCRIPTION:
URL:https://southernvoiceband.com/event/annmarie-jesse-camilles-restaurant/
LOCATION:Jesse Camille’s Restaurant\, 615 North Church St Rte 63\, Naugatuck\, CT
END:VEVENT
BEGIN:VEVENT
DTSTART;TZID=America/New_York:20240808T180000
DTEND;TZID=America/New_York:20240808T200000
DTSTAMP:20260420T175849
CREATED:20240701T141121Z
LAST-MODIFIED:20240701T141825Z
UID:3303-1723140000-1723147200@southernvoiceband.com
SUMMARY:Cohasset Summer Concert Series
DESCRIPTION:
URL:https://southernvoiceband.com/event/cohasset-summer-concert-series/
LOCATION:Cohasset Town Common\, 41 Highland Ave\, Cohasset\, MA
END:VEVENT
BEGIN:VEVENT
DTSTART;TZID=America/New_York:20240807T193000
DTEND;TZID=America/New_York:20240807T223000
DTSTAMP:20260420T175849
CREATED:20240701T140956Z
LAST-MODIFIED:20240701T140956Z
UID:3301-1723059000-1723069800@southernvoiceband.com
SUMMARY:Senor Panchos Prospect Karaoke hosted by Tyler
DESCRIPTION:
URL:https://southernvoiceband.com/event/senor-panchos-prospect-karaoke-hosted-by-tyler-4/
LOCATION:senor panchos\, 280 Cheshire Rd\, Prospect\, CT
END:VEVENT
BEGIN:VEVENT
DTSTART;TZID=America/New_York:20240806T173000
DTEND;TZID=America/New_York:20240806T193000
DTSTAMP:20260420T175849
CREATED:20240718T132159Z
LAST-MODIFIED:20240718T132159Z
UID:3335-1722965400-1722972600@southernvoiceband.com
SUMMARY:Private Saint Clements Castle & Marina
DESCRIPTION:
URL:https://southernvoiceband.com/event/private-saint-clements-castle-marina/
END:VEVENT
BEGIN:VEVENT
DTSTART;TZID=America/New_York:20240803T180000
DTEND;TZID=America/New_York:20240803T210000
DTSTAMP:20260420T175849
CREATED:20240701T140820Z
LAST-MODIFIED:20240701T140820Z
UID:3299-1722708000-1722718800@southernvoiceband.com
SUMMARY:Ken and Annmarie @ Senor Panchos Prospect
DESCRIPTION:
URL:https://southernvoiceband.com/event/ken-and-annmarie-senor-panchos-prospect/
LOCATION:senor panchos\, 280 Cheshire Rd\, Prospect\, CT
END:VEVENT
BEGIN:VEVENT
DTSTART;TZID=America/New_York:20240731T193000
DTEND;TZID=America/New_York:20240731T223000
DTSTAMP:20260420T175849
CREATED:20240701T140652Z
LAST-MODIFIED:20240718T125411Z
UID:3297-1722454200-1722465000@southernvoiceband.com
SUMMARY:Senor Panchos Prospect Karaoke hosted by Vinny
DESCRIPTION:
URL:https://southernvoiceband.com/event/senor-panchos-prospect-karaoke-hosted-by-annmarie/
LOCATION:senor panchos\, 280 Cheshire Rd\, Prospect\, CT
END:VEVENT
BEGIN:VEVENT
DTSTART;TZID=America/New_York:20240731T183000
DTEND;TZID=America/New_York:20240731T203000
DTSTAMP:20260420T175849
CREATED:20240718T131620Z
LAST-MODIFIED:20240718T131620Z
UID:3333-1722450600-1722457800@southernvoiceband.com
SUMMARY:Litchfield Summer Concert Series
DESCRIPTION:
URL:https://southernvoiceband.com/event/litchfield-summer-concert-series/
LOCATION:Litchfield Town Green\, 46 West St.\, Litchfield\, CT
END:VEVENT
BEGIN:VEVENT
DTSTART;TZID=America/New_York:20240730T183000
DTEND;TZID=America/New_York:20240730T200000
DTSTAMP:20260420T175849
CREATED:20240701T140457Z
LAST-MODIFIED:20240701T140457Z
UID:3293-1722364200-1722369600@southernvoiceband.com
SUMMARY:Essex Summer Concert Series (Acoustic Trio)
DESCRIPTION:
URL:https://southernvoiceband.com/event/essex-summer-concert-series-acoustic-trio/
LOCATION:Essex Ivoryton Green\, 100 Main Street\, Ivoryton\, CT\, 06442\, United States
END:VEVENT
BEGIN:VEVENT
DTSTART;TZID=America/New_York:20240728T160000
DTEND;TZID=America/New_York:20240728T180000
DTSTAMP:20260420T175849
CREATED:20240701T140056Z
LAST-MODIFIED:20240701T140056Z
UID:3287-1722182400-1722189600@southernvoiceband.com
SUMMARY:Annmarie @ Greenhouse Tavern
DESCRIPTION:
URL:https://southernvoiceband.com/event/annmarie-greenhouse-tavern/
LOCATION:Greenhouse Cafe & Tavern\, 511 Spielman Hwy\, Burlington\, CT\, 06013
END:VEVENT
BEGIN:VEVENT
DTSTART;TZID=America/New_York:20240727T183000
DTEND;TZID=America/New_York:20240727T213000
DTSTAMP:20260420T175849
CREATED:20231016T151450Z
LAST-MODIFIED:20240123T150540Z
UID:3032-1722105000-1722115800@southernvoiceband.com
SUMMARY:Private
DESCRIPTION:
URL:https://southernvoiceband.com/event/sun-outdoors-mystic-campers-only-2/
END:VEVENT
BEGIN:VEVENT
DTSTART;TZID=America/New_York:20240724T193000
DTEND;TZID=America/New_York:20240724T223000
DTSTAMP:20260420T175849
CREATED:20240701T140356Z
LAST-MODIFIED:20240701T140356Z
UID:3291-1721849400-1721860200@southernvoiceband.com
SUMMARY:Senor Panchos Prospect Karaoke hosted by Tyler
DESCRIPTION:
URL:https://southernvoiceband.com/event/senor-panchos-prospect-karaoke-hosted-by-tyler-2/
LOCATION:senor panchos\, 280 Cheshire Rd\, Prospect\, CT
END:VEVENT
BEGIN:VEVENT
DTSTART;TZID=America/New_York:20240719T190000
DTEND;TZID=America/New_York:20240719T213000
DTSTAMP:20260420T175849
CREATED:20240701T135812Z
LAST-MODIFIED:20240701T135812Z
UID:3283-1721415600-1721424600@southernvoiceband.com
SUMMARY:Cheshire Brewery Karaoke Hosted by Annmarie
DESCRIPTION:
URL:https://southernvoiceband.com/event/cheshire-brewery-karaoke-hosted-by-annmarie/
LOCATION:Cheshire Craft Brewery\, 126 Commerce CT STE 7\, Cheshire\, CT\, 06410
END:VEVENT
BEGIN:VEVENT
DTSTART;TZID=America/New_York:20240717T193000
DTEND;TZID=America/New_York:20240717T223000
DTSTAMP:20260420T175849
CREATED:20240701T140600Z
LAST-MODIFIED:20240701T140600Z
UID:3295-1721244600-1721255400@southernvoiceband.com
SUMMARY:Senor Panchos Prospect Karaoke hosted by Tyler
DESCRIPTION:
URL:https://southernvoiceband.com/event/senor-panchos-prospect-karaoke-hosted-by-tyler-3/
LOCATION:senor panchos\, 280 Cheshire Rd\, Prospect\, CT
END:VEVENT
BEGIN:VEVENT
DTSTART;TZID=America/New_York:20240710T193000
DTEND;TZID=America/New_York:20240710T223000
DTSTAMP:20260420T175849
CREATED:20240701T140215Z
LAST-MODIFIED:20240701T140215Z
UID:3289-1720639800-1720650600@southernvoiceband.com
SUMMARY:Senor Panchos Prospect Karaoke hosted by Vinny
DESCRIPTION:
URL:https://southernvoiceband.com/event/senor-panchos-prospect-karaoke-hosted-by-vinny/
END:VEVENT
BEGIN:VEVENT
DTSTART;TZID=America/New_York:20240706T190000
DTEND;TZID=America/New_York:20240706T220000
DTSTAMP:20260420T175849
CREATED:20231016T151106Z
LAST-MODIFIED:20231016T151106Z
UID:3028-1720292400-1720303200@southernvoiceband.com
SUMMARY:Witch Meadow Campground (Campers Only)
DESCRIPTION:
URL:https://southernvoiceband.com/event/witch-meadow-campground-campers-only/
LOCATION:Witch Meadow Lake Campground\, 139 Witch Meadow Rd\, Salem\, CT
END:VEVENT
BEGIN:VEVENT
DTSTART;TZID=America/New_York:20240704T180000
DTEND;TZID=America/New_York:20240704T200000
DTSTAMP:20260420T175849
CREATED:20240701T135610Z
LAST-MODIFIED:20240701T135610Z
UID:3280-1720116000-1720123200@southernvoiceband.com
SUMMARY:Concert on the Commons 4th of July
DESCRIPTION:
URL:https://southernvoiceband.com/event/concert-on-the-commons-4th-of-july/
LOCATION:Sturbridge Common\, 6 Chamberlain Ave\, Sturbridge\, MA
END:VEVENT
BEGIN:VEVENT
DTSTART;TZID=America/New_York:20240703T193000
DTEND;TZID=America/New_York:20240703T223000
DTSTAMP:20260420T175849
CREATED:20240701T135931Z
LAST-MODIFIED:20240701T135931Z
UID:3285-1720035000-1720045800@southernvoiceband.com
SUMMARY:Senor Panchos Prospect Karaoke Hosted by Tyler
DESCRIPTION:
URL:https://southernvoiceband.com/event/senor-panchos-prospect-karaoke-hosted-by-tyler/
LOCATION:senor panchos\, 280 Cheshire Rd\, Prospect\, CT
END:VEVENT
BEGIN:VEVENT
DTSTART;TZID=America/New_York:20240629T173000
DTEND;TZID=America/New_York:20240629T213000
DTSTAMP:20260420T175849
CREATED:20231016T150818Z
LAST-MODIFIED:20231016T150818Z
UID:3026-1719682200-1719696600@southernvoiceband.com
SUMMARY:Private Surf Club
DESCRIPTION:
URL:https://southernvoiceband.com/event/private-surf-club/
END:VEVENT
BEGIN:VEVENT
DTSTART;TZID=America/New_York:20240626T190000
DTEND;TZID=America/New_York:20240626T203000
DTSTAMP:20260420T175849
CREATED:20240424T175254Z
LAST-MODIFIED:20240424T175254Z
UID:3254-1719428400-1719433800@southernvoiceband.com
SUMMARY:Prospect Summer Concert Series
DESCRIPTION:
URL:https://southernvoiceband.com/event/prospect-summer-concert-series-3/
LOCATION:Prospect Green\, 12 Center Street\, Prospect\, CT\, 06712\, United States
END:VEVENT
BEGIN:VEVENT
DTSTART;TZID=America/New_York:20240622T193000
DTEND;TZID=America/New_York:20240622T233000
DTSTAMP:20260420T175849
CREATED:20230602T134327Z
LAST-MODIFIED:20230602T134327Z
UID:2821-1719084600-1719099000@southernvoiceband.com
SUMMARY:Wedding (VT)
DESCRIPTION:
URL:https://southernvoiceband.com/event/wedding-vt/
END:VEVENT
BEGIN:VEVENT
DTSTART;TZID=America/New_York:20240621T190000
DTEND;TZID=America/New_York:20240621T213000
DTSTAMP:20260420T175849
CREATED:20240426T142643Z
LAST-MODIFIED:20240612T220533Z
UID:3268-1718996400-1719005400@southernvoiceband.com
SUMMARY:Karaoke Hosted by Annmarie @ Cheshire Brewery
DESCRIPTION:
URL:https://southernvoiceband.com/event/karaoke-hosted-by-evan-cheshire-brewery/
LOCATION:Cheshire Craft Brewery\, 126 Commerce CT STE 7\, Cheshire\, CT\, 06410
END:VEVENT
BEGIN:VEVENT
DTSTART;TZID=America/New_York:20240621T180000
DTEND;TZID=America/New_York:20240621T210000
DTSTAMP:20260420T175850
CREATED:20231016T150623Z
LAST-MODIFIED:20231016T150623Z
UID:3024-1718992800-1719003600@southernvoiceband.com
SUMMARY:Clocktown Brewery (Duo)
DESCRIPTION:
URL:https://southernvoiceband.com/event/clocktown-brewery-duo-3/
END:VEVENT
BEGIN:VEVENT
DTSTART;TZID=America/New_York:20240615T190000
DTEND;TZID=America/New_York:20240615T220000
DTSTAMP:20260420T175850
CREATED:20240123T145735Z
LAST-MODIFIED:20240123T145735Z
UID:3147-1718478000-1718488800@southernvoiceband.com
SUMMARY:Skyridge Trails Campground (Campers Only)
DESCRIPTION:
URL:https://southernvoiceband.com/event/skyridge-trails-campground-campers-only/
LOCATION:Skyridge Trails Campground\, 232 Klug Hill Rd\, Torrington\, CT
END:VEVENT
BEGIN:VEVENT
DTSTART;TZID=America/New_York:20240615T120000
DTEND;TZID=America/New_York:20240615T130000
DTSTAMP:20260420T175850
CREATED:20240424T175147Z
LAST-MODIFIED:20240424T175147Z
UID:3252-1718452800-1718456400@southernvoiceband.com
SUMMARY:Enfield Pride Day
DESCRIPTION:
URL:https://southernvoiceband.com/event/enfield-pride-day/
LOCATION:Enfield Congregational Church Summer Series\, 1295 Enfield St\, Enfield\, CT
END:VEVENT
BEGIN:VEVENT
DTSTART;TZID=America/New_York:20240610T180000
DTEND;TZID=America/New_York:20240610T200000
DTSTAMP:20260420T175850
CREATED:20240123T145352Z
LAST-MODIFIED:20240123T145352Z
UID:3145-1718042400-1718049600@southernvoiceband.com
SUMMARY:Goshen Summer Concert Series (Acoustic Trio)
DESCRIPTION:
URL:https://southernvoiceband.com/event/goshen-summer-concert-series-acoustic-trio/
LOCATION:Camp Cochipianee\, 291 Beach St\, Goshen\, CT\, 06756
END:VEVENT
BEGIN:VEVENT
DTSTART;TZID=America/New_York:20240608T180000
DTEND;TZID=America/New_York:20240608T210000
DTSTAMP:20260420T175850
CREATED:20240426T142349Z
LAST-MODIFIED:20240426T142349Z
UID:3266-1717869600-1717880400@southernvoiceband.com
SUMMARY:Acoustic Duo @ Cheshire Brewing Company
DESCRIPTION:
URL:https://southernvoiceband.com/event/acoustic-duo-cheshire-brewing-company/
LOCATION:Cheshire Craft Brewery\, 126 Commerce CT STE 7\, Cheshire\, CT\, 06410
END:VEVENT
END:VCALENDAR