BEGIN:VCALENDAR
VERSION:2.0
PRODID:-//Southern Voice - ECPv6.15.11//NONSGML v1.0//EN
CALSCALE:GREGORIAN
METHOD:PUBLISH
X-WR-CALNAME:Southern Voice
X-ORIGINAL-URL:https://southernvoiceband.com
X-WR-CALDESC:Events for Southern Voice
REFRESH-INTERVAL;VALUE=DURATION:PT1H
X-Robots-Tag:noindex
X-PUBLISHED-TTL:PT1H
BEGIN:VTIMEZONE
TZID:America/New_York
BEGIN:DAYLIGHT
TZOFFSETFROM:-0500
TZOFFSETTO:-0400
TZNAME:EDT
DTSTART:20250309T070000
END:DAYLIGHT
BEGIN:STANDARD
TZOFFSETFROM:-0400
TZOFFSETTO:-0500
TZNAME:EST
DTSTART:20251102T060000
END:STANDARD
BEGIN:DAYLIGHT
TZOFFSETFROM:-0500
TZOFFSETTO:-0400
TZNAME:EDT
DTSTART:20260308T070000
END:DAYLIGHT
BEGIN:STANDARD
TZOFFSETFROM:-0400
TZOFFSETTO:-0500
TZNAME:EST
DTSTART:20261101T060000
END:STANDARD
BEGIN:DAYLIGHT
TZOFFSETFROM:-0500
TZOFFSETTO:-0400
TZNAME:EDT
DTSTART:20270314T070000
END:DAYLIGHT
BEGIN:STANDARD
TZOFFSETFROM:-0400
TZOFFSETTO:-0500
TZNAME:EST
DTSTART:20271107T060000
END:STANDARD
END:VTIMEZONE
BEGIN:VEVENT
DTSTART;TZID=America/New_York:20260314T180000
DTEND;TZID=America/New_York:20260314T210000
DTSTAMP:20260420T042352
CREATED:20251117T221218Z
LAST-MODIFIED:20251117T221218Z
UID:3661-1773511200-1773522000@southernvoiceband.com
SUMMARY:Pine Lake RV Resort (Campers Only) Acoustic Duo
DESCRIPTION:
URL:https://southernvoiceband.com/event/pine-lake-rv-resort-campers-only-acoustic-duo/
LOCATION:Pine Lake RV Resort\, 30 River Rd\, Sturbridge\, MA
END:VEVENT
BEGIN:VEVENT
DTSTART;TZID=America/New_York:20260320T153000
DTEND;TZID=America/New_York:20260320T180000
DTSTAMP:20260420T042352
CREATED:20260206T175105Z
LAST-MODIFIED:20260206T175105Z
UID:3681-1774020600-1774029600@southernvoiceband.com
SUMMARY:Private
DESCRIPTION:
URL:https://southernvoiceband.com/event/private-19/
END:VEVENT
BEGIN:VEVENT
DTSTART;TZID=America/New_York:20260321T190000
DTEND;TZID=America/New_York:20260321T220000
DTSTAMP:20260420T042352
CREATED:20251117T221323Z
LAST-MODIFIED:20251208T194022Z
UID:3664-1774119600-1774130400@southernvoiceband.com
SUMMARY:Breast Cancer Foundation Charity Event
DESCRIPTION:
URL:https://southernvoiceband.com/event/breast-cancer-foundation-charity-event/
LOCATION:Kinsmen Brewery\, 409 Canal St.\, Southington\, CT\, 06489\, United States
END:VEVENT
END:VCALENDAR